Workbook

Sheet Rate - Summary
A1: Ancillary Services, Schedule No. 2 -
A2: REACTIVE SUPPLY AND VOLTAGE CONTROL FROM
A3: GENERATION SOURCE SERVICES
A7: Line
A8: No.
A9: 1 | B9: BHP Schedule 2 Tariff:
A11: 2 | B11: "Not later than September 30 of each year, Transmission Provider shall determine the next
A12: 3 | B12: calendar year's projected Summed Reactive billing Loads. Such projected load shall serve as
A13: 4 | B13: the rate divisor for purposes of deriving charges to be billed for Schedule 2 service provided
A14: 5 | B14: during that calendar year. Consistent with the requirements of Attachment H and as part of
A15: 6 | B15: the annual rate determination process governed by Attachment H, by October 30 of each year,
A16: 7 | B16: Transmission Provider will hold a meeting, to which its customers and representatives of SDPUC
A17: 8 | B17: and WPSC will be invited, to identify the applicable Aggregate Annual Reactive Revenue
A18: 9 | B18: Requirement and to explain the projected aggregate Reactive Billing Load, the resulting
A19: 10 | B19: $/kW-month rate, and the resulting rates for weekly, daily, and hourly services."
A21: 11 | B21: 2020 Schedule 2 Rates - OASIS
A22: 12 | B22: Service | C22: Hourly ($/kW Hour) | E22: Daily ($/kW Day) | G22: Weekly ($/kW Week) | H22: Monthly ($/kW Month) | I22: Yearly ($/kW Year)
A23: 13 | C23: On-Peak | D23: Off-Peak | E23: On-Peak | F23: Off-Peak
A24: 14 | B24: BHP Charge | C24: =ROUND('Sch. 2 - BHP'!H31,5) -> 0.00035 | D24: =ROUND('Sch. 2 - BHP'!H30,5) -> 0.0002 | E24: =ROUND('Sch. 2 - BHP'!H28,4) -> 0.0056 | F24: =ROUND('Sch. 2 - BHP'!H27,4) -> 0.0047 | G24: =ROUND('Sch. 2 - BHP'!H25,4) -> 0.0333 | H24: =ROUND('Sch. 2 - BHP'!H23,4) -> 0.1445 | I24: =ROUND(+'Sch. 2 - BHP'!H21,4) -> 1.7337
A25: 15 | B25: Gillette Charge | C25: =ROUND('Sch. 2 - Gillette'!H31,5) -> 6e-05 | D25: =ROUND('Sch. 2 - Gillette'!H30,5) -> 4e-05 | E25: =ROUND('Sch. 2 - Gillette'!H28,4) -> 0.001 | F25: =ROUND('Sch. 2 - Gillette'!H27,4) -> 0.0008 | G25: =ROUND('Sch. 2 - Gillette'!H25,4) -> 0.006 | H25: =ROUND('Sch. 2 - Gillette'!H23,4) -> 0.0258 | I25: =ROUND(+'Sch. 2 - Gillette'!H21,4) -> 0.3095
A26: 16 | B26: CLFP Charge | C26: =ROUND('Sch. 2 - CLFP'!H31,5) -> 0.00013 | D26: =ROUND('Sch. 2 - CLFP'!H30,5) -> 7e-05 | E26: =ROUND('Sch. 2 - CLFP'!H28,4) -> 0.002 | F26: =ROUND('Sch. 2 - CLFP'!H27,4) -> 0.0017 | G26: =ROUND('Sch. 2 - CLFP'!H25,4) -> 0.0121 | H26: =ROUND('Sch. 2 - CLFP'!H23,4) -> 0.0523 | I26: =ROUND(+'Sch. 2 - CLFP'!H21,4) -> 0.6277
A27: 17 | B27: BHW Charge | C27: =ROUND('Sch. 2 - BHW'!H31,5) -> 5e-05 | D27: =ROUND('Sch. 2 - BHW'!H30,5) -> 3e-05 | E27: =ROUND('Sch. 2 - BHW'!H28,4) -> 0.0009 | F27: =ROUND('Sch. 2 - BHW'!H27,4) -> 0.0007 | G27: =ROUND('Sch. 2 - BHW'!H25,4) -> 0.0052 | H27: =ROUND('Sch. 2 - BHW'!H23,4) -> 0.0227 | I27: =ROUND(+'Sch. 2 - BHW'!H21,4) -> 0.2719
A28: 18 | B28: Basin Charge | C28: =ROUND('Sch. 2 - Basin'!H31,5) -> 0.00022 | D28: =ROUND('Sch. 2 - Basin'!H30,5) -> 0.00012 | E28: =ROUND('Sch. 2 - Basin'!H28,4) -> 0.0035 | F28: =ROUND('Sch. 2 - Basin'!H27,4) -> 0.003 | G28: =ROUND('Sch. 2 - Basin'!H25,4) -> 0.0208 | H28: =ROUND('Sch. 2 - Basin'!H23,4) -> 0.0901 | I28: =ROUND(+'Sch. 2 - Basin'!H21,4) -> 1.0806
A29: 19 | B29: WMPA Charge | C29: =ROUND('Sch. 2 - WMPA'!H31,5) -> 1e-05 | D29: =ROUND('Sch. 2 - WMPA'!H30,5) -> 1e-05 | E29: =ROUND('Sch. 2 - WMPA'!H28,4) -> 0.0002 | F29: =ROUND('Sch. 2 - WMPA'!H27,4) -> 0.0002 | G29: =ROUND('Sch. 2 - WMPA'!H25,4) -> 0.0013 | H29: =ROUND('Sch. 2 - WMPA'!H23,4) -> 0.0058 | I29: =ROUND(+'Sch. 2 - WMPA'!H21,4) -> 0.0697
A30: 20 | B30: Total Charge | C30: =SUM(C24:C29) -> 0.00082 | D30: =SUM(D24:D29) -> 0.00047 | E30: =SUM(E24:E29) -> 0.0132 | F30: =SUM(F24:F29) -> 0.0111 | G30: =SUM(G24:G29) -> 0.0787 | H30: =SUM(H24:H29) -> 0.3412 | I30: =SUM(I24:I29) -> 4.0931
A31: 21 | B31: 2020 Projected Load: | D31: ='CUS AC LOADS'!J24*1000 -> 957546.66

Sheet Sch. 2 - BHP
A1: Ancillary Services, Schedule No. 2 -
A2: REACTIVE SUPPLY AND VOLTAGE CONTROL FROM
A3: GENERATION SOURCE SERVICES
A8: Line
A9: No.
A10: 1 | B10: Black Hills Power Revenue Requirement | H10: 1660052 | I10: Settlement agreement January 14, 2011, paragraph 8
A11: =A10+1 -> 2 | B11: Gillette Revenue Requirement | H11: 296353 | I11: Application accepted by FERC September 3, 2015
A12: =A11+1 -> 3 | B12: Cheyenne Light Revenue Requirement | H12: 601062 | I12: CLFP FERC application dated May 22, 2009 (see Page 2)
A13: =A12+1 -> 4 | B13: Black Hills Wyoming Revenue Requirement | H13: 260384 | I13: BHW FERC application dated August 25, 2009 (see Page 3)
A14: 5 | B14: Basin Revenue Requirement | H14: 1034689 | I14: Application accepted by FERC July 29, 2013
A15: 6 | B15: WMPA Revenue Requirement | H15: 66747 | I15: Application accepted by FERC July 29, 2013
A17: 7 | B17: Total Revenue Requirement for Reactive Power | H17: =H10 -> 1660052 | I17: Black Hills Power
A19: =A17+1 -> 8 | B19: Common Use AC Facility Transmission Load (2020 Projected Load) | H19: ='CUS AC LOADS'!J24*1000 -> 957546.66 | I19: Common Use System AC Facilities Ln.17
A21: =A19+1 -> 9 | B21: Annual Reactive Power Charges | H21: =ROUND(H17/H19,4) -> 1.7337 | I21: $ per kW - Year (Ln 7/ Ln 8)
A23: =A21+1 -> 10 | H23: =ROUND(H21/12,4) -> 0.1445 | I23: $ per kW - Month (Ln 9 / 12)
A25: =A23+1 -> 11 | H25: =ROUND(H21/52,4) -> 0.0333 | I25: $ per kW - Week (Ln 9 / 52)
A27: =A25+1 -> 12 | H27: =ROUND(H21/365,4) -> 0.0047 | I27: $ per kW - day off peak (Ln 9 / 365) | J27: 365 days
A28: =A27+1 -> 13 | H28: =ROUND(H21/312,4) -> 0.0056 | I28: $ per kW - day on peak (Ln 9 / 312) | J28: 6 days * 16 hours * 52 weeks
A30: =A28+1 -> 14 | H30: =ROUND((H21/8760),5) -> 0.0002 | I30: $ per kW - hour off peak (Ln 9 / 8760)
A31: =A30+1 -> 15 | H31: =ROUND((H21/4992),5) -> 0.00035 | I31: $ per kW - hour on peak (Ln 9 / 4992) | J31: 4992 hours

Sheet Sch. 2 - Gillette
A1: Ancillary Services, Schedule No. 2 -
A2: REACTIVE SUPPLY AND VOLTAGE CONTROL FROM
A3: GENERATION SOURCE SERVICES
A8: Line
A9: No.
A10: 1 | B10: Black Hills Power Revenue Requirement | H10: 1660052 | I10: Settlement agreement January 14, 2011, paragraph 8
A11: 2 | B11: Gillette Revenue Requirement | H11: 296353 | I11: Application accepted by FERC September 3, 2015
A12: 3 | B12: Cheyenne Light Revenue Requirement | H12: 601062 | I12: CLFP FERC application dated May 22, 2009 (see Page 2)
A13: 4 | B13: Black Hills Wyoming Revenue Requirement | H13: 260384 | I13: BHW FERC application dated August 25, 2009 (see Page 3)
A14: 5 | B14: Basin Revenue Requirement | H14: 1034689 | I14: Application accepted by FERC July 29, 2013
A15: 6 | B15: WMPA Revenue Requirement | H15: 66747 | I15: Application accepted by FERC July 29, 2013
A17: =A15+1 -> 7 | B17: Total Revenue Requirement for Reactive Power | H17: =H11 -> 296353 | I17: Gillette
A19: =A17+1 -> 8 | B19: ='Sch. 2 - BHP'!B19 -> Common Use AC Facility Transmission Load (2020 Projected Load) | H19: ='CUS AC LOADS'!J24*1000 -> 957546.66 | I19: Common Use System AC Facilities Ln.17
A21: =A19+1 -> 9 | B21: Annual Reactive Power Charges | H21: =ROUND(H17/H19,4) -> 0.3095 | I21: $ per kW - Year (Ln 7/ Ln 8)
A23: =A21+1 -> 10 | H23: =ROUND(H21/12,4) -> 0.0258 | I23: $ per kW - Month (Ln 9 / 12)
A25: =A23+1 -> 11 | H25: =ROUND(H21/52,4) -> 0.006 | I25: $ per kW - Week (Ln 9 / 52)
A27: =A25+1 -> 12 | H27: =ROUND(H21/365,4) -> 0.0008 | I27: $ per kW - day off peak (Ln 9 / 365) | J27: 365 days
A28: =A27+1 -> 13 | H28: =ROUND(H21/312,4) -> 0.001 | I28: $ per kW - day on peak (Ln 9 / 312) | J28: 6 days * 16 hours * 52 weeks
A30: =A28+1 -> 14 | H30: =ROUND((H21/8760),5) -> 4e-05 | I30: $ per kW - hour off peak (Ln 9 / 8760)
A31: =A30+1 -> 15 | H31: =ROUND((H21/4992),5) -> 6e-05 | I31: $ per kW - hour on peak (Ln 9 / 4992) | J31: 4992 hours

Sheet Sch. 2 - CLFP
A1: Ancillary Services, Schedule No. 2 -
A2: REACTIVE SUPPLY AND VOLTAGE CONTROL FROM
A3: GENERATION SOURCE SERVICES
A8: Line
A9: No.
A10: 1 | B10: Black Hills Power Revenue Requirement | H10: 1660052 | I10: Settlement agreement January 14, 2011, paragraph 8
A11: 2 | B11: Gillette Revenue Requirement | H11: 296353 | I11: Application accepted by FERC September 3, 2015
A12: 3 | B12: Cheyenne Light Revenue Requirement | H12: 601062 | I12: CLFP FERC application dated May 22, 2009 (see Page 2)
A13: 4 | B13: Black Hills Wyoming Revenue Requirement | H13: 260384 | I13: BHW FERC application dated August 25, 2009 (see Page 3)
A14: 5 | B14: Basin Revenue Requirement | H14: 1034689 | I14: Application accepted by FERC July 29, 2013
A15: 6 | B15: WMPA Revenue Requirement | H15: 66747 | I15: Application accepted by FERC July 29, 2013
A17: 7 | B17: Total Revenue Requirement for Reactive Power | H17: =H12 -> 601062 | I17: Cheyenne Light
A19: 8 | B19: ='Sch. 2 - BHP'!B19 -> Common Use AC Facility Transmission Load (2020 Projected Load) | H19: ='CUS AC LOADS'!J24*1000 -> 957546.66 | I19: Common Use System AC Facilities Ln.17
A21: 9 | B21: Annual Reactive Power Charges | H21: =ROUND(H17/H19,4) -> 0.6277 | I21: $ per kW - Year (Ln 7/ Ln 8)
A23: 10 | H23: =ROUND(H21/12,4) -> 0.0523 | I23: $ per kW - Month (Ln 9 / 12)
A25: 11 | H25: =ROUND(H21/52,4) -> 0.0121 | I25: $ per kW - Week (Ln 9 / 52)
A27: 12 | H27: =ROUND(H21/365,4) -> 0.0017 | I27: $ per kW - day off peak (Ln 9 / 365) | J27: 365 days
A28: 13 | H28: =ROUND(H21/312,4) -> 0.002 | I28: $ per kW - day on peak (Ln 9 / 312) | J28: 6 days * 16 hours * 52 weeks
A30: 14 | H30: =ROUND((H21/8760),5) -> 7e-05 | I30: $ per kW - hour off peak (Ln 9 / 8760)
A31: 15 | H31: =ROUND((H21/4992),5) -> 0.00013 | I31: $ per kW - hour on peak (Ln 9 / 4992) | J31: 4992 hours

Sheet Sch. 2 - BHW
A1: Ancillary Services, Schedule No. 2 -
A2: REACTIVE SUPPLY AND VOLTAGE CONTROL FROM
A3: GENERATION SOURCE SERVICES
A8: Line
A9: No.
A10: 1 | B10: Black Hills Power Revenue Requirement | H10: 1660052 | I10: Settlement agreement January 14, 2011, paragraph 8
A11: 2 | B11: Gillette Revenue Requirement | H11: 296353 | I11: Application accepted by FERC September 3, 2015
A12: 3 | B12: Cheyenne Light Revenue Requirement | H12: 601062 | I12: CLFP FERC application dated May 22, 2009 (see Page 2)
A13: 4 | B13: Black Hills Wyoming Revenue Requirement | H13: 260384 | I13: BHW FERC application dated August 25, 2009 (see Page 3)
A14: 5 | B14: Basin Revenue Requirement | H14: 1034689 | I14: Application accepted by FERC July 29, 2013
A15: 6 | B15: WMPA Revenue Requirement | H15: 66747 | I15: Application accepted by FERC July 29, 2013
A17: 7 | B17: Total Revenue Requirement for Reactive Power | H17: =H13 -> 260384 | I17: Black Hills Wyoming
A19: 8 | B19: ='Sch. 2 - BHP'!B19 -> Common Use AC Facility Transmission Load (2020 Projected Load) | H19: ='CUS AC LOADS'!J24*1000 -> 957546.66 | I19: Common Use System AC Facilities Ln.17
A21: 9 | B21: Annual Reactive Power Charges | H21: =ROUND(H17/H19,4) -> 0.2719 | I21: $ per kW - Year (Ln 7/ Ln 8)
A23: 10 | H23: =ROUND(H21/12,4) -> 0.0227 | I23: $ per kW - Month (Ln 9 / 12)
A25: 11 | H25: =ROUND(H21/52,4) -> 0.0052 | I25: $ per kW - Week (Ln 9 / 52)
A27: 12 | H27: =ROUND(H21/365,4) -> 0.0007 | I27: $ per kW - day off peak (Ln 9 / 365) | J27: 365 days
A28: 13 | H28: =ROUND(H21/312,4) -> 0.0009 | I28: $ per kW - day on peak (Ln 9 / 312) | J28: 6 days * 16 hours * 52 weeks
A30: 14 | H30: =ROUND((H21/8760),5) -> 3e-05 | I30: $ per kW - hour off peak (Ln 9 / 8760)
A31: 15 | H31: =ROUND((H21/4992),5) -> 5e-05 | I31: $ per kW - hour on peak (Ln 9 / 4992) | J31: 4992 hours

Sheet Sch. 2 - Basin
A1: Ancillary Services, Schedule No. 2 -
A2: REACTIVE SUPPLY AND VOLTAGE CONTROL FROM
A3: GENERATION SOURCE SERVICES
A8: Line
A9: No.
A10: 1 | B10: Black Hills Power Revenue Requirement | H10: 1660052 | I10: Settlement agreement January 14, 2011, paragraph 8
A11: 2 | B11: Gillette Revenue Requirement | H11: 296353 | I11: Application accepted by FERC September 3, 2015
A12: 3 | B12: Cheyenne Light Revenue Requirement | H12: 601062 | I12: CLFP FERC application dated May 22, 2009 (see Page 2)
A13: 4 | B13: Black Hills Wyoming Revenue Requirement | H13: 260384 | I13: BHW FERC application dated August 25, 2009 (see Page 3)
A14: 5 | B14: Basin Revenue Requirement | H14: 1034689 | I14: Application accepted by FERC July 29, 2013
A15: 6 | B15: WMPA Revenue Requirement | H15: 66747 | I15: Application accepted by FERC July 29, 2013
A17: 7 | B17: Total Revenue Requirement for Reactive Power | H17: =H14 -> 1034689 | I17: Basin
A19: 8 | B19: ='Sch. 2 - BHP'!B19 -> Common Use AC Facility Transmission Load (2020 Projected Load) | H19: ='CUS AC LOADS'!J24*1000 -> 957546.66 | I19: Common Use System AC Facilities Ln.17
A21: 9 | B21: Annual Reactive Power Charges | H21: =ROUND(H17/H19,4) -> 1.0806 | I21: $ per kW - Year (Ln 7/ Ln 8)
A23: 10 | H23: =ROUND(H21/12,4) -> 0.0901 | I23: $ per kW - Month (Ln 9 / 12)
A25: 11 | H25: =ROUND(H21/52,4) -> 0.0208 | I25: $ per kW - Week (Ln 9 / 52)
A27: 12 | H27: =ROUND(H21/365,4) -> 0.003 | I27: $ per kW - day off peak (Ln 9 / 365) | J27: 365 days
A28: 13 | H28: =ROUND(H21/312,4) -> 0.0035 | I28: $ per kW - day on peak (Ln 9 / 312) | J28: 6 days * 16 hours * 52 weeks
A30: 14 | H30: =ROUND((H21/8760),5) -> 0.00012 | I30: $ per kW - hour off peak (Ln 9 / 8760)
A31: 15 | H31: =ROUND((H21/4992),5) -> 0.00022 | I31: $ per kW - hour on peak (Ln 9 / 4992) | J31: 4992 hours

Sheet Sch. 2 - WMPA
A1: Ancillary Services, Schedule No. 2 -
A2: REACTIVE SUPPLY AND VOLTAGE CONTROL FROM
A3: GENERATION SOURCE SERVICES
A8: Line
A9: No.
A10: 1 | B10: Black Hills Power Revenue Requirement | H10: 1660052 | I10: Settlement agreement January 14, 2011, paragraph 8
A11: 2 | B11: Gillette Revenue Requirement | H11: 296353 | I11: Application accepted by FERC September 3, 2015
A12: 3 | B12: Cheyenne Light Revenue Requirement | H12: 601062 | I12: CLFP FERC application dated May 22, 2009 (see Page 2)
A13: 4 | B13: Black Hills Wyoming Revenue Requirement | H13: 260384 | I13: BHW FERC application dated August 25, 2009 (see Page 3)
A14: 5 | B14: Basin Revenue Requirement | H14: 1034689 | I14: Application accepted by FERC July 29, 2013
A15: 6 | B15: WMPA Revenue Requirement | H15: 66747 | I15: Application accepted by FERC July 29, 2013
A17: 7 | B17: Total Revenue Requirement for Reactive Power | H17: =H15 -> 66747 | I17: WMPA
A19: 8 | B19: ='Sch. 2 - BHP'!B19 -> Common Use AC Facility Transmission Load (2020 Projected Load) | H19: ='CUS AC LOADS'!J24*1000 -> 957546.66 | I19: Common Use System AC Facilities Ln.17
A21: 9 | B21: Annual Reactive Power Charges | H21: =ROUND(H17/H19,4) -> 0.0697 | I21: $ per kW - Year (Ln 7/ Ln 8)
A23: 10 | H23: =ROUND(H21/12,4) -> 0.0058 | I23: $ per kW - Month (Ln 9 / 12)
A25: 11 | H25: =ROUND(H21/52,4) -> 0.0013 | I25: $ per kW - Week (Ln 9 / 52)
A27: 12 | H27: =ROUND(H21/365,4) -> 0.0002 | I27: $ per kW - day off peak (Ln 9 / 365) | J27: 365 days
A28: 13 | H28: =ROUND(H21/312,4) -> 0.0002 | I28: $ per kW - day on peak (Ln 9 / 312) | J28: 6 days * 16 hours * 52 weeks
A30: 14 | H30: =ROUND((H21/8760),5) -> 1e-05 | I30: $ per kW - hour off peak (Ln 9 / 8760)
A31: 15 | H31: =ROUND((H21/4992),5) -> 1e-05 | I31: $ per kW - hour on peak (Ln 9 / 4992) | J31: 4992 hours

Sheet Sch. 2 - Total
A1: Ancillary Services, Schedule No. 2 -
A2: REACTIVE SUPPLY AND VOLTAGE CONTROL FROM
A3: GENERATION SOURCE SERVICES
A8: Line
A9: No.
A10: 1 | B10: Black Hills Power Revenue Requirement | H10: 1660052 | I10: Settlement agreement January 14, 2011, paragraph 8
A11: 2 | B11: Gillette Revenue Requirement | H11: 296353 | I11: Application accepted by FERC September 3, 2015
A12: 3 | B12: Cheyenne Light Revenue Requirement | H12: 601062 | I12: CLFP FERC application dated May 22, 2009 (see Page 2)
A13: 4 | B13: Black Hills Wyoming Revenue Requirement | H13: 260384 | I13: BHW FERC application dated August 25, 2009 (see Page 3)
A14: 5 | B14: Basin Revenue Requirement | H14: 1034689 | I14: Application accepted by FERC July 29, 2013
A15: 6 | B15: WMPA Revenue Requirement | H15: 66747 | I15: Application accepted by FERC July 29, 2013
A17: 7 | B17: Total Revenue Requirement for Reactive Power | H17: =H10+H11+H12+H13+H14+H15 -> 3919287 | I17: Total
A19: 8 | B19: ='Sch. 2 - BHP'!B19 -> Common Use AC Facility Transmission Load (2020 Projected Load) | H19: ='CUS AC LOADS'!J24*1000 -> 957546.66 | I19: Common Use System AC Facilities Ln.17
A21: 9 | B21: Annual Reactive Power Charges | H21: =ROUND(H17/H19,4) -> 4.0931 | I21: $ per kW - Year (Ln 7/ Ln 8)
A23: 10 | H23: =ROUND(H21/12,4) -> 0.3411 | I23: $ per kW - Month (Ln 9 / 12)
A25: 11 | H25: =ROUND(H21/52,4) -> 0.0787 | I25: $ per kW - Week (Ln 9 / 52)
A27: 12 | H27: =ROUND(H21/365,4) -> 0.0112 | I27: $ per kW - day off peak (Ln 9 / 365) | J27: 365 days
A28: 13 | H28: =ROUND(H21/312,4) -> 0.0131 | I28: $ per kW - day on peak (Ln 9 / 312) | J28: 6 days * 16 hours * 52 weeks
A30: 14 | H30: =ROUND((H21/8760),5) -> 0.00047 | I30: $ per kW - hour off peak (Ln 9 / 8760)
A31: 15 | H31: =ROUND((H21/4992),5) -> 0.00082 | I31: $ per kW - hour on peak (Ln 9 / 4992) | J31: 4992 hours

Sheet CUS AC LOADS
A1: Common Use System AC Facilities
B3: Joint Tariff Rates
B4: Common Use AC Facilities
A6: Line | D6: 2020 Projected Load Data1
A7: No.
A8: 1 | D8: BHP | E8: BASIN | F8: SD | G8: CITY OF | H8: FIRM | I8: CHEYENNE | J8: TOTAL
A9: =A8+1 -> 2 | D9: TOTAL | E9: TOTAL | F9: WEST | G9: GILLETTE | H9: POINT TO POINT | I9: LIGHT CUS | J9: COMMON USE
A10: =A9+1 -> 3 | D10: LOAD | E10: LOAD | F10: LOAD | G10: LOAD | H10: LOAD | I10: LOAD | J10: AC LOAD
A11: =A10+1 -> 4 | B11: January | D11: 292 | E11: 343.1666 | F11: 2 | G11: 55.55 | H11: 255 | I11: 80 | J11: =SUM(D11:I11) -> 1027.7166
A12: =A11+1 -> 5 | B12: February | D12: 305 | E12: 320.3522 | F12: 3 | G12: 57.57 | H12: 255 | I12: 80 | J12: =SUM(D12:I12) -> 1020.9222
A13: =A12+1 -> 6 | B13: March | D13: 272 | E13: 317.5004 | F13: 2 | G13: 52.52 | H13: 255 | I13: 80 | J13: =SUM(D13:I13) -> 979.0204
A14: =A13+1 -> 7 | B14: April | D14: 234 | E14: 287.0812 | F14: 3 | G14: 42.42 | H14: 255 | I14: 80 | J14: =SUM(D14:I14) -> 901.5012
A15: =A14+1 -> 8 | B15: May | D15: 261 | E15: 229.0946 | F15: 3 | G15: 38.38 | H15: 255 | I15: 80 | J15: =SUM(D15:I15) -> 866.4746
A16: =A15+1 -> 9 | B16: June | D16: 325 | E16: 251.909 | F16: 3 | G16: 65 | H16: 252 | I16: 80 | J16: =SUM(D16:I16) -> 976.909
A17: =A16+1 -> 10 | B17: July | D17: 355 | E17: 237.65 | F17: 4 | G17: 76 | H17: 252 | I17: 80 | J17: =SUM(D17:I17) -> 1004.65
A18: =A17+1 -> 11 | B18: August | D18: 356 | E18: 251.52876 | F18: 4 | G18: 65 | H18: 252 | I18: 80 | J18: =SUM(D18:I18) -> 1008.5288
A19: =A18+1 -> 12 | B19: September | D19: 262 | E19: 254.32352 | F19: 3 | G19: 59 | H19: 252 | I19: 80 | J19: =SUM(D19:I19) -> 910.32352
A20: =A19+1 -> 13 | B20: October | D20: 249 | E20: 242.21288 | F20: 3 | G20: 40 | H20: 252 | I20: 80 | J20: =SUM(D20:I20) -> 866.21288
A21: =A20+1 -> 14 | B21: November | D21: 223 | E21: 298.10816 | F21: 2 | G21: 42 | H21: 252 | I21: 80 | J21: =SUM(D21:I21) -> 897.10816
A22: =A21+1 -> 15 | B22: December | D22: 318 | E22: 324.19262 | F22: 2 | G22: 55 | H22: 252 | I22: 80 | J22: =SUM(D22:I22) -> 1031.1926
A23: =A22+1 -> 16
A24: =A23+1 -> 17 | B24: ANNUAL AVERAGE MW | D24: =SUM(D11:D22)/12 -> 287.66667 | E24: =SUM(E11:E22)/12 -> 279.76 | F24: =SUM(F11:F22)/12 -> 2.8333333 | G24: =SUM(G11:G22)/12 -> 54.036667 | H24: =SUM(H11:H22)/12 -> 253.25 | I24: =SUM(I11:I22)/12 -> 80 | J24: =SUM(J11:J22)/12 -> 957.54666
A25: =A24+1 -> 18
A26: =A25+1 -> 19 | B26: 1 - Transmission actual load from OATI
A27: =A26+1 -> 20 | B27: 2 - Transmission projected load from Transmission Planning
