Workbook

Sheet Cost of Service References
A1: Black Hills Power, Inc.
A2: Cost of Service Formula Reference Changes
D5: Per Tariff and As Filed | F5: Updated Reference (Note 3)
C6: (1) | D6: (2) | F6: (2)
D7: Form No. 1 | F7: Form No. 1
A8: Line | D8: Page, Line, Col. | F8: Page, Line, Col.
A9: No. | C9: RATE BASE:
C11: GROSS PLANT IN SERVICE | D11: (Note H) | F11: (Note H)
A12: 1 | C12: Production | D12: 205.46.g | F12: 204-207.46.g See Workpaper 6. line 1, (m)
A13: =+A12+1 -> 2 | C13: Transmission | D13: 207.58.g | F13: 204-207.58.g See Workpaper 6. line 2, (m)
A14: =+A13+1 -> 3 | C14: Distribution | D14: 207.75.g | F14: 204-207.75.g See Workpaper 6. line 3, (m)
A15: =+A14+1 -> 4 | C15: General & Intangible | D15: See Workpaper 4 | F15: BHP-Workpaper 9, line 14, (e)
A16: =+A15+1 -> 5 | C16: Allocated Plant | D16: See Workpaper 5 | F16: BHP-Workpaper 6, line 5, (m)
A17: =+A16+1 -> 6 | C17: Communication System | D17: See Workpaper 4 | F17: BHP-Workpaper 6, line 6, (m)
A18: =+A17+1 -> 7 | C18: Common | D18: 356.1 | F18: Workpaper 6, line 7, (m)
A19: =+A18+1 -> 8 | C19: TOTAL GROSS PLANT | D19: (sum lines 1 - 7) | F19: (sum lines 1 - 7)
A20: =+A19+1 -> 9
A21: =+A20+1 -> 10 | C21: ACCUMULATED DEPRECIATION | D21: (Note H) | F21: (Note H)
A22: =+A21+1 -> 11 | C22: Production | D22: 219.20-24.c | F22: BHP-Workpaper 6, line 11, (n)
A23: =+A22+1 -> 12 | C23: Transmission | D23: 219.25.c | F23: BHP-Workpaper 6, line 12, (n)
A24: =+A23+1 -> 13 | C24: Distribution | D24: 219.26.c | F24: BHP-Workpaper 6, line 13, (n)
A25: =+A24+1 -> 14 | C25: General & Intangible | D25: 219.28.c | F25: BHP-Workpaper 6, line 14, (n)
A26: =+A25+1 -> 15 | C26: Allocated Plant | D26: See Workpaper 5 | F26: BHP-Workpaper 6, line 15, (n)
A27: =+A26+1 -> 16 | C27: Communication System | D27: See Workpaper 4 | F27: BHP-Workpaper 6, line 16, (n)
A28: =+A27+1 -> 17 | C28: Common | D28: 356.1 | F28: BHP-Workpaper 6, line 17, (n)
A29: =+A28+1 -> 18 | C29: TOTAL ACCUM. DEPRECIATION | D29: (sum lines 11 - 17) | F29: (sum lines 11 - 17)
A30: =+A29+1 -> 19
A31: =+A30+1 -> 20 | C31: NET PLANT IN SERVICE | D31: (Note H) | F31: (Note H)
A32: =+A31+1 -> 21 | C32: Production | D32: (line 1 - line 11) | F32: (line 1 - line 11)
A33: =+A32+1 -> 22 | C33: Transmission | D33: (line 2 - line 12) | F33: (line 2 - line 12)
A34: =+A33+1 -> 23 | C34: Distribution | D34: (line 3 - line 13) | F34: (line 3 - line 13)
A35: =+A34+1 -> 24 | C35: General & Intangible | D35: (line 4 - line 14) | F35: (line 4 - line 14)
A36: =+A35+1 -> 25 | C36: Allocated Plant | D36: (line 5 - line 15) | F36: (line 5 - line 15)
A37: =+A36+1 -> 26 | C37: Communication System | D37: (line 6 - line 16) | F37: (line 6 - line 16)
A38: =+A37+1 -> 27 | C38: Common | D38: (line 7 - line 17) | F38: (line 7 - line 17)
A39: =+A38+1 -> 28 | C39: TOTAL NET PLANT | D39: (sum lines 21 - 27) | F39: (sum lines 21 - 27)
A40: =+A39+1 -> 29
A41: =+A40+1 -> 30 | C41: ADJUSTMENTS TO RATE BASE | D41: (Notes A & H) | F41: (Notes A & H)
A42: =+A41+1 -> 31 | C42: Account No. 281 (enter negative) | D42: 273.8.k | F42: BHP-Workpaper 6, line 31, ( c)
A43: =+A42+1 -> 32 | C43: Account No. 282 (enter negative) | D43: 275.2.k | F43: BHP-Workpaper 12, line 5, ( e)
...

Sheet Capital True up References
A2: Capital True Up
A3: Line | E3: Per Tariff
A4: No.
A5: 1 | B5: The True-Up Adjustment component of the Formula Rate for each Rate Year beginning with rates effective January 1, 2010 shall be determined as follows:
A6: 2
A7: 3 | B7: (i) | D7: Beginning with 2009, no later than June 1 of each year, Black Hills Power shall recalculate an adjusted Annual
A8: 4 | E8: Transmission Revenue Requirement (ATRR) for the previous calendar year based on its actual costs as reflected
A9: 5 | E9: in its Form No. 1 and its books and records for that calendar year, consistent with FERC
A10: 6 | E10: accounting policies.
A11: 7
A12: 8 | B12: (ii) | D12: Black Hills Power shall determine the difference between the recalculated ATRR as determined in paragraph (i)
A13: 9 | E13: above, and ATRR based on projected costs for the previous calendar year (True-Up Adj before Interest).
A14: 10
A15: 11 | B15: (iii) | D15: The True-Up Adjustment shall be determined as follows:
A16: 12
A17: 13 | D17: True-Up Adjustment equals the True-Up Adjustment before Interest multiplied by (1+i)^18 months.
A18: 14
A19: 15 | D19: Where: | F19: i = | G19: Sum of (the monthly rates for the 4 months ending April 30 of the current year and
A20: 16 | H20: the monthly rates for the 12 months ending December 31 of the preceding year)
A21: 17 | H21: divided by 16 months.
A22: 18
A23: 19 | B23: Summary of Formula Rate Process including True-Up Adjustment (Using 2009 as an example)
A24: 20
A25: 21 | E25: Month | F25: Year | G25: Action
A26: 22 | B26: True-Up Calculation:
A27: 23 | C27: Step 1 | E27: May | F27: 2010 | G27: TO populates the formula with 2009 Actual data and calculates the 2009 True-up Adjustment before Interest
A28: 24 | C28: Step 2 | E28: May | F28: 2010 | G28: TO compares the revenue received during 2009 to the True-Up calculation done above
A29: 25 | C29: Step 3 | E29: May | F29: 2010 | G29: TO calculates the Interest to include in the 2009 True-Up Adjustment
A30: 26 | C30: Step 4 | E30: July | F30: 2010 | G30: TO either collects or pays the lump-sum adjustment calculated above
A31: 27
A32: 28 | B32: Annual Rate Calculation:
A33: 29 | C33: Step 5 | E33: September | F33: 2010 | G33: TO populates the formula with 2009 Actual data plus known additions placed in service (over $1,000,000) for 2010 (See WP 2 for an example)
A34: 30 | C34: Step 6 | E34: September | F34: 2010 | G34: TO estimates transmission Capital Additions (over $1,000,000) for 2011 expected to be in service in 2011 (See WP 3 for an example)
A35: 31 | C35: Step 7 | E35: September | F35: 2010 | G35: TO adds weighted Capital Adds, Accumulated Depreciation and Depreciation Expense to plant in service in Formula
A36: 32 | C36: Step 8 | E36: September | F36: 2010 | G36: Post results of Step 7 on web site
A37: 33 | C37: Step 9 | E37: October | F37: 2010 | G37: TO to hold an open meeting for it's customers and representatives to explain the formula rate projections and cost details
A38: 34 | C38: Step 10 | E38: January | F38: 2011 | G38: Results of Step 7 go into effect
A39: 35
A40: 36 | E40: Note 1: | F40: To the extent possible each input into the Formula Rate used to calculate the actual ATRR included in the True-Up
A41: 37 | F41: Adjustment either will be taken directly from the FERC Form No. 1 or will be reconcilable to the FERC Form No. 1
...

Sheet BHP WP1 A&G
C3: Service Year | D3: 2021
A4: Workpaper 1
A5: Administrative and General Expenses
A6: Black Hills Power, Inc.
A8: Line | C8: Form No. 1
A9: No. | C9: Page, Line, Col. | D9: Company Total
A10: 1 | B10: EPRI Annual Membership Dues | C10: 335.1.b | D10: 131779
A11: 2 | B11: Regulatory Commission Expenses | C11: 323.189.b - 350.1.h | D11: 902300
A12: 3 | B12: Account No. 930.1 | C12: 323.191.b | D12: 566916
A13: 4 | B13: Less: Safety Related Advertising | C13: Company Records1 | D13: -445.86
A14: 5 | B14: EPRI & Reg. Comm. Exp. & Non-safety Ad. (Note I) | D14: =SUM(D10:D13) -> 1600549.1
A15: 6
A16: 7
A17: 8 | B17: Transmission Related Regulatory Expense
A18: 9
A19: 10 | B19: Reserved for future use in the event of a rate case
A20: 11
A21: 12
A22: 13
A23: 14 | B23: Total | D23: =SUM(D19:D22) -> 0
A24: 15
A25: 16 | B25: Transmission Related Regulatory Expense (Note I) | D25: =+D23/3 -> 0
A26: 17
A27: 18
A28: 19 | B28: Actual PBOP expense
A29: 20 | B29: Account No. 920 | C29: Company Records2 | D29: 0
A30: 21 | B30: Account No. 926 | C30: Company Records2 | D30: 214266.84
A31: 22 | B31: Actual PBOP expense | D31: =SUM(D29:D30) -> 214266.84
A32: 23
A33: 24 | B33: Notes:
A34: 25 | B34: 1 - For FERC account no. 930.1, the Company reviews all entries and identifies those that
A35: 26 | B35: are safety related advertising.
A36: 27 | B36: 2 - For FERC account nos. 920 and 926, the Company reviews all entries and identifies the
A37: 28 | B37: PBOP expenses to be removed from A&G.
G118: TP | H118: =+J187 -> 0
H119: =+H118 -> 0

Sheet BHP WP4 Transmission Assets
F3: Service Year | G3: =+'BHP WP1 A&G'!D3 -> 2021
A4: Workpaper 4
A5: Transmission Assets as of 12/31/2021
A6: Black Hills Power, Inc.
A8: Line
A9: No. | E9: (a) | G9: (b)
G10: Actual
B11: Account | C11: Description | E11: Actual Cost | G11: Accum Depr.
A12: 1 | B12: 354 | C12: 230KV Towers and Fixtures | E12: 485220.63
A13: 2 | B13: 355 | C13: 230KV Poles and Fixtures | E13: 90200232
A14: 3 | B14: 356 | C14: 230KV Overhead Conductors | E14: 72814352
A15: 4 | B15: 359 | C15: Road/Trails | E15: 6920.28
A16: 5 | C16: Subtotal | E16: =SUM(E12:E15) -> 1.6350672e+08 | G16: 24447424
A17: 6
A18: 7 | B18: 353 | C18: 230 KV Substation Equipment | E18: 36442603 | G18: 11822917
A19: 9 | B19: 352 | C19: 230 KV Substation Structures | E19: 820463.14 | G19: 488004.94
A20: 10 | C20: Total 230KV | E20: =SUM(E16:E19) -> 2.0076979e+08 | G20: =SUM(G16:G19) -> 36758346
A21: 11
A22: 12 | B22: 350 | C22: 230 KV Lines | E22: 9443523.2
A23: 13 | B23: 350 | C23: 230 KV Substations | E23: 294903.68
A24: 14
A25: 15 | C25: TOTAL 230 KV | E25: =E20+E22+E23 -> 2.1050822e+08 | G25: =G20+G22+G23 -> 36758346
A26: 16
A27: 17 | B27: 352 | C27: 69KV Common Use AC Facilities | E27: 85524.481
A28: 18 | B28: 353 | C28: 69KV Common Use AC Facilities | E28: 1007121.6
A29: 19 | B29: 355 | C29: 69KV Common Use AC Facilities | E29: 257365.58
A30: 20 | B30: 356 | C30: 69KV Common Use AC Facilities | E30: 207251.6
A31: 21 | C31: Subtotal for 69KV Lines | E31: =SUM(E27:E30) -> 1557263.2 | G31: 532142.69
A32: 22
A33: 23 | B33: Total Transmission Classification | E33: =+E31+E25 -> 2.1206548e+08 | G33: =+G31+G25 -> 37290489
A34: 24
A35: 25 | B35: Total Transmission per FERC Form 1 (207.58.g) (219.25.b) | E35: 2.548726e+08 | G35: 46518661
A36: 26
A37: 27 | C37: Amount excluded from the CUS | E37: 42807120 | G37: 9228172.5
A38: 28
A39: 29 | B39: 362 | C39: 69KV Common Use AC Facilities | E39: 6579555 | G39: 2888018.8
A40: 30 | B40: 362 | C40: 230/69KV Common Use AC Transformers | E40: 4496782.2 | G40: 1377133.2
A41: 31
A42: 32 | B42: Total 69KV Common Use AC Facilities | E42: =SUM(E39:E41) -> 11076337 | G42: 4265151.9
A43: 33
...

Sheet BHP WP9 Accum Depr
A3: WORKPAPER 9
A4: General Plant Accumulated Depreciation by Plant Account
A5: Black Hills Power, Inc.
O6: (f)6
C7: (a) | E7: (b)₁ | G7: (c)₂ | I7: (d)3 | K7: (e)4 | M7: (e)5 | O7: (b) + (c) + (d) - (e)
A8: Line | E8: General Plant | G8: Communication | K8: Right of Use Asset | M8: Depreciation | O8: Total General and
A9: No. | C9: Date | E9: Electric | G9: System | I9: Horizon Point | K9: Amortiztion | M9: Adjustment | O9: Intangible Plant
B10: Account No. 180
A11: 1 | C11: 44166 | E11: 29306964 | G11: 4900885.2 | I11: 7812925.4 | K11: 2471920 | M11: ='BHP WP13 Accumulated Reserve '!T29+'BHP WP13 Accumulated Reserve '!U29 -> 10902119 | O11: =E11+G11+I11-M11+K11 -> 33590575
A12: =A11+1 -> 2 | C12: 44197 | E12: 27100232 | G12: 4946114.3 | I12: 8043570.7 | K12: 2494895 | M12: ='BHP WP13 Accumulated Reserve '!T30+'BHP WP13 Accumulated Reserve '!U30 -> 11011066 | O12: =E12+G12+I12-M12+K12 -> 31573746
A13: =A12+1 -> 3 | C13: 44228 | E13: 27359640 | G13: 4991343.5 | I13: 8287866.6 | K13: 2521912 | M13: ='BHP WP13 Accumulated Reserve '!T31+'BHP WP13 Accumulated Reserve '!U31 -> 11120289 | O13: =E13+G13+I13-M13+K13 -> 32040474
A14: =A13+1 -> 4 | C14: 44256 | E14: 27228716 | G14: 5036580.5 | I14: 8517844.2 | K14: 2548769 | M14: ='BHP WP13 Accumulated Reserve '!T32+'BHP WP13 Accumulated Reserve '!U32 -> 11230664 | O14: =E14+G14+I14-M14+K14 -> 32101245
A15: =A14+1 -> 5 | C15: 44287 | E15: 27443160 | G15: 5039008.7 | I15: 8752018.8 | K15: 2575949 | M15: ='BHP WP13 Accumulated Reserve '!T33+'BHP WP13 Accumulated Reserve '!U33 -> 11341389 | O15: =E15+G15+I15-M15+K15 -> 32468748
A16: =A15+1 -> 6 | C16: 44317 | E16: 27099820 | G16: 5084024.9 | I16: 9052799.1 | K16: 2601778 | M16: ='BHP WP13 Accumulated Reserve '!T34+'BHP WP13 Accumulated Reserve '!U34 -> 11451433 | O16: =E16+G16+I16-M16+K16 -> 32386989
A17: =A16+1 -> 7 | C17: 44348 | E17: 27147615 | G17: 5126862.5 | I17: 9283029.1 | K17: 2629122 | M17: ='BHP WP13 Accumulated Reserve '!T35+'BHP WP13 Accumulated Reserve '!U35 -> 11561844 | O17: =E17+G17+I17-M17+K17 -> 32624785
A18: =A17+1 -> 8 | C18: 44378 | E18: 27410511 | G18: 5170066.9 | I18: 9513047.2 | K18: 2655048 | M18: ='BHP WP13 Accumulated Reserve '!T36+'BHP WP13 Accumulated Reserve '!U36 -> 11672048 | O18: =E18+G18+I18-M18+K18 -> 33076625
A19: =A18+1 -> 9 | C19: 44409 | E19: 27652173 | G19: 5215021.5 | I19: 9742486.9 | K19: 2681056 | M19: ='BHP WP13 Accumulated Reserve '!T37+'BHP WP13 Accumulated Reserve '!U37 -> 11782342 | O19: =E19+G19+I19-M19+K19 -> 33508395
A20: =A19+1 -> 10 | C20: 44440 | E20: 26610588 | G20: 4289804.9 | I20: 9971761 | K20: 2706475 | M20: ='BHP WP13 Accumulated Reserve '!T38+'BHP WP13 Accumulated Reserve '!U38 -> 11889984 | O20: =E20+G20+I20-M20+K20 -> 31688645
A21: =A20+1 -> 11 | C21: 44470 | E21: 26839722 | G21: 4333834.6 | I21: 10185177 | K21: 2708922 | M21: ='BHP WP13 Accumulated Reserve '!T39+'BHP WP13 Accumulated Reserve '!U39 -> 12000254 | O21: =E21+G21+I21-M21+K21 -> 32067401
A22: =A21+1 -> 12 | C22: 44501 | E22: 27026273 | G22: 4376820 | I22: 10413238 | K22: 2735179 | M22: ='BHP WP13 Accumulated Reserve '!T40+'BHP WP13 Accumulated Reserve '!U40 -> 12109463 | O22: =E22+G22+I22-M22+K22 -> 32442046
A23: =A22+1 -> 13 | C23: 44531 | E23: 27243496 | G23: 4419430.1 | I23: 10644025 | K23: 2761520 | M23: ='BHP WP13 Accumulated Reserve '!T41+'BHP WP13 Accumulated Reserve '!U41 -> 12218199 | O23: =E23+G23+I23-M23+K23 -> 32850272
A24: =A23+1 -> 14 | C24: 13 month average | E24: =AVERAGE(E11:E23) -> 27343762 | G24: =AVERAGE(G11:G23) -> 4840753.6 | I24: =AVERAGE(I11:I23) -> 9247676.1 | O24: =AVERAGE(O11:O23) -> 32493842
A25: =A24+1 -> 15
A26: =A25+1 -> 16 | B26: 1 - General Plant Electric - Plant Accounts 389,390,391,392,393,394
A27: =A26+1 -> 17 | B27: 2 - Communication System - Plant Accounts 397
A28: =A27+1 -> 18 | B28: 3 - Horizon Point Building - From Company Records
A29: =A28+1 -> 19 | B29: 4 - Leased Asset from company records
A30: =A29+1 -> 20 | B30: 5 - Depreciation adjustment from WP13
A31: =A29+1 -> 20 | B31: 6 - Total General Intangible Plant - FERC Form 1 219.28c

Sheet BHP WP10 Plant in Service
A3: WORKPAPER 10
A4: General Plant Plant In Service by Plant Account
A5: Black Hills Power, Inc.
M6: (f)5
C7: (a) | E7: (b)₁ | G7: (c)₂ | I7: (d)3 | K7: (e)4 | M7: (b) + (c)
A8: Line | E8: General Plant | G8: Communication | K8: Right of Use | M8: Total General and
A9: No. | C9: Date | E9: Electric | G9: System | I9: Horizon Point | K9: Asset | M9: Intangible Plant
B10: Account No. 180
A11: 1 | C11: 44166 | E11: 60489132 | G11: 7278054.5 | I11: 75529745 | K11: 16576394 | M11: =E11+G11+K11+I11 -> 1.5987333e+08
A12: =A11+1 -> 2 | C12: 44197 | E12: 61170319 | G12: 7278065.8 | I12: 75529745 | K12: 16576394 | M12: =E12+G12+K12+I12 -> 1.6055452e+08
A13: =A12+1 -> 3 | C13: 44228 | E13: 61343157 | G13: 7278065.8 | I13: 75529745 | K13: 16576394 | M13: =E13+G13+K13+I13 -> 1.6072736e+08
A14: =A13+1 -> 4 | C14: 44256 | E14: 62065673 | G14: 7280146.6 | I14: 75489461 | K14: 16576856 | M14: =E14+G14+K14+I14 -> 1.6141214e+08
A15: =A14+1 -> 5 | C15: 44287 | E15: 62321313 | G15: 7243998.7 | I15: 75510667 | K15: 16576856 | M15: =E15+G15+K15+I15 -> 1.6165283e+08
A16: =A15+1 -> 6 | C16: 44317 | E16: 61893661 | G16: 7244011.6 | I16: 75492698 | K16: 16576856 | M16: =E16+G16+K16+I16 -> 1.6120723e+08
A17: =A16+1 -> 7 | C17: 44348 | E17: 62126069 | G17: 7241852 | I17: 75492698 | K17: 16576856 | M17: =E17+G17+K17+I17 -> 1.6143748e+08
A18: =A17+1 -> 8 | C18: 44378 | E18: 62002139 | G18: 7236390.1 | I18: 75492698 | K18: 16576856 | M18: =E18+G18+K18+I18 -> 1.6130808e+08
A19: =A18+1 -> 9 | C19: 44409 | E19: 62058297 | G19: 7236507.2 | I19: 75492698 | K19: 16576856 | M19: =E19+G19+K19+I19 -> 1.6136436e+08
A20: =A19+1 -> 10 | C20: 44440 | E20: 60792661 | G20: 6835477.1 | I20: 75492698 | K20: 16576737 | M20: =E20+G20+K20+I20 -> 1.5969757e+08
A21: =A20+1 -> 11 | C21: 44470 | E21: 62235228 | G21: 7044722.7 | I21: 75492698 | K21: 16553459 | M21: =E21+G21+K21+I21 -> 1.6132611e+08
A22: =A21+1 -> 12 | C22: 44501 | E22: 61753641 | G22: 6859094.9 | I22: 75524172 | K22: 16553459 | M22: =E22+G22+K22+I22 -> 1.6069037e+08
A23: =A22+1 -> 13 | C23: 44531 | E23: 61453596 | G23: 6862228.2 | I23: 75546229 | K23: 16553459 | M23: =E23+G23+K23+I23 -> 1.6041551e+08
A24: =A23+1 -> 14 | C24: 13 month average | E24: =AVERAGE(E11:E23) -> 61669607 | G24: =AVERAGE(G11:G23) -> 7147585.8 | I24: =AVERAGE(I11:I23) -> 75508920 | K24: =AVERAGE(K11:K23) -> 16571341 | M24: =AVERAGE(M11:M23) -> 1.6089745e+08
A25: =A24+1 -> 15
A26: =A25+1 -> 16 | B26: 1 - General Plant Electric - Plant Accounts 389,390,391,392,393,394
A27: =A26+1 -> 17 | B27: 2 - Communication System - Plant Accounts 397
A28: =A27+1 -> 18 | B28: 3 - Horizon Point Building - From Company Records
B29: 4 - Other Tangible Property - FERC Form 1 207.97.g
B30: 5 - Total General Intangible Plant - FERC Form 1 207.99

Sheet BHP WP11 Property Tax Expense
A3: WORKPAPER 11
A4: Property Tax Adjustment for Horizon Point
A5: Black Hills Power, Inc.
C7: (a) | E7: (b) | G7: ( c)
A8: Line
A9: No. | C9: Description | E9: Reference | G9: Amount
A11: =1+A10 -> 1 | C11: Property Tax Expense Total | E11: 262-263.11l | G11: 9149366
A12: =1+A11 -> 2
A13: =1+A12 -> 3 | C13: Less: Horizon Point Op Unit 801117 (enter negative) | E13: Company Records | G13: -593444
A14: =1+A13 -> 4
A15: =1+A14 -> 5 | C15: Property Tax Expense less Horizon Point | E15: Sum Lines 1 to 5 | G15: =SUM(G11:G14) -> 8555922
A16: =1+A15 -> 6

Sheet BHP WP12 ADIT
A3: WORKPAPER 12
A4: ADIT Adjustment for Horizon Point
A5: Black Hills Power, Inc.
F6: 2020 | G6: 2021
B7: (a) | D7: (b) | F7: ( c) | G7: (d) | H7: (e)
A8: Line
A9: No. | B9: Description | D9: Reference | F9: Beginning Balance | G9: Ending Balance | H9: Average Balance
A11: =1+A10 -> 1 | B11: Account No. 282 (enter negative) | D11: 112-113.63.d,c | F11: -135042654 | G11: -138786389 | H11: =SUM(F11:G11)/2 -> -1.3691452e+08
A12: =1+A11 -> 2 | B12: Less:
A13: =1+A12 -> 3 | B13: Horizon Point | D13: SC Calc | F13: -2900894 | G13: -2569492 | H13: =SUM(F13:G13)/2 -> -2735193
A14: =1+A13 -> 4 | B14: Depreciation Expense Correction | D14: BHP WP 13 | F14: =-'BHP WP13 Accumulated Reserve '!X29 -> 2653063.6 | G14: =-'BHP WP13 Accumulated Reserve '!X41 -> 2960751.6 | H14: =SUM(F14:G14)/2 -> 2806907.6
A15: =1+A14 -> 5 | B15: Net Account No. 282 | D15: Line 1 - Line 3 - Line 4 | F15: =F11-F13-F14 -> -1.3479482e+08 | G15: =G11-G13-G14 -> -1.3917765e+08 | H15: =H11-H13-H14 -> -1.3698624e+08
A16: =1+A15 -> 6
A17: =1+A16 -> 7
A18: =1+A17 -> 8 | B18: FAS 109 Adjustment
A19: =1+A18 -> 9 | B19: AFUDC FAS 109 | D19: 232.1.b,f | F19: 4649702 | G19: 4437843 | H19: =SUM(F19:G19)/2 -> 4543772.5
A20: =1+A19 -> 10 | B20: Tax Rate | F20: 0.21 | G20: 0.21
A21: =1+A20 -> 11 | F21: =F19*F20 -> 976437.42 | G21: =G19*G20 -> 931947.03 | H21: =SUM(F21:G21)/2 -> 954192.22
A22: =1+A21 -> 12 | D22: 278.2.b,f | F22: -95109064 | G22: -93487982 | H22: =SUM(F22:G22)/2 -> -94298523
A23: =1+A22 -> 13 | B23: Horizon Point | D23: Company Records | F23: -2068943.7 | G23: -882597 | H23: =SUM(F23:G23)/2 -> -1475770.3
A24: =1+A23 -> 14 | B24: Depreciation Expense Correction | D24: BHP WP 13 | F24: =+'BHP WP13 Accumulated Reserve '!Y19 -> -1280224.4 | G24: =+'BHP WP13 Accumulated Reserve '!Y41 -> -1280224.4 | H24: =SUM(F24:G24)/2 -> -1280224.4
A25: =1+A24 -> 15 | B25: Net Account No. 282 | D25: Line 11 + Line 12 - Line 13 | F25: =SUM(F21:F22)-F23+F24 -> -93343907 | G25: =SUM(G21:G22)-G23+G24 -> -92953662 | H25: =SUM(H21:H22)-H23+H24 -> -93148785

Sheet BHP WP13 Accumulated Reserve 
B1: Plant in Service Balance | E1: Depr Rate (FERC) | H1: Depr Expense (FERC) | K1: Depr Rate (Book) | N1: Depr Expense (Book) | Q1: Variance | T1: Accumulated Depreciation Variance | Z1: Allocators
A2: Month | B2: General & Intangible | C2: Communication System | D2: Transmission | E2: General & Intangible | F2: Communication System | G2: Transmission | H2: General & Intangible | I2: Communication System | J2: Transmission | K2: General & Intangible | L2: Communication System | M2: Transmission | N2: General & Intangible | O2: Communication System | P2: Transmission | Q2: General & Intangible | R2: Communication System | S2: Transmission | T2: General & Intangible | U2: Communication System | V2: Transmission | W2: FIT Rate | X2: ADIT Impact | Y2: EDFIT Impact | Z2: W/S | AA2: T&D | AB2: TPA | AC2: NP | AD2: Total Rate Base Impact | AE2: Return on Rate Base | AF2: Weighted LT Debt | AG2: Tax Factor | AH2: Return | AI2: Taxes | AJ2: Revenue Requirement
A5: 43435 | B5: 42832155 | C5: 7921110.1 | D5: 2.0815566e+08 | E5: 0.0653 | F5: 0.0653 | G5: 0.0232 | H5: 233078.31 | I5: 43104.041 | J5: 402434.28 | K5: 0.0462 | L5: 0.0462 | M5: 0.0226 | N5: 164903.8 | O5: 30496.274 | P5: 392026.5 | Q5: 68174.514 | R5: 12607.767 | S5: 10407.783 | T5: 7294155.8 | U5: 1399953 | V5: 1459988.8 | W5: 0.21 | X5: -2132360.5 | Y5: -1280224.4 | Z5: 0.1290793 | AA5: 0.3274551 | AB5: 0.817934 | AC5: 0.16605693 | AD5: 1923346.5 | AE5: 0.087575585 | AF5: 0.026015585 | AG5: 0.18685631 | AH5: 168438.2 | AI5: 31473.74 | AJ5: 179545.69
A6: 43466 | B6: 44215218 | C6: 7091434.4 | D6: 2.0879231e+08 | E6: 0.0653 | F6: 0.0653 | G6: 0.0232 | H6: =E6*B6/12 -> 240604.48 | I6: =F6*C6/12 -> 38589.222 | J6: =G6*D6/12 -> 403665.13 | K6: 0.0462 | L6: 0.0462 | M6: 0.0226 | N6: =K6*B6/12 -> 170228.59 | O6: =L6*C6/12 -> 27302.022 | P6: =M6*D6/12 -> 393225.52 | Q6: =H6-N6 -> 70375.889 | R6: =I6-O6 -> 11287.2 | S6: =J6-P6 -> 10439.616 | T6: =T5+Q6 -> 7364531.6 | U6: =U5+R6 -> 1411240.2 | V6: =V5+S6 -> 1470428.4 | W6: 0.21 | X6: =SUM(T6:V6)*-W6 -> -2151702.1 | Y6: =Y5 -> -1280224.4 | Z6: 0.1290793 | AA6: 0.3274551 | AB6: 0.817934 | AC6: 0.16605693 | AD6: 1940379.2 | AE6: 0.087575585 | AF6: 0.026015585 | AG6: =(W6/(1-W6))*(1-AF6/AE6) -> 0.18685631 | AH6: =AD6*AE6 -> 169929.85 | AI6: =AH6*AG6 -> 31752.464
A7: 43497 | B7: 44278025 | C7: 7091434.4 | D7: 2.0858068e+08 | E7: 0.0653 | F7: 0.0653 | G7: 0.0232 | H7: =E7*B7/12 -> 240946.25 | I7: =F7*C7/12 -> 38589.222 | J7: =G7*D7/12 -> 403255.97 | K7: 0.0462 | L7: 0.0462 | M7: 0.0226 | N7: =K7*B7/12 -> 170470.4 | O7: =L7*C7/12 -> 27302.022 | P7: =M7*D7/12 -> 392826.94 | Q7: =H7-N7 -> 70475.856 | R7: =I7-O7 -> 11287.2 | S7: =J7-P7 -> 10429.034 | T7: =T6+Q7 -> 7435007.5 | U7: =U6+R7 -> 1422527.4 | V7: =V6+S7 -> 1480857.5 | W7: 0.21 | X7: =SUM(T7:V7)*-W7 -> -2171062.4 | Y7: =Y6 -> -1280224.4 | Z7: 0.1290793 | AA7: 0.3274551 | AB7: 0.817934 | AC7: 0.16605693 | AD7: 1957556.7 | AE7: 0.087575585 | AF7: 0.026015585 | AG7: =(W7/(1-W7))*(1-AF7/AE7) -> 0.18685631 | AH7: =AD7*AE7 -> 171434.17 | AI7: =AH7*AG7 -> 32033.557
A8: 43525 | B8: 47445114 | C8: 7091434.4 | D8: 2.0810241e+08 | E8: 0.0653 | F8: 0.0653 | G8: 0.0232 | H8: =E8*B8/12 -> 258180.5 | I8: =F8*C8/12 -> 38589.222 | J8: =G8*D8/12 -> 402331.33 | K8: 0.0462 | L8: 0.0462 | M8: 0.0226 | N8: =K8*B8/12 -> 182663.69 | O8: =L8*C8/12 -> 27302.022 | P8: =M8*D8/12 -> 391926.21 | Q8: =H8-N8 -> 75516.807 | R8: =I8-O8 -> 11287.2 | S8: =J8-P8 -> 10405.121 | T8: =T7+Q8 -> 7510524.3 | U8: =U7+R8 -> 1433814.6 | V8: =V7+S8 -> 1491262.6 | W8: 0.21 | X8: =SUM(T8:V8)*-W8 -> -2191476.3 | Y8: =Y7 -> -1280224.4 | Z8: 0.1290793 | AA8: 0.3274551 | AB8: 0.817934 | AC8: 0.16605693 | AD8: 1974842.5 | AE8: 0.087575585 | AF8: 0.026015585 | AG8: =(W8/(1-W8))*(1-AF8/AE8) -> 0.18685631 | AH8: =AD8*AE8 -> 172947.99 | AI8: =AH8*AG8 -> 32316.422
A9: 43556 | B9: 47900015 | C9: 7092922.7 | D9: 2.0795241e+08 | E9: 0.0653 | F9: 0.0653 | G9: 0.0232 | H9: =E9*B9/12 -> 260655.92 | I9: =F9*C9/12 -> 38597.321 | J9: =G9*D9/12 -> 402041.33 | K9: 0.0462 | L9: 0.0462 | M9: 0.0226 | N9: =K9*B9/12 -> 184415.06 | O9: =L9*C9/12 -> 27307.752 | P9: =M9*D9/12 -> 391643.71 | Q9: =H9-N9 -> 76240.858 | R9: =I9-O9 -> 11289.569 | S9: =J9-P9 -> 10397.621 | T9: =T8+Q9 -> 7586765.2 | U9: =U8+R9 -> 1445104.1 | V9: =V8+S9 -> 1501660.2 | W9: 0.21 | X9: =SUM(T9:V9)*-W9 -> -2212041.2 | Y9: =Y8 -> -1280224.4 | Z9: 0.1290793 | AA9: 0.3274551 | AB9: 0.817934 | AC9: 0.16605693 | AD9: 1992315.7 | AE9: 0.087575585 | AF9: 0.026015585 | AG9: =(W9/(1-W9))*(1-AF9/AE9) -> 0.18685631 | AH9: =AD9*AE9 -> 174478.22 | AI9: =AH9*AG9 -> 32602.356
A10: 43586 | B10: 48182652 | C10: 7092922.7 | D10: 2.0738487e+08 | E10: 0.0653 | F10: 0.0653 | G10: 0.0232 | H10: =E10*B10/12 -> 262193.93 | I10: =F10*C10/12 -> 38597.321 | J10: =G10*D10/12 -> 400944.08 | K10: 0.0462 | L10: 0.0462 | M10: 0.0226 | N10: =K10*B10/12 -> 185503.21 | O10: =L10*C10/12 -> 27307.752 | P10: =M10*D10/12 -> 390574.83 | Q10: =H10-N10 -> 76690.72 | R10: =I10-O10 -> 11289.569 | S10: =J10-P10 -> 10369.243 | T10: =T9+Q10 -> 7663455.9 | U10: =U9+R10 -> 1456393.7 | V10: =V9+S10 -> 1512029.5 | W10: 0.21 | X10: =SUM(T10:V10)*-W10 -> -2232694.6 | Y10: =Y9 -> -1280224.4 | Z10: 0.1290793 | AA10: 0.3274551 | AB10: 0.817934 | AC10: 0.16605693 | AD10: 2009983.2 | AE10: 0.087575585 | AF10: 0.026015585 | AG10: =(W10/(1-W10))*(1-AF10/AE10) -> 0.18685631 | AH10: =AD10*AE10 -> 176025.46 | AI10: =AH10*AG10 -> 32891.467
A11: 43617 | B11: 48576087 | C11: 7047245.5 | D11: 2.0711138e+08 | E11: 0.0653 | F11: 0.0653 | G11: 0.0232 | H11: =E11*B11/12 -> 264334.87 | I11: =F11*C11/12 -> 38348.761 | J11: =G11*D11/12 -> 400415.34 | K11: 0.0462 | L11: 0.0462 | M11: 0.0226 | N11: =K11*B11/12 -> 187017.93 | O11: =L11*C11/12 -> 27131.895 | P11: =M11*D11/12 -> 390059.77 | Q11: =H11-N11 -> 77316.938 | R11: =I11-O11 -> 11216.866 | S11: =J11-P11 -> 10355.569 | T11: =T10+Q11 -> 7740772.8 | U11: =U10+R11 -> 1467610.6 | V11: =V10+S11 -> 1522385 | W11: 0.21 | X11: =SUM(T11:V11)*-W11 -> -2253461.4 | Y11: =Y10 -> -1280224.4 | Z11: 0.1290793 | AA11: 0.3274551 | AB11: 0.817934 | AC11: 0.16605693 | AD11: 2027853.5 | AE11: 0.087575585 | AF11: 0.026015585 | AG11: =(W11/(1-W11))*(1-AF11/AE11) -> 0.18685631 | AH11: =AD11*AE11 -> 177590.46 | AI11: =AH11*AG11 -> 33183.897
A12: 43647 | B12: 48610688 | C12: 7047245.5 | D12: 2.0702099e+08 | E12: 0.0653 | F12: 0.0653 | G12: 0.0232 | H12: =E12*B12/12 -> 264523.16 | I12: =F12*C12/12 -> 38348.761 | J12: =G12*D12/12 -> 400240.59 | K12: 0.0462 | L12: 0.0462 | M12: 0.0226 | N12: =K12*B12/12 -> 187151.15 | O12: =L12*C12/12 -> 27131.895 | P12: =M12*D12/12 -> 389889.54 | Q12: =H12-N12 -> 77372.012 | R12: =I12-O12 -> 11216.866 | S12: =J12-P12 -> 10351.05 | T12: =T11+Q12 -> 7818144.8 | U12: =U11+R12 -> 1478827.4 | V12: =V11+S12 -> 1532736.1 | W12: 0.21 | X12: =SUM(T12:V12)*-W12 -> -2274238.8 | Y12: =Y11 -> -1280224.4 | Z12: 0.1290793 | AA12: 0.3274551 | AB12: 0.817934 | AC12: 0.16605693 | AD12: 2045913.8 | AE12: 0.087575585 | AF12: 0.026015585 | AG12: =(W12/(1-W12))*(1-AF12/AE12) -> 0.18685631 | AH12: =AD12*AE12 -> 179172.1 | AI12: =AH12*AG12 -> 33479.437
A13: 43678 | B13: 48751258 | C13: 7047245.5 | D13: 2.0697727e+08 | E13: 0.0653 | F13: 0.0653 | G13: 0.0232 | H13: =E13*B13/12 -> 265288.1 | I13: =F13*C13/12 -> 38348.761 | J13: =G13*D13/12 -> 400156.06 | K13: 0.0462 | L13: 0.0462 | M13: 0.0226 | N13: =K13*B13/12 -> 187692.34 | O13: =L13*C13/12 -> 27131.895 | P13: =M13*D13/12 -> 389807.2 | Q13: =H13-N13 -> 77595.753 | R13: =I13-O13 -> 11216.866 | S13: =J13-P13 -> 10348.864 | T13: =T12+Q13 -> 7895740.6 | U13: =U12+R13 -> 1490044.3 | V13: =V12+S13 -> 1543084.9 | W13: 0.21 | X13: =SUM(T13:V13)*-W13 -> -2295062.7 | Y13: =Y12 -> -1280224.4 | Z13: 0.1290793 | AA13: 0.3274551 | AB13: 0.817934 | AC13: 0.16605693 | AD13: 2064115.8 | AE13: 0.087575585 | AF13: 0.026015585 | AG13: =(W13/(1-W13))*(1-AF13/AE13) -> 0.18685631 | AH13: =AD13*AE13 -> 180766.15 | AI13: =AH13*AG13 -> 33777.295
A14: 43709 | B14: 47208363 | C14: 6807536.2 | D14: 2.3226821e+08 | E14: 0.0653 | F14: 0.0653 | G14: 0.0232 | H14: =E14*B14/12 -> 256892.17 | I14: =F14*C14/12 -> 37044.343 | J14: =G14*D14/12 -> 449051.88 | K14: 0.0462 | L14: 0.0462 | M14: 0.0226 | N14: =K14*B14/12 -> 181752.2 | O14: =L14*C14/12 -> 26209.014 | P14: =M14*D14/12 -> 437438.47 | Q14: =H14-N14 -> 75139.977 | R14: =I14-O14 -> 10835.328 | S14: =J14-P14 -> 11613.411 | T14: =T13+Q14 -> 7970880.6 | U14: =U13+R14 -> 1500879.6 | V14: =V13+S14 -> 1554698.4 | W14: 0.21 | X14: =SUM(T14:V14)*-W14 -> -2315556.3 | Y14: =Y13 -> -1280224.4 | Z14: 0.1290793 | AA14: 0.3274551 | AB14: 0.817934 | AC14: 0.16605693 | AD14: 2082533.1 | AE14: 0.087575585 | AF14: 0.026015585 | AG14: =(W14/(1-W14))*(1-AF14/AE14) -> 0.18685631 | AH14: =AD14*AE14 -> 182379.06 | AI14: =AH14*AG14 -> 34078.677
A15: 43739 | B15: 49960086 | C15: 6807536.2 | D15: 2.3192974e+08 | E15: 0.0653 | F15: 0.0653 | G15: 0.0232 | H15: =E15*B15/12 -> 271866.14 | I15: =F15*C15/12 -> 37044.343 | J15: =G15*D15/12 -> 448397.49 | K15: 0.0462 | L15: 0.0462 | M15: 0.0226 | N15: =K15*B15/12 -> 192346.33 | O15: =L15*C15/12 -> 26209.014 | P15: =M15*D15/12 -> 436801 | Q15: =H15-N15 -> 79519.804 | R15: =I15-O15 -> 10835.328 | S15: =J15-P15 -> 11596.487 | T15: =T14+Q15 -> 8050400.4 | U15: =U14+R15 -> 1511714.9 | V15: =V14+S15 -> 1566294.8 | W15: 0.21 | X15: =SUM(T15:V15)*-W15 -> -2336966.1 | Y15: =Y14 -> -1280224.4 | Z15: 0.1290793 | AA15: 0.3274551 | AB15: 0.817934 | AC15: 0.16605693 | AD15: 2101099.9 | AE15: 0.087575585 | AF15: 0.026015585 | AG15: =(W15/(1-W15))*(1-AF15/AE15) -> 0.18685631 | AH15: =AD15*AE15 -> 184005.06 | AI15: =AH15*AG15 -> 34382.505
A16: 43770 | B16: 49805571 | C16: 7022058.3 | D16: 2.3477108e+08 | E16: 0.0653 | F16: 0.0653 | G16: 0.0232 | H16: =E16*B16/12 -> 271025.32 | I16: =F16*C16/12 -> 38211.701 | J16: =G16*D16/12 -> 453890.76 | K16: 0.0462 | L16: 0.0462 | M16: 0.0226 | N16: =K16*B16/12 -> 191751.45 | O16: =L16*C16/12 -> 27034.925 | P16: =M16*D16/12 -> 442152.2 | Q16: =H16-N16 -> 79273.868 | R16: =I16-O16 -> 11176.776 | S16: =J16-P16 -> 11738.554 | T16: =T15+Q16 -> 8129674.2 | U16: =U15+R16 -> 1522891.7 | V16: =V15+S16 -> 1578033.4 | W16: 0.21 | X16: =SUM(T16:V16)*-W16 -> -2358425.9 | Y16: =Y15 -> -1280224.4 | Z16: 0.1290793 | AA16: 0.3274551 | AB16: 0.817934 | AC16: 0.16605693 | AD16: 2119879.6 | AE16: 0.087575585 | AF16: 0.026015585 | AG16: =(W16/(1-W16))*(1-AF16/AE16) -> 0.18685631 | AH16: =AD16*AE16 -> 185649.7 | AI16: =AH16*AG16 -> 34689.817
A17: 43800 | B17: 51072235 | C17: 7022205.7 | D17: 2.3513583e+08 | E17: 0.0653 | F17: 0.0653 | G17: 0.0232 | H17: =E17*B17/12 -> 277918.08 | I17: =F17*C17/12 -> 38212.503 | J17: =G17*D17/12 -> 454595.94 | K17: 0.0462 | L17: 0.0462 | M17: 0.0226 | N17: =K17*B17/12 -> 196628.11 | O17: =L17*C17/12 -> 27035.492 | P17: =M17*D17/12 -> 442839.15 | Q17: =H17-N17 -> 81289.975 | R17: =I17-O17 -> 11177.011 | S17: =J17-P17 -> 11756.792 | T17: =T16+Q17 -> 8210964.2 | U17: =U16+R17 -> 1534068.7 | V17: =V16+S17 -> 1589790.2 | W17: 0.21 | X17: =SUM(T17:V17)*-W17 -> -2380312.9 | Y17: =Y16 -> -1280224.4 | Z17: 0.1290793 | AA17: 0.3274551 | AB17: 0.817934 | AC17: 0.16605693 | AD17: 2138769.9 | AE17: 0.087575585 | AF17: 0.026015585 | AG17: =(W17/(1-W17))*(1-AF17/AE17) -> 0.18685631 | AH17: =AD17*AE17 -> 187304.03 | AI17: =AH17*AG17 -> 34998.939
A18: 43831 | B18: 50906875 | C18: 7769749.8 | D18: 235538607 | E18: 0.0653 | F18: 0.0653 | G18: 0.0232 | H18: =E18*B18/12 -> 277018.25 | I18: =F18*C18/12 -> 42280.389 | J18: =G18*D18/12 -> 455374.64 | K18: 0.0462 | L18: 0.0462 | M18: 0.0226 | N18: =K18*B18/12 -> 195991.47 | O18: =L18*C18/12 -> 29913.537 | P18: =M18*D18/12 -> 443597.71 | Q18: =H18-N18 -> 81026.776 | R18: =I18-O18 -> 12366.852 | S18: =J18-P18 -> 11776.93 | T18: =T17+Q18 -> 8291991 | U18: =U17+R18 -> 1546435.6 | V18: =V17+S18 -> 1601567.1 | W18: 0.21 | X18: =SUM(T18:V18)*-W18 -> -2402398.7 | Y18: =Y17 -> -1280224.4 | Z18: 0.11500587 | AA18: 0.32825384 | AB18: 0.827341 | AC18: 0.17775025 | AD18: =((SUM(T6:T18)/13)*Z18)+((SUM(U6:U18)/13)*AA18)+((SUM(V6:V18)/13)*AB18)+((X18+X6+Y6+Y18)/2*AC18) -> 2021788.7 | AE18: 0.087839965 | AF18: 0.026 | AG18: 0.18714115 | AH18: =AD18*AE18 -> 177593.85 | AI18: =AH18*AG18 -> 33235.117
A19: 43862 | B19: 51496544 | C19: 7323717.6 | D19: 235841096 | E19: 0.0653 | F19: 0.0653 | G19: 0.0232 | H19: =E19*B19/12 -> 280227.03 | I19: =F19*C19/12 -> 39853.23 | J19: =G19*D19/12 -> 455959.45 | K19: 0.0462 | L19: 0.0462 | M19: 0.0226 | N19: =K19*B19/12 -> 198261.7 | O19: =L19*C19/12 -> 28196.313 | P19: =M19*D19/12 -> 444167.4 | Q19: =H19-N19 -> 81965.333 | R19: =I19-O19 -> 11656.917 | S19: =J19-P19 -> 11792.055 | T19: =T18+Q19 -> 8373956.3 | U19: =U18+R19 -> 1558092.5 | V19: =V18+S19 -> 1613359.2 | W19: 0.21 | X19: =SUM(T19:V19)*-W19 -> -2424535.7 | Y19: =Y18 -> -1280224.4 | Z19: 0.11500587 | AA19: 0.32825384 | AB19: 0.827341 | AC19: 0.17775025 | AD19: =((SUM(T7:T19)/13)*Z19)+((SUM(U7:U19)/13)*AA19)+((SUM(V7:V19)/13)*AB19)+((X19+X7+Y7+Y19)/2*AC19) -> 2039835 | AE19: 0.087839965 | AF19: 0.026 | AG19: 0.18714115 | AH19: =AD19*AE19 -> 179179.04 | AI19: =AH19*AG19 -> 33531.77
A20: 43891 | B20: 51687637 | C20: 7335249.6 | D20: 236219400 | E20: 0.0653 | F20: 0.0653 | G20: 0.0232 | H20: =E20*B20/12 -> 281266.89 | I20: =F20*C20/12 -> 39915.983 | J20: =G20*D20/12 -> 456690.84 | K20: 0.0462 | L20: 0.0462 | M20: 0.0226 | N20: =K20*B20/12 -> 198997.4 | O20: =L20*C20/12 -> 28240.711 | P20: =M20*D20/12 -> 444879.87 | Q20: =H20-N20 -> 82269.489 | R20: =I20-O20 -> 11675.272 | S20: =J20-P20 -> 11810.97 | T20: =T19+Q20 -> 8456225.8 | U20: =U19+R20 -> 1569767.8 | V20: =V19+S20 -> 1625170.1 | W20: 0.21 | X20: =SUM(T20:V20)*-W20 -> -2446744.4 | Y20: =Y19 -> -1280224.4 | Z20: 0.11500587 | AA20: 0.32825384 | AB20: 0.827341 | AC20: 0.17775025 | AD20: =((SUM(T8:T20)/13)*Z20)+((SUM(U8:U20)/13)*AA20)+((SUM(V8:V20)/13)*AB20)+((X20+X8+Y8+Y20)/2*AC20) -> 2057983.4 | AE20: 0.087839965 | AF20: 0.026 | AG20: 0.18714115 | AH20: =AD20*AE20 -> 180773.19 | AI20: =AH20*AG20 -> 33830.102
A21: 43922 | B21: 51881060 | C21: 7346422.8 | D21: 236620295 | E21: 0.0653 | F21: 0.0653 | G21: 0.0232 | H21: =E21*B21/12 -> 282319.44 | I21: =F21*C21/12 -> 39976.784 | J21: =G21*D21/12 -> 457465.9 | K21: 0.0462 | L21: 0.0462 | M21: 0.0226 | N21: =K21*B21/12 -> 199742.08 | O21: =L21*C21/12 -> 28283.728 | P21: =M21*D21/12 -> 445634.89 | Q21: =H21-N21 -> 82577.354 | R21: =I21-O21 -> 11693.056 | S21: =J21-P21 -> 11831.015 | T21: =T20+Q21 -> 8538803.2 | U21: =U20+R21 -> 1581460.8 | V21: =V20+S21 -> 1637001.2 | W21: 0.21 | X21: =SUM(T21:V21)*-W21 -> -2469025.7 | Y21: =Y20 -> -1280224.4 | Z21: 0.11500587 | AA21: 0.32825384 | AB21: 0.827341 | AC21: 0.17775025 | AD21: =((SUM(T9:T21)/13)*Z21)+((SUM(U9:U21)/13)*AA21)+((SUM(V9:V21)/13)*AB21)+((X21+X9+Y9+Y21)/2*AC21) -> 2076275.4 | AE21: 0.087839965 | AF21: 0.026 | AG21: 0.18714115 | AH21: =AD21*AE21 -> 182379.96 | AI21: =AH21*AG21 -> 34130.794
A22: 43952 | B22: 51971375 | C22: 7405150.4 | D22: 234677363 | E22: 0.0653 | F22: 0.0653 | G22: 0.0232 | H22: =E22*B22/12 -> 282810.9 | I22: =F22*C22/12 -> 40296.36 | J22: =G22*D22/12 -> 453709.57 | K22: 0.0462 | L22: 0.0462 | M22: 0.0226 | N22: =K22*B22/12 -> 200089.79 | O22: =L22*C22/12 -> 28509.829 | P22: =M22*D22/12 -> 441975.7 | Q22: =H22-N22 -> 82721.105 | R22: =I22-O22 -> 11786.531 | S22: =J22-P22 -> 11733.868 | T22: =T21+Q22 -> 8621524.3 | U22: =U21+R22 -> 1593247.4 | V22: =V21+S22 -> 1648735 | W22: 0.21 | X22: =SUM(T22:V22)*-W22 -> -2491336.4 | Y22: =Y21 -> -1280224.4 | Z22: 0.11500587 | AA22: 0.32825384 | AB22: 0.827341 | AC22: 0.17775025 | AD22: =((SUM(T10:T22)/13)*Z22)+((SUM(U10:U22)/13)*AA22)+((SUM(V10:V22)/13)*AB22)+((X22+X10+Y10+Y22)/2*AC22) -> 2094711.8 | AE22: 0.087839965 | AF22: 0.026 | AG22: 0.18714115 | AH22: =AD22*AE22 -> 183999.41 | AI22: =AH22*AG22 -> 34433.86
A23: 43983 | B23: 52047775 | C23: 7282998.3 | D23: 234788635 | E23: 0.0653 | F23: 0.0653 | G23: 0.0232 | H23: =E23*B23/12 -> 283226.64 | I23: =F23*C23/12 -> 39631.649 | J23: =G23*D23/12 -> 453924.69 | K23: 0.0462 | L23: 0.0462 | M23: 0.0226 | N23: =K23*B23/12 -> 200383.93 | O23: =L23*C23/12 -> 28039.544 | P23: =M23*D23/12 -> 442185.26 | Q23: =H23-N23 -> 82842.708 | R23: =I23-O23 -> 11592.106 | S23: =J23-P23 -> 11739.432 | T23: =T22+Q23 -> 8704367 | U23: =U22+R23 -> 1604839.5 | V23: =V22+S23 -> 1660474.5 | W23: 0.21 | X23: =SUM(T23:V23)*-W23 -> -2513633 | Y23: =Y22 -> -1280224.4 | Z23: 0.11500587 | AA23: 0.32825384 | AB23: 0.827341 | AC23: 0.17775025 | AD23: =((SUM(T11:T23)/13)*Z23)+((SUM(U11:U23)/13)*AA23)+((SUM(V11:V23)/13)*AB23)+((X23+X11+Y11+Y23)/2*AC23) -> 2113288.6 | AE23: 0.087839965 | AF23: 0.026 | AG23: 0.18714115 | AH23: =AD23*AE23 -> 185631.2 | AI23: =AH23*AG23 -> 34739.235
A24: 44013 | B24: 52357202 | C24: 7282829.8 | D24: 237708818 | E24: 0.0653 | F24: 0.0653 | G24: 0.0232 | H24: =E24*B24/12 -> 284910.44 | I24: =F24*C24/12 -> 39630.732 | J24: =G24*D24/12 -> 459570.38 | K24: 0.0462 | L24: 0.0462 | M24: 0.0226 | N24: =K24*B24/12 -> 201575.23 | O24: =L24*C24/12 -> 28038.895 | P24: =M24*D24/12 -> 447684.94 | Q24: =H24-N24 -> 83335.213 | R24: =I24-O24 -> 11591.837 | S24: =J24-P24 -> 11885.441 | T24: =T23+Q24 -> 8787702.2 | U24: =U23+R24 -> 1616431.3 | V24: =V23+S24 -> 1672359.9 | W24: 0.21 | X24: =SUM(T24:V24)*-W24 -> -2536063.6 | Y24: =Y23 -> -1280224.4 | Z24: 0.11500587 | AA24: 0.32825384 | AB24: 0.827341 | AC24: 0.17775025 | AD24: =((SUM(T12:T24)/13)*Z24)+((SUM(U12:U24)/13)*AA24)+((SUM(V12:V24)/13)*AB24)+((X24+X12+Y12+Y24)/2*AC24) -> 2132012.7 | AE24: 0.087839965 | AF24: 0.026 | AG24: 0.18714115 | AH24: =AD24*AE24 -> 187275.92 | AI24: =AH24*AG24 -> 35047.03
A25: 44044 | B25: 52842614 | C25: 7282342.2 | D25: 237741571 | E25: 0.0653 | F25: 0.0653 | G25: 0.0232 | H25: =E25*B25/12 -> 287551.89 | I25: =F25*C25/12 -> 39628.079 | J25: =G25*D25/12 -> 459633.7 | K25: 0.0462 | L25: 0.0462 | M25: 0.0226 | N25: =K25*B25/12 -> 203444.06 | O25: =L25*C25/12 -> 28037.017 | P25: =M25*D25/12 -> 447746.63 | Q25: =H25-N25 -> 84107.827 | R25: =I25-O25 -> 11591.061 | S25: =J25-P25 -> 11887.079 | T25: =T24+Q25 -> 8871810 | U25: =U24+R25 -> 1628022.4 | V25: =V24+S25 -> 1684247 | W25: 0.21 | X25: =SUM(T25:V25)*-W25 -> -2558656.7 | Y25: =Y24 -> -1280224.4 | Z25: 0.11500587 | AA25: 0.32825384 | AB25: 0.827341 | AC25: 0.17775025 | AD25: =((SUM(T13:T25)/13)*Z25)+((SUM(U13:U25)/13)*AA25)+((SUM(V13:V25)/13)*AB25)+((X25+X13+Y13+Y25)/2*AC25) -> 2150885 | AE25: 0.087839965 | AF25: 0.026 | AG25: 0.18714115 | AH25: =AD25*AE25 -> 188933.66 | AI25: =AH25*AG25 -> 35357.262
A26: 44075 | B26: 52790087 | C26: 7277905.8 | D26: 234479704 | E26: 0.0653 | F26: 0.0653 | G26: 0.0232 | H26: =E26*B26/12 -> 287266.06 | I26: =F26*C26/12 -> 39603.937 | J26: =G26*D26/12 -> 453327.43 | K26: 0.0462 | L26: 0.0462 | M26: 0.0226 | N26: =K26*B26/12 -> 203241.83 | O26: =L26*C26/12 -> 28019.937 | P26: =M26*D26/12 -> 441603.44 | Q26: =H26-N26 -> 84024.222 | R26: =I26-O26 -> 11584 | S26: =J26-P26 -> 11723.985 | T26: =T25+Q26 -> 8955834.2 | U26: =U25+R26 -> 1639606.4 | V26: =V25+S26 -> 1695971 | W26: 0.21 | X26: =SUM(T26:V26)*-W26 -> -2581196.4 | Y26: =Y25 -> -1280224.4 | Z26: 0.11500587 | AA26: 0.32825384 | AB26: 0.827341 | AC26: 0.17775025 | AD26: =((SUM(T14:T26)/13)*Z26)+((SUM(U14:U26)/13)*AA26)+((SUM(V14:V26)/13)*AB26)+((X26+X14+Y14+Y26)/2*AC26) -> 2169945 | AE26: 0.087839965 | AF26: 0.026 | AG26: 0.18714115 | AH26: =AD26*AE26 -> 190607.89 | AI26: =AH26*AG26 -> 35670.579
A27: 44105 | B27: 53835504 | C27: 7277956.4 | D27: 234474426 | E27: 0.0653 | F27: 0.0653 | G27: 0.0232 | H27: =E27*B27/12 -> 292954.87 | I27: =F27*C27/12 -> 39604.212 | J27: =G27*D27/12 -> 453317.22 | K27: 0.0462 | L27: 0.0462 | M27: 0.0226 | N27: =K27*B27/12 -> 207266.69 | O27: =L27*C27/12 -> 28020.132 | P27: =M27*D27/12 -> 441593.5 | Q27: =H27-N27 -> 85688.177 | R27: =I27-O27 -> 11584.081 | S27: =J27-P27 -> 11723.721 | T27: =T26+Q27 -> 9041522.4 | U27: =U26+R27 -> 1651190.4 | V27: =V26+S27 -> 1707694.7 | W27: 0.21 | X27: =SUM(T27:V27)*-W27 -> -2604085.6 | Y27: =Y26 -> -1280224.4 | Z27: 0.11500587 | AA27: 0.32825384 | AB27: 0.827341 | AC27: 0.17775025 | AD27: =((SUM(T15:T27)/13)*Z27)+((SUM(U15:U27)/13)*AA27)+((SUM(V15:V27)/13)*AB27)+((X27+X15+Y15+Y27)/2*AC27) -> 2189011.8 | AE27: 0.087839965 | AF27: 0.026 | AG27: 0.18714115 | AH27: =AD27*AE27 -> 192282.72 | AI27: =AH27*AG27 -> 35984.008
A28: 44136 | B28: 56519131 | C28: 7278047.4 | D28: 235297783 | E28: 0.0653 | F28: 0.0653 | G28: 0.0232 | H28: =E28*B28/12 -> 307558.27 | I28: =F28*C28/12 -> 39604.708 | J28: =G28*D28/12 -> 454909.05 | K28: 0.0462 | L28: 0.0462 | M28: 0.0226 | N28: =K28*B28/12 -> 217598.66 | O28: =L28*C28/12 -> 28020.483 | P28: =M28*D28/12 -> 443144.16 | Q28: =H28-N28 -> 89959.618 | R28: =I28-O28 -> 11584.225 | S28: =J28-P28 -> 11764.889 | T28: =T27+Q28 -> 9131482 | U28: =U27+R28 -> 1662774.7 | V28: =V27+S28 -> 1719459.6 | W28: 0.21 | X28: =SUM(T28:V28)*-W28 -> -2627880.4 | Y28: =Y27 -> -1280224.4 | Z28: 0.11500587 | AA28: 0.32825384 | AB28: 0.827341 | AC28: 0.17775025 | AD28: =((SUM(T16:T28)/13)*Z28)+((SUM(U16:U28)/13)*AA28)+((SUM(V16:V28)/13)*AB28)+((X28+X16+Y16+Y28)/2*AC28) -> 2208115.6 | AE28: 0.087839965 | AF28: 0.026 | AG28: 0.18714115 | AH28: =AD28*AE28 -> 193960.8 | AI28: =AH28*AG28 -> 36298.047
A29: 44166 | B29: 60489132 | C29: 7278054.5 | D29: 241146841 | E29: 0.0653 | F29: 0.0653 | G29: 0.0232 | H29: =E29*B29/12 -> 329161.69 | I29: =F29*C29/12 -> 39604.746 | J29: =G29*D29/12 -> 466217.23 | K29: 0.0462 | L29: 0.0462 | M29: 0.0226 | N29: =K29*B29/12 -> 232883.16 | O29: =L29*C29/12 -> 28020.51 | P29: =M29*D29/12 -> 454159.88 | Q29: =H29-N29 -> 96278.534 | R29: =I29-O29 -> 11584.237 | S29: =J29-P29 -> 12057.342 | T29: =T28+Q29 -> 9227760.6 | U29: =U28+R29 -> 1674358.9 | V29: =V28+S29 -> 1731516.9 | W29: 0.21 | X29: =SUM(T29:V29)*-W29 -> -2653063.6 | Y29: =Y28 -> -1280224.4 | Z29: 0.11500587 | AA29: 0.32825384 | AB29: 0.827341 | AC29: 0.17775025 | AD29: =((SUM(T17:T29)/13)*Z29)+((SUM(U17:U29)/13)*AA29)+((SUM(V17:V29)/13)*AB29)+((X29+X17+Y17+Y29)/2*AC29) -> 2227239.1 | AE29: 0.087839965 | AF29: 0.026 | AG29: 0.18714115 | AH29: =AD29*AE29 -> 195640.61 | AI29: =AH29*AG29 -> 36612.408
... A40: 44501 | B40: 61753641 | C40: 6859094.9 | D40: 2.5087632e+08 | E40: 0.0653 | F40: 0.0653 | G40: 0.0232 | H40: =E40*B40/12 -> 336042.73 | I40: =F40*C40/12 -> 37324.908 | J40: =G40*D40/12 -> 485027.55 | K40: 0.0462 | L40: 0.0462 | M40: 0.0226 | N40: =K40*B40/12 -> 237751.52 | O40: =L40*C40/12 -> 26407.515 | P40: =M40*D40/12 -> 472483.74 | Q40: =H40-N40 -> 98291.212 | R40: =I40-O40 -> 10917.393 | S40: =J40-P40 -> 12543.816 | T40: =T39+Q40 -> 10309715 | U40: =U39+R40 -> 1799747.8 | V40: =V39+S40 -> 1867864.6 | W40: 0.21 | X40: =SUM(T40:V40)*-W40 -> -2935238.8 | Y40: =Y39 -> -1280224.4 | Z40: 0.11168184 | AA40: 0.32055058 | AB40: 0.78449 | AC40: 0.17246823 | AD40: =((SUM(T28:T40)/13)*Z40)+((SUM(U28:U40)/13)*AA40)+((SUM(V28:V40)/13)*AB40)+((X40+X28+Y28+Y40)/2*AC40) -> 2346745.7 | AE40: 0.087662453 | AF40: 0.026102771 | AG40: 0.18667018 | AH40: =AD40*AE40 -> 205721.48 | AI40: =AH40*AG40 -> 38402.067
A41: 44531 | B41: 61453596 | C41: 6862228.2 | D41: 2.5507204e+08 | E41: 0.0653 | F41: 0.0653 | G41: 0.0232 | H41: =E41*B41/12 -> 334409.99 | I41: =F41*C41/12 -> 37341.959 | J41: =G41*D41/12 -> 493139.27 | K41: 0.0462 | L41: 0.0462 | M41: 0.0226 | N41: =K41*B41/12 -> 236596.35 | O41: =L41*C41/12 -> 26419.579 | P41: =M41*D41/12 -> 480385.67 | Q41: =H41-N41 -> 97813.641 | R41: =I41-O41 -> 10922.38 | S41: =J41-P41 -> 12753.602 | T41: =T40+Q41 -> 10407529 | U41: =U40+R41 -> 1810670.1 | V41: =V40+S41 -> 1880618.2 | W41: 0.21 | X41: =SUM(T41:V41)*-W41 -> -2960751.6 | Y41: =Y40 -> -1280224.4 | Z41: 0.11168184 | AA41: 0.32055058 | AB41: 0.78449 | AC41: 0.17246823 | AD41: =((SUM(T29:T41)/13)*Z41)+((SUM(U29:U41)/13)*AA41)+((SUM(V29:V41)/13)*AB41)+((X41+X29+Y29+Y41)/2*AC41) -> 2366708.3 | AE41: 0.087662453 | AF41: 0.026102771 | AG41: 0.18667018 | AH41: =AD41*AE41 -> 207471.46 | AI41: =AH41*AG41 -> 38728.735 | AJ41: =SUM(AH41:AI41) -> 246200.19
