Workbook

Sheet A4-Rate Base
E1: Worksheet A4
E2: Rate Base Worksheet
E3: ='[9]Act Att-H'!C7 -> Black Hills Colorado Electric, LLC | I3: Page 1 of 3
C5: Gross Plant In Service | H5: CWIP | I5: LHFFU
A7: Line No | B7: Month | C7: Production | D7: Transmission | E7: Distribution | F7: General & Intangible | G7: Common | H7: CWIP (Note C) | I7: Land Held for Future Use
B8: (a) | C8: (b) | D8: (c) | E8: (d) | F8: (e) | G8: (f) | H8: (g) | I8: (h)
B9: FN1 Reference for Dec | C9: 205.46.g (Note K) Excluding ARO | D9: 207.58.g (Note K) Excluding ARO | E9: 207.75.g (Note K) Excluding ARO | F9: 205.5.g & 207.99.g (Note K) Excluding ARO | G9: 201.8.e,f,g,h (Note I) (Note K) Excluding ARO | H9: 216.x.b | I9: 214.x.d
A10: 1 | B10: December Prior Year | C10: =+PIS!B117 -> 4.2441933e+08 | D10: =+PIS!C117 -> 2.4228744e+08 | E10: =+PIS!D117 -> 3.8316347e+08 | F10: =+PIS!E117 -> 39146482 | G10: =+PIS!F117 -> 22892222 | H10: 0 | I10: 0
A11: 2 | B11: January | C11: =+PIS!B118 -> 4.2982304e+08 | D11: =+PIS!C118 -> 2.4191268e+08 | E11: =+PIS!D118 -> 3.8437441e+08 | F11: =+PIS!E118 -> 41371136 | G11: =+PIS!F118 -> 22911759 | H11: 0 | I11: 0
A12: 3 | B12: February | C12: =+PIS!B119 -> 4.2982304e+08 | D12: =+PIS!C119 -> 2.4190506e+08 | E12: =+PIS!D119 -> 3.8670812e+08 | F12: =+PIS!E119 -> 41853917 | G12: =+PIS!F119 -> 22687655 | H12: 0 | I12: 0
A13: 4 | B13: March | C13: =+PIS!B120 -> 424361103 | D13: =+PIS!C120 -> 2.4200404e+08 | E13: =+PIS!D120 -> 3.8740322e+08 | F13: =+PIS!E120 -> 41573626 | G13: =+PIS!F120 -> 22280707 | H13: 0 | I13: 0
A14: 5 | B14: April | C14: =+PIS!B121 -> 4.241386e+08 | D14: =+PIS!C121 -> 2.5832491e+08 | E14: =+PIS!D121 -> 3.9323161e+08 | F14: =+PIS!E121 -> 41911984 | G14: =+PIS!F121 -> 22197772 | H14: 0 | I14: 0
A15: 6 | B15: May | C15: =+PIS!B122 -> 4.2414074e+08 | D15: =+PIS!C122 -> 2.5900484e+08 | E15: =+PIS!D122 -> 3.9540108e+08 | F15: =+PIS!E122 -> 41755949 | G15: =+PIS!F122 -> 22227944 | H15: 0 | I15: 0
A16: 7 | B16: June | C16: =+PIS!B123 -> 4.24508e+08 | D16: =+PIS!C123 -> 2.5987527e+08 | E16: =+PIS!D123 -> 3.9523818e+08 | F16: =+PIS!E123 -> 41972437 | G16: =+PIS!F123 -> 22369153 | H16: 0 | I16: 0
A17: 8 | B17: July | C17: =+PIS!B124 -> 4.2466195e+08 | D17: =+PIS!C124 -> 2.6060037e+08 | E17: =+PIS!D124 -> 3.9786576e+08 | F17: =+PIS!E124 -> 43024773 | G17: =+PIS!F124 -> 23015208 | H17: 0 | I17: 0
A18: 9 | B18: August | C18: =+PIS!B125 -> 4.2466195e+08 | D18: =+PIS!C125 -> 2.6061224e+08 | E18: =+PIS!D125 -> 3.989333e+08 | F18: =+PIS!E125 -> 43200243 | G18: =+PIS!F125 -> 23254601 | H18: 0 | I18: 0
A19: 10 | B19: September | C19: =+PIS!B126 -> 4.2462695e+08 | D19: =+PIS!C126 -> 2.6006273e+08 | E19: =+PIS!D126 -> 3.9897659e+08 | F19: =+PIS!E126 -> 43368824 | G19: =+PIS!F126 -> 23275912 | H19: 0 | I19: 0
A20: 11 | B20: October | C20: =+PIS!B127 -> 4.2462195e+08 | D20: =+PIS!C127 -> 2.6166503e+08 | E20: =+PIS!D127 -> 4.0147738e+08 | F20: =+PIS!E127 -> 43663840 | G20: =+PIS!F127 -> 23003817 | H20: 0 | I20: 0
A21: 12 | B21: November | C21: =+PIS!B128 -> 4.2462195e+08 | D21: =+PIS!C128 -> 2.6371343e+08 | E21: =+PIS!D128 -> 4.0714356e+08 | F21: =+PIS!E128 -> 43715058 | G21: =+PIS!F128 -> 23072353 | H21: 0 | I21: 0
A22: 13 | B22: December | C22: =+PIS!B129 -> 4.2491797e+08 | D22: =+PIS!C129 -> 2.6430396e+08 | E22: =+PIS!D129 -> 4.1097829e+08 | F22: =+PIS!E129 -> 44386552 | G22: =+PIS!F129 -> 22745275 | H22: 0 | I22: 0
A23: 14 | B23: Average of the 13 Monthly Balances | C23: =SUM(C10:C22)/13 -> 4.2533281e+08 | D23: =SUM(D10:D22)/13 -> 2.5509785e+08 | E23: =SUM(E10:E22)/13 -> 3.9545346e+08 | F23: =SUM(F10:F22)/13 -> 42380371 | G23: =SUM(G10:G22)/13 -> 22764183 | H23: =SUM(H10:H22)/13 -> 0 | I23: =SUM(I10:I22)/13 -> 0
B24: 44896 | I24: 44531
B25: Per FERC Form 1 | C25: 432114197 | D25: 264303963 | E25: 410978288 | F25: =529900+45008222 -> 45538122 | G25: =22745275+261441404 -> 284186679 | I25: Per FERC Form 1 | J25: 429646343 | K25: 242287439 | L25: 383163466 | M25: =529900+47054085 -> 47583985 | N25: =22892222+261441404 -> 284333626
B26: ARO | C26: =+C75 -> 7196224 | I26: ARO | M26: =+C63 -> 7196224
B27: Right of Use Asset Operating Lease | F27: =G75 -> 1151569 | G27: =-E75 -> -261441404 | I27: Right of Use Asset Operating Lease | M27: =G63 -> 1241279 | N27: =-E63 -> -261441404
B28: Variance | C28: =+C22-C25+C26 -> -0.10999995 | D28: =+D22-D25+D26 -> -0.090000004 | E28: =+E22-E25+E26 -> 1.3700001 | F28: =+F22-F25+F27 -> -1.19 | G28: =+G22-G25-G27 -> 0 | I28: Variance | J28: =+C10-J25+J26 -> -5227010.1 | K28: =+D10-K25+K26 -> 0.33000001 | L28: =+E10-L25+L26 -> -0.080000043 | M28: =+F10-M25+M26+M27 -> 0.16 | N28: =+G10-N25-N27 -> 0
E30: Accumulated Depreciation
A32: Line No | B32: Month | C32: reserved | D32: reserved | E32: Production | F32: Transmission | G32: Distribution | H32: General & Intangible | I32: Common
B33: (a) | C33: (b) | D33: (c) | E33: (d) | F33: (e) | G33: (f) | H33: (g) | I33: (h)
B34: FN1 Reference for Dec | E34: 219.20-24.c Excluding ARO | F34: 219.25.c Excluding ARO | G34: 219.26.c Excluding ARO | H34: 219.28.c & 200.21.c Excluding ARO | I34: 201.14.e,f,g,h (Note I) Excluding ARO
A35: 15 | B35: December Prior Year | E35: =+Accum!E115 -> 1.131645e+08 | F35: =+Accum!F115 -> 46193935 | G35: =+Accum!G115 -> 1.5217953e+08 | H35: =+Accum!H115 -> 19353546 | I35: =+Accum!I115 -> 3488956
A36: 16 | B36: January | E36: =+Accum!E116 -> 1.1983361e+08 | F36: =+Accum!F116 -> 45377603 | G36: =+Accum!G116 -> 1.5288399e+08 | H36: =+Accum!H116 -> 20491695 | I36: =+Accum!I116 -> 3734756
A37: 17 | B37: February | E37: =+Accum!E117 -> 1.2110062e+08 | F37: =+Accum!F117 -> 45691285 | G37: =+Accum!G117 -> 1.5344218e+08 | H37: =+Accum!H117 -> 20772310 | I37: =+Accum!I117 -> 4054872
A38: 18 | B38: March | E38: =+Accum!E118 -> 1.1692203e+08 | F38: =+Accum!F118 -> 46031261 | G38: =+Accum!G118 -> 1.5373933e+08 | H38: =+Accum!H118 -> 20600057 | I38: =+Accum!I118 -> 4303505
A39: 19 | B39: April | E39: =+Accum!E119 -> 1.1797238e+08 | F39: =+Accum!F119 -> 46381973 | G39: =+Accum!G119 -> 1.5474925e+08 | H39: =+Accum!H119 -> 20698475 | I39: =+Accum!I119 -> 4522274
A40: 20 | B40: May | E40: =+Accum!E120 -> 1.1922273e+08 | F40: =+Accum!F120 -> 46753255 | G40: =+Accum!G120 -> 1.5514545e+08 | H40: =+Accum!H120 -> 21104175 | I40: =+Accum!I120 -> 4679451
A41: 21 | B41: June | E41: =+Accum!E121 -> 1.2022e+08 | F41: =+Accum!F121 -> 46607607 | G41: =+Accum!G121 -> 1.5415443e+08 | H41: =+Accum!H121 -> 20187466 | I41: =+Accum!I121 -> 4929973
A42: 22 | B42: July | E42: =+Accum!E122 -> 1.214842e+08 | F42: =+Accum!F122 -> 47491857 | G42: =+Accum!G122 -> 1.5565955e+08 | H42: =+Accum!H122 -> 20142081 | I42: =+Accum!I122 -> 5035692
A43: 23 | B43: August | E43: =+Accum!E123 -> 1.2273868e+08 | F43: =+Accum!F123 -> 47863237 | G43: =+Accum!G123 -> 1.5637342e+08 | H43: =+Accum!H123 -> 20382613 | I43: =+Accum!I123 -> 5299332
A44: 24 | B44: September | E44: =+Accum!E124 -> 1.239235e+08 | F44: =+Accum!F124 -> 47719328 | G44: =+Accum!G124 -> 1.5565567e+08 | H44: =+Accum!H124 -> 20689497 | I44: =+Accum!I124 -> 5560567
...

Sheet PIS
A2: Period | B2: 44531 | C2: 44562 | D2: 44593 | E2: 44621 | F2: 44652 | G2: 44682 | H2: 44713 | I2: 44743 | J2: 44774 | K2: 44805 | L2: 44835 | M2: 44866 | N2: 44896 | O2: 13 Month Avg.
A3: Distribution
A4: 36001 | B4: 658853.93 | C4: 658853.93 | D4: 658853.93 | E4: 660409.51 | F4: 675241.29 | G4: 675230.97 | H4: 716774.01 | I4: 716774.01 | J4: 716774.01 | K4: 716774.01 | L4: 716774.01 | M4: 675230.97 | N4: 685230.97
A5: 36002 | B5: 184620.19 | C5: 184620.19 | D5: 184620.19 | E5: 184620.19 | F5: 184620.19 | G5: 184620.19 | H5: 184620.19 | I5: 184620.19 | J5: 184620.19 | K5: 184620.19 | L5: 184620.19 | M5: 184620.19 | N5: 184620.19
A6: 36003 | B6: 0 | C6: 0 | D6: 0 | E6: 0 | F6: 0 | G6: 0 | H6: 0 | I6: 0 | J6: 0 | K6: 0 | L6: 0 | M6: 0 | N6: 19051.65
A7: 36100 | B7: 625227.14 | C7: 640840.06 | D7: 643978.15 | E7: 643978.15 | F7: 643978.15 | G7: 643978.15 | H7: 643978.15 | I7: 643978.15 | J7: 643978.15 | K7: 643978.15 | L7: 643978.15 | M7: 643978.15 | N7: 643978.15
A8: 36105 | B8: 1169918.9 | C8: 1169918.9 | D8: 1169918.9 | E8: 1169918.9 | F8: 1169918.9 | G8: 1169918.9 | H8: 1169918.9 | I8: 1169918.9 | J8: 1169918.9 | K8: 1169918.9 | L8: 1169918.9 | M8: 1169918.9 | N8: 2048733.1
A9: 36200 | B9: =51255493.64+'Pending Retirements'!B7 -> 51176567 | C9: 51252104 | D9: 51323250 | E9: =51369322.43+'Pending Retirements'!C7 -> 51309057 | F9: 55758663 | G9: 55765825 | H9: =55766458.01+'Pending Retirements'!D7 -> 55706193 | I9: 55767112 | J9: 55723706 | K9: =55775661.11+'Pending Retirements'!E7 -> 55743301 | L9: 55790414 | M9: 61076589 | N9: =60691583.03+'Pending Retirements'!F7 -> 60589260
A10: 36400 | B10: =97907315.19+'Pending Retirements'!B8 -> 97531815 | C10: 98002922 | D10: 98593825 | E10: =98838131.69+'Pending Retirements'!C8 -> 98729338 | F10: 98874487 | G10: 1.0053144e+08 | H10: =100745372.12+'Pending Retirements'!D8 -> 1.0007814e+08 | I10: 1.0079188e+08 | J10: 1.0082921e+08 | K10: =101348755.6+'Pending Retirements'!E8 -> 1.0066612e+08 | L10: 1.0164514e+08 | M10: 1.0186661e+08 | N10: =103768937.34+'Pending Retirements'!F8 -> 1.0374976e+08
A11: 36500 | B11: =57862262.07+'Pending Retirements'!B9 -> 57826763 | C11: 58040435 | D11: 58227842 | E11: =57915870.53+'Pending Retirements'!C9 -> 57900994 | F11: 58065267 | G11: 58309710 | H11: =58160928.42+'Pending Retirements'!D9 -> 57626150 | I11: 58411841 | J11: 58328786 | K11: =58612374.43+'Pending Retirements'!E9 -> 58070970 | L11: 58724895 | M11: 58952175 | N11: =59419017.08+'Pending Retirements'!F9 -> 59389596
A12: 36600 | B12: =15786957.92+'Pending Retirements'!B10 -> 15784466 | C12: 15990044 | D12: 16256511 | E12: =16177717.39+'Pending Retirements'!C10 -> 16172869 | F12: 16441763 | G12: 16474929 | H12: =16731181.91+'Pending Retirements'!D10 -> 16728077 | I12: 16960685 | J12: 17070239 | K12: =17174627.96+'Pending Retirements'!E10 -> 17171523 | L12: 17256661 | M12: 17371813 | N12: =17480421.12+'Pending Retirements'!F10 -> 17479585
A13: 36700 | B13: =33588283.04+'Pending Retirements'!B11 -> 33480351 | C13: 33495477 | D13: 33996834 | E13: =33788511.83+'Pending Retirements'!C11 -> 33766324 | F13: 33555650 | G13: 33669374 | H13: =33642003.46+'Pending Retirements'!D11 -> 33610373 | I13: 34246684 | J13: 34467416 | K13: =34208608.52+'Pending Retirements'!E11 -> 34196142 | L13: 34507726 | M13: 34541532 | N13: =35256603.68+'Pending Retirements'!F11 -> 35247094
A14: 36801 | B14: =10300964.28+'Pending Retirements'!B12 -> 10273325 | C14: 10354400 | D14: 10406840 | E14: =10247680.43+'Pending Retirements'!C12 -> 10235113 | F14: 10277946 | G14: 10345012 | H14: =10424133.27+'Pending Retirements'!D12 -> 10419233 | I14: 10572837 | J14: 10519551 | K14: =10504881.48+'Pending Retirements'!E12 -> 10500166 | L14: 10540281 | M14: 10483826 | N14: =10680493.7+'Pending Retirements'!F12 -> 10679256
A15: 36802 | B15: =31613143.27+'Pending Retirements'!B13 -> 31567855 | C15: 31670599 | D15: 31773647 | E15: =32108702.34+'Pending Retirements'!C13 -> 32065785 | F15: 32382875 | G15: 32369305 | H15: =32764963.33+'Pending Retirements'!D13 -> 32678066 | I15: 32679806 | J15: 33056260 | K15: =33208398.01+'Pending Retirements'!E13 -> 33120013 | L15: 33284992 | M15: 33340710 | N15: =32967712.14+'Pending Retirements'!F13 -> 32884321
A16: 36803 | B16: =25529308.65+'Pending Retirements'!B14 -> 25517191 | C16: 25658434 | D16: 25750361 | E16: =26832263.2+'Pending Retirements'!C14 -> 26819937 | F16: 27154649 | G16: 27239244 | H16: =27581364.6+'Pending Retirements'!D14 -> 27569190 | I16: 27382364 | J16: 27633673 | K16: =27923005.64+'Pending Retirements'!E14 -> 27910831 | L16: 27985005 | M16: 28048471 | N16: =28367321.53+'Pending Retirements'!F14 -> 28354073
A17: 36901 | B17: =10567580.5+'Pending Retirements'!B15 -> 10543093 | C17: 10626074 | D17: 10683380 | E17: =10690376.73+'Pending Retirements'!C15 -> 10679199 | F17: 10727193 | G17: 10712500 | H17: =10666295.97+'Pending Retirements'!D15 -> 10658667 | I17: 11235086 | J17: 11276281 | K17: =11298958.66+'Pending Retirements'!E15 -> 11286407 | L17: 11311999 | M17: 11220394 | N17: =11341583.24+'Pending Retirements'!F15 -> 11338565
A18: 36902 | B18: =14104231.86+'Pending Retirements'!B16 -> 14100895 | C18: 14158380 | D18: 14270869 | E18: =14316871.99+'Pending Retirements'!C16 -> 14314984 | F18: 14426818 | G18: 14480141 | H18: =14573376.57+'Pending Retirements'!D16 -> 14573354 | I18: 14519634 | J18: 14624292 | K18: =14702515.45+'Pending Retirements'!E16 -> 14701691 | L18: 14740958 | M18: 14820584 | N18: 14885362
A19: 37001 | B19: 1710193.4 | C19: 1712808.4 | D19: 1722333.7 | E19: 1719762.9 | F19: 1731292.8 | G19: 1737124.3 | H19: 1749633.7 | I19: 1751419.8 | J19: 1754207 | K19: 1752045.9 | L19: 1752130.4 | M19: 1751320.4 | N19: 1756926.1
A20: 37002 | B20: 0 | C20: 0 | D20: 0 | E20: 0 | F20: 0 | G20: 0 | H20: 0 | I20: 0 | J20: 0 | K20: 0 | L20: 0 | M20: 0 | N20: 0
A21: 37004 | B21: 17451103 | C21: 17072519 | D21: 17030047 | E21: 17040415 | F21: 17098493 | G21: 17102555 | H21: 17108821 | I21: 16855774 | J21: 16884671 | K21: 16966292 | L21: 16967529 | M21: 16687861 | N21: 16698557
A22: 37100 | B22: =2644417.86+'Pending Retirements'!B17 -> 2630611.9 | C22: 2647800.9 | D22: 2650213.3 | E22: =2654148.94+'Pending Retirements'!C17 -> 2639760.7 | F22: 2649024.2 | G22: 2621529.2 | H22: =2634840.76+'Pending Retirements'!D17 -> 2628765.8 | I22: 2659671.6 | J22: 2691939.5 | K22: =2723129.04+'Pending Retirements'!E17 -> 2717981.3 | L22: 2726959.5 | M22: 2744834.1 | N22: =2746560.85+'Pending Retirements'!F17 -> 2744353.9
A23: 37300 | B23: =10958470.41+'Pending Retirements'!B18 -> 10930615 | C23: 11038179 | D23: 11364799 | E23: =11373614.8+'Pending Retirements'!C18 -> 11350756 | F23: 11413726 | G23: 11368644 | H23: =11406727.87+'Pending Retirements'!D18 -> 11388220 | I23: 11315680 | J23: 11357775 | K23: =11482256.54+'Pending Retirements'!E18 -> 11457811 | L23: 11527400 | M23: 11563099 | N23: =11606058.54+'Pending Retirements'!F18 -> 11599969
A24: Total Distribution | B24: =SUM(B4:B23) -> 3.8316347e+08 | C24: =SUM(C4:C23) -> 3.8437441e+08 | D24: =SUM(D4:D23) -> 3.8670812e+08 | E24: =SUM(E4:E23) -> 3.8740322e+08 | F24: =SUM(F4:F23) -> 3.9323161e+08 | G24: =SUM(G4:G23) -> 3.9540108e+08 | H24: =SUM(H4:H23) -> 3.9523818e+08 | I24: =SUM(I4:I23) -> 3.9786576e+08 | ... N24: =SUM(N4:N23) -> 4.1097829e+08 | O24: =AVERAGE(B24:N24) -> 3.9545346e+08
A26: General & Intagible
A27: 30100 | B27: 200900.31 | C27: 200900.31 | D27: 200900.31 | E27: 200900.31 | F27: 200900.31 | G27: 200900.31 | H27: 200900.31 | I27: 200900.31 | J27: 200900.31 | K27: 200900.31 | L27: 200900.31 | M27: 200900.31 | N27: 200900.31
A28: 30201 | B28: 0 | C28: 0 | D28: 0 | E28: 0 | F28: 0 | G28: 0 | H28: 0 | I28: 0 | J28: 0 | K28: 0 | L28: 0 | M28: 0 | N28: 0
A29: 30301 | B29: 310000 | C29: 310000 | D29: 310000 | E29: 310000 | F29: 310000 | G29: 310000 | H29: 310000 | I29: 310000 | J29: 310000 | K29: 310000 | L29: 310000 | M29: 310000 | N29: 310000
A30: 30302 | B30: 19000 | C30: 19000 | D30: 19000 | E30: 19000 | F30: 19000 | G30: 19000 | H30: 19000 | I30: 19000 | J30: 19000 | K30: 19000 | L30: 19000 | M30: 19000 | N30: 19000
A31: 30303 | B31: 0 | C31: 0 | D31: 0 | E31: 0 | F31: 0 | G31: 0 | H31: 0 | I31: 0 | J31: 0 | K31: 0 | L31: 0 | M31: 0 | N31: 0
A32: 38901 | B32: 261405.41 | C32: 261405.41 | D32: 261405.41 | E32: 261405.41 | F32: 261405.41 | G32: 261405.41 | H32: 261405.4 | I32: 261405.4 | J32: 261405.4 | K32: 261405.4 | L32: 261405.4 | M32: 261405.4 | N32: 261405.4
A33: 38902 | B33: 22532.78 | C33: 22532.78 | D33: 22532.78 | E33: 22532.78 | F33: 22532.78 | G33: 22532.78 | H33: 22532.78 | I33: 22532.78 | J33: 22532.78 | K33: 22532.78 | L33: 22532.78 | M33: 22532.78 | N33: 22532.78
A34: 39001 | B34: =7643580.04+'Pending Retirements'!B19 -> 7547751.2 | C34: 7643580 | D34: 7643580 | E34: =7617606.59+'Pending Retirements'!C19 -> 7521777.7 | F34: 7617606.6 | G34: 7617622.9 | H34: =7716740.44+'Pending Retirements'!D19 -> 7620911.6 | I34: 7811808.7 | J34: 7811808.7 | K34: 7811808.7 | L34: 7838433.1 | M34: 7838433.1 | N34: 7838433.1
A35: 39051 | B35: 1426861.2 | C35: 1426861.2 | D35: 1426861.2 | E35: 1426861.2 | F35: 1426861.2 | G35: 1426861.2 | H35: 1426861.2 | I35: 1426861.2 | J35: 1426861.2 | K35: 1426861.2 | L35: 1426861.2 | M35: 1426861.2 | N35: 1426861.2
A36: 39101 | B36: 1760571.7 | C36: 1760571.7 | D36: 1760571.7 | E36: 1786561 | F36: 1786561 | G36: 1785386.5 | H36: 1785386.5 | I36: 1337926 | J36: 1337926 | K36: 1337926 | L36: 1337926 | M36: 1337926 | N36: 1337926
A37: 39103 | B37: 940370.14 | C37: 974306.48 | D37: 974306.48 | E37: 974306.48 | F37: 956661.88 | G37: 856038.81 | H37: 856038.81 | I37: 856038.81 | J37: 856038.81 | K37: 856038.81 | L37: 900856.97 | M37: 900856.97 | N37: 1231242.5
A38: 39104 | B38: 14712 | C38: 14712 | D38: 14712 | E38: 14712 | F38: 14712 | G38: 14712 | H38: 14712 | I38: 14712 | J38: 14712 | K38: 12034 | L38: 12034 | M38: 12034 | N38: 12034
A39: 39105 | B39: 0 | C39: 0 | D39: 0 | E39: 0 | F39: 0 | G39: 0 | H39: 0 | I39: 0 | J39: 0 | K39: 0 | L39: 0 | M39: 0 | N39: 0
A40: 39107 | B40: 0 | C40: 0 | D40: 0 | E40: 0 | F40: 0 | G40: 0 | H40: 0 | I40: 0 | J40: 0 | K40: 0 | L40: 0 | M40: 0 | N40: 0
A41: 39159 | B41: 0 | C41: 0 | D41: 0 | E41: 0 | F41: 0 | G41: 0 | H41: 0 | I41: 0 | J41: 0 | K41: 0 | L41: 0 | M41: 0 | N41: 0
A42: 39201 | B42: 216925.63 | C42: 216925.63 | D42: 216925.63 | E42: 216925.63 | F42: 216925.63 | G42: 216925.63 | H42: 216925.63 | I42: 216925.63 | J42: 216925.63 | K42: 216925.63 | L42: 216925.63 | M42: 216925.63 | N42: 216925.63
...

Sheet PIS Pivot
A1: description | B1: (Multiple Items)
A3: Sum of end_bal | B3: Column Labels
B4: 2021 | C4: 2022
A5: Row Labels | B5: Dec | C5: Jan | D5: Feb | E5: Mar | F5: Apr | G5: May | H5: Jun | I5: Jul | J5: Aug | K5: Sep | L5: Oct | M5: Nov | N5: Dec
A6: Distribution
A7: 36001 | B7: 658853.93 | C7: 658853.93 | D7: 658853.93 | E7: 660409.51 | F7: 675241.29 | G7: 675230.97 | H7: 716774.01 | I7: 716774.01 | J7: 716774.01 | K7: 716774.01 | L7: 716774.01 | M7: 675230.97 | N7: 685230.97
A8: 36002 | B8: 184620.19 | C8: 184620.19 | D8: 184620.19 | E8: 184620.19 | F8: 184620.19 | G8: 184620.19 | H8: 184620.19 | I8: 184620.19 | J8: 184620.19 | K8: 184620.19 | L8: 184620.19 | M8: 184620.19 | N8: 184620.19
A9: 36003 | B9: 0 | C9: 0 | D9: 0 | E9: 0 | F9: 0 | G9: 0 | H9: 0 | I9: 0 | J9: 0 | K9: 0 | L9: 0 | M9: 0 | N9: 19051.65
A10: 36100 | B10: 625227.14 | C10: 640840.06 | D10: 643978.15 | E10: 643978.15 | F10: 643978.15 | G10: 643978.15 | H10: 643978.15 | I10: 643978.15 | J10: 643978.15 | K10: 643978.15 | L10: 643978.15 | M10: 643978.15 | N10: 643978.15
A11: 36105 | B11: 1169918.9 | C11: 1169918.9 | D11: 1169918.9 | E11: 1169918.9 | F11: 1169918.9 | G11: 1169918.9 | H11: 1169918.9 | I11: 1169918.9 | J11: 1169918.9 | K11: 1169918.9 | L11: 1169918.9 | M11: 1169918.9 | N11: 2048733.1
A12: 36200 | B12: 51255494 | C12: 51252104 | D12: 51323250 | E12: 51369322 | F12: 55758663 | G12: 55765825 | H12: 55766458 | I12: 55767112 | J12: 55723706 | K12: 55775661 | L12: 55790414 | M12: 61076589 | N12: 60691583
A13: 36400 | B13: 97907315 | C13: 98002922 | D13: 98593825 | E13: 98838132 | F13: 98874487 | G13: 1.0053144e+08 | H13: 1.0074537e+08 | I13: 1.0079188e+08 | J13: 1.0082921e+08 | K13: 1.0134876e+08 | L13: 1.0164514e+08 | M13: 1.0186661e+08 | N13: 1.0376894e+08
A14: 36500 | B14: 57862262 | C14: 58040435 | D14: 58227842 | E14: 57915871 | F14: 58065267 | G14: 58309710 | H14: 58160928 | I14: 58411841 | J14: 58328786 | K14: 58612374 | L14: 58724895 | M14: 58952175 | N14: 59419017
A15: 36600 | B15: 15786958 | C15: 15990044 | D15: 16256511 | E15: 16177717 | F15: 16441763 | G15: 16474929 | H15: 16731182 | I15: 16960685 | J15: 17070239 | K15: 17174628 | L15: 17256661 | M15: 17371813 | N15: 17480421
A16: 36700 | B16: 33588283 | C16: 33495477 | D16: 33996834 | E16: 33788512 | F16: 33555650 | G16: 33669374 | H16: 33642003 | I16: 34246684 | J16: 34467416 | K16: 34208609 | L16: 34507726 | M16: 34541532 | N16: 35256604
A17: 36801 | B17: 10300964 | C17: 10354400 | D17: 10406840 | E17: 10247680 | F17: 10277946 | G17: 10345012 | H17: 10424133 | I17: 10572837 | J17: 10519551 | K17: 10504881 | L17: 10540281 | M17: 10483826 | N17: 10680494
A18: 36802 | B18: 31613143 | C18: 31670599 | D18: 31773647 | E18: 32108702 | F18: 32382875 | G18: 32369305 | H18: 32764963 | I18: 32679806 | J18: 33056260 | K18: 33208398 | L18: 33284992 | M18: 33340710 | N18: 32967712
... A26: 37300 | B26: 10958470 | C26: 11038179 | D26: 11364799 | E26: 11373615 | F26: 11413726 | G26: 11368644 | H26: 11406728 | I26: 11315680 | J26: 11357775 | K26: 11482257 | L26: 11527400 | M26: 11563099 | N26: 11606059
A27: General & Intagible
A28: 30100 | B28: 200900.31 | C28: 200900.31 | D28: 200900.31 | E28: 200900.31 | F28: 200900.31 | G28: 200900.31 | H28: 200900.31 | I28: 200900.31 | J28: 200900.31 | K28: 200900.31 | L28: 200900.31 | M28: 200900.31 | N28: 200900.31
A29: 30201 | B29: 0 | C29: 0 | D29: 0 | E29: 0 | F29: 0 | G29: 0 | H29: 0 | I29: 0 | J29: 0 | K29: 0 | L29: 0 | M29: 0 | N29: 0
A30: 30301 | B30: 310000 | C30: 310000 | D30: 310000 | E30: 310000 | F30: 310000 | G30: 310000 | H30: 310000 | I30: 310000 | J30: 310000 | K30: 310000 | L30: 310000 | M30: 310000 | N30: 310000
A31: 30302 | B31: 19000 | C31: 19000 | D31: 19000 | E31: 19000 | F31: 19000 | G31: 19000 | H31: 19000 | I31: 19000 | J31: 19000 | K31: 19000 | L31: 19000 | M31: 19000 | N31: 19000
A32: 30303 | B32: 0 | C32: 0 | D32: 0 | E32: 0 | F32: 0 | G32: 0 | H32: 0 | I32: 0 | J32: 0 | K32: 0 | L32: 0 | M32: 0 | N32: 0
A33: 38901 | B33: 261405.41 | C33: 261405.41 | D33: 261405.41 | E33: 261405.41 | F33: 261405.41 | G33: 261405.41 | H33: 261405.4 | I33: 261405.4 | J33: 261405.4 | K33: 261405.4 | L33: 261405.4 | M33: 261405.4 | N33: 261405.4
A34: 38902 | B34: 22532.78 | C34: 22532.78 | D34: 22532.78 | E34: 22532.78 | F34: 22532.78 | G34: 22532.78 | H34: 22532.78 | I34: 22532.78 | J34: 22532.78 | K34: 22532.78 | L34: 22532.78 | M34: 22532.78 | N34: 22532.78
A35: 39001 | B35: 7643580 | C35: 7643580 | D35: 7643580 | E35: 7617606.6 | F35: 7617606.6 | G35: 7617622.9 | H35: 7716740.4 | I35: 7811808.7 | J35: 7811808.7 | K35: 7811808.7 | L35: 7838433.1 | M35: 7838433.1 | N35: 7838433.1
A36: 39051 | B36: 1426861.2 | C36: 1426861.2 | D36: 1426861.2 | E36: 1426861.2 | F36: 1426861.2 | G36: 1426861.2 | H36: 1426861.2 | I36: 1426861.2 | J36: 1426861.2 | K36: 1426861.2 | L36: 1426861.2 | M36: 1426861.2 | N36: 1426861.2
A37: 39101 | B37: 1760571.7 | C37: 1760571.7 | D37: 1760571.7 | E37: 1786561 | F37: 1786561 | G37: 1785386.5 | H37: 1785386.5 | I37: 1337926 | J37: 1337926 | K37: 1337926 | L37: 1337926 | M37: 1337926 | N37: 1337926
A38: 39103 | B38: 940370.14 | C38: 974306.48 | D38: 974306.48 | E38: 974306.48 | F38: 956661.88 | G38: 856038.81 | H38: 856038.81 | I38: 856038.81 | J38: 856038.81 | K38: 856038.81 | L38: 900856.97 | M38: 900856.97 | N38: 1231242.5
A39: 39104 | B39: 14712 | C39: 14712 | D39: 14712 | E39: 14712 | F39: 14712 | G39: 14712 | H39: 14712 | I39: 14712 | J39: 14712 | K39: 12034 | L39: 12034 | M39: 12034 | N39: 12034
... A57: 39800 | B57: 129693.81 | C57: 129693.81 | D57: 129693.81 | E57: 149473.8 | F57: 149473.8 | G57: 149473.8 | H57: 149473.8 | I57: 149473.8 | J57: 149473.8 | K57: 149473.8 | L57: 149473.8 | M57: 149473.8 | N57: 188673.68
A58: Generation
A59: 31001 | B59: 168504.26 | C59: 168504.26 | D59: 168504.26 | E59: 168504.26 | F59: 168504.26 | G59: 168504.26 | H59: 168504.26 | I59: 168504.26 | J59: 168504.26 | K59: 168504.26 | L59: 168504.26 | M59: 168504.26 | N59: 168504.26
A60: 31002 | B60: 85743.6 | C60: 85743.6 | D60: 85743.6 | E60: 85743.6 | F60: 85743.6 | G60: 85743.6 | H60: 85743.6 | I60: 85743.6 | J60: 85743.6 | K60: 85743.6 | L60: 85743.6 | M60: 85743.6 | N60: 85743.6
A61: 31100 | B61: 0 | C61: 0 | D61: 0 | E61: 0 | F61: 0 | G61: 0 | H61: 0 | I61: 0 | J61: 0 | K61: 0 | L61: 0 | M61: 0 | N61: 0
A62: 31201 | B62: 0 | C62: 0 | D62: 0 | E62: 0 | F62: 0 | G62: 0 | H62: 0 | I62: 0 | J62: 0 | K62: 0 | L62: 0 | M62: 0 | N62: 0
A63: 31202 | B63: 0 | C63: 0 | D63: 0 | E63: 0 | F63: 0 | G63: 0 | H63: 0 | I63: 0 | J63: 0 | K63: 0 | L63: 0 | M63: 0 | N63: 0
A64: 31209 | B64: 0 | C64: 0 | D64: 0 | E64: 0 | F64: 0 | G64: 0 | H64: 0 | I64: 0 | J64: 0 | K64: 0 | L64: 0 | M64: 0 | N64: 0
A65: 31400 | B65: 0 | C65: 0 | D65: 0 | E65: 0 | F65: 0 | G65: 0 | H65: 0 | I65: 0 | J65: 0 | K65: 0 | L65: 0 | M65: 0 | N65: 0
...

Sheet PIS Data
A1: start_month | B1: end_month | C1: set_of_books | D1: company | E1: business_segment | F1: description | G1: func_class | H1: Function | I1: fc_sortid | J1: description | K1: FERC | L1: begin_bal | M1: additions | N1: retirements | O1: trans_adj | P1: end_bal
A2: 44562 | B2: 01/2022 | C2: SEC | D2: BH Colorado Electric Oper Co | E2: Regulated Electric (122) | F2: 101000 Plant In Service | G2: Distribution Plant - Electric | H2: Distribution | I2: 7 | J2: 136001 - Ele Dist-Land | K2: =MID(J2,2,5) -> 36001 | L2: 658853.93 | M2: 0 | N2: 0 | O2: 0 | P2: 658853.93
A3: 44562 | B3: 01/2022 | C3: SEC | D3: BH Colorado Electric Oper Co | E3: Regulated Electric (122) | F3: 101000 Plant In Service | G3: Distribution Plant - Electric | H3: Distribution | I3: 7 | J3: 136002 - Ele Dist- Ld Rt/ROW-Non-De | K3: =MID(J3,2,5) -> 36002 | L3: 184620.19 | M3: 0 | N3: 0 | O3: 0 | P3: 184620.19
A4: 44562 | B4: 01/2022 | C4: SEC | D4: BH Colorado Electric Oper Co | E4: Regulated Electric (122) | F4: 101000 Plant In Service | G4: Distribution Plant - Electric | H4: Distribution | I4: 7 | J4: 136003 - Ele Dist- Ld Rt/ROW-Deprec | K4: =MID(J4,2,5) -> 36003 | L4: 0 | M4: 0 | N4: 0 | O4: 0 | P4: 0
A5: 44562 | B5: 01/2022 | C5: SEC | D5: BH Colorado Electric Oper Co | E5: Regulated Electric (122) | F5: 101000 Plant In Service | G5: Distribution Plant - Electric | H5: Distribution | I5: 7 | J5: 136100 - Ele Dist Sub-Str & Improve | K5: =MID(J5,2,5) -> 36100 | L5: 625227.14 | M5: 15612.92 | N5: 0 | O5: 0 | P5: 640840.06
A6: 44562 | B6: 01/2022 | C6: SEC | D6: BH Colorado Electric Oper Co | E6: Regulated Electric (122) | F6: 101000 Plant In Service | G6: Distribution Plant - Electric | H6: Distribution | I6: 7 | J6: 136105 - Ele Dist Sub-Land Improve | K6: =MID(J6,2,5) -> 36105 | L6: 1169918.9 | M6: 0 | N6: 0 | O6: 0 | P6: 1169918.9
A7: 44562 | B7: 01/2022 | C7: SEC | D7: BH Colorado Electric Oper Co | E7: Regulated Electric (122) | F7: 101000 Plant In Service | G7: Distribution Plant - Electric | H7: Distribution | I7: 7 | J7: 136200 - Ele Dist Sub-Station Equip | K7: =MID(J7,2,5) -> 36200 | L7: 51184216 | M7: 132207.51 | N7: -72559.59 | O7: 0 | P7: 51243864
A8: 44562 | B8: 01/2022 | C8: SEC | D8: BH Colorado Electric Oper Co | E8: Regulated Electric (122) | F8: 101000 Plant In Service | G8: Distribution Plant - Electric | H8: Distribution | I8: 7 | J8: 136400 - Ele Dist-Pole/Tower/Fixtur | K8: =MID(J8,2,5) -> 36400 | L8: 80007379 | M8: 538000.02 | N8: -172259.95 | O8: 0 | P8: 80373119
A9: 44562 | B9: 01/2022 | C9: SEC | D9: BH Colorado Electric Oper Co | E9: Regulated Electric (122) | F9: 101000 Plant In Service | G9: Distribution Plant - Electric | H9: Distribution | I9: 7 | J9: 136500 - Ele Dist-OH Conductors | K9: =MID(J9,2,5) -> 36500 | L9: 53728449 | M9: 60722.91 | N9: -26253.21 | O9: 0 | P9: 53762918
A10: 44562 | B10: 01/2022 | C10: SEC | D10: BH Colorado Electric Oper Co | E10: Regulated Electric (122) | F10: 101000 Plant In Service | G10: Distribution Plant - Electric | H10: Distribution | I10: 7 | J10: 136600 - Ele Dist-UG Conduit | K10: =MID(J10,2,5) -> 36600 | L10: 14181879 | M10: 93566.47 | N10: 0 | O10: 0 | P10: 14275446
A11: 44562 | B11: 01/2022 | C11: SEC | D11: BH Colorado Electric Oper Co | E11: Regulated Electric (122) | F11: 101000 Plant In Service | G11: Distribution Plant - Electric | H11: Distribution | I11: 7 | J11: 136700 - Ele Dist-UG Conductors | K11: =MID(J11,2,5) -> 36700 | L11: 27661992 | M11: 246840.76 | N11: -24241.48 | O11: 0 | P11: 27884592
A12: 44562 | B12: 01/2022 | C12: SEC | D12: BH Colorado Electric Oper Co | E12: Regulated Electric (122) | F12: 101000 Plant In Service | G12: Distribution Plant - Electric | H12: Distribution | I12: 7 | J12: 136801 - Ele Dist-Ln Trans-Oth Eqp | K12: =MID(J12,2,5) -> 36801 | L12: 9646307.5 | M12: 34217.1 | N12: -1353.23 | O12: 0 | P12: 9679171.4
A13: 44562 | B13: 01/2022 | C13: SEC | D13: BH Colorado Electric Oper Co | E13: Regulated Electric (122) | F13: 101000 Plant In Service | G13: Distribution Plant - Electric | H13: Distribution | I13: 7 | J13: 136802 - Ele Dist-Ln Trans-Conventn | K13: =MID(J13,2,5) -> 36802 | L13: 30573044 | M13: 17191.32 | N13: -6022.73 | O13: 0 | P13: 30584212
... A2058: 44531 | B2058: 12/2021 | C2058: SEC | D2058: BH Colorado Electric Oper Co | E2058: Regulated Electric (122) | F2058: 106000 Completed Constr not Classfd | G2058: Transmission Plant - Electric | H2058: Transmission | I2058: 6 | J2058: 135800 - Ele Trans-UG Conductors | K2058: =MID(J2058,2,5) -> 35800 | L2058: 0 | M2058: 0 | N2058: 0 | O2058: 0 | P2058: 0

Sheet Pending Retirements
A1: Pending Retirements | B1: 44531 | C1: 44621 | D1: 44713 | E1: 44805 | F1: 44896
A2: 134410 - Ele Oth - Generators | B2: -5771686.8 | C2: -5425162.9 | D2: -13500 | E2: -5000 | F2: -150055.73
A3: 135300 - Ele Trans Sub-Station Equi | B3: -64978.41 | D3: -80242.84 | E3: -80242.84 | F3: -101940.18
A4: 135301 - Ele Trans Sub-Stn Eq GSU | F4: -21865.55
A5: 135500 - Ele Trans-Poles & Fixtures | B5: -478714.36 | D5: -287533.28 | E5: -287533.28 | F5: -71.55
A6: 135600 - Ele Trans-OH Conductors | B6: -16112.41 | D6: -146667.3 | E6: -146667.3 | F6: -23403.94
A7: 136200 - Ele Dist Sub-Station Equip | B7: -78926.27 | C7: -60265.46 | D7: -60265.46 | E7: -32360.21 | F7: -102323.33
A8: 136400 - Ele Dist-Pole/Tower/Fixtur | B8: -375499.79 | C8: -108793.9 | D8: -667230.63 | E8: -682634.74 | F8: -19179.68
A9: 136500 - Ele Dist-OH Conductors | B9: -35498.75 | C9: -14876.87 | D9: -534778.45 | E9: -541404.13 | F9: -29421.2
A10: 136600 - Ele Dist-UG Conduit | B10: -2491.71 | C10: -4848.05 | D10: -3104.78 | E10: -3104.78 | F10: -835.78
A11: 136700 - Ele Dist-UG Conductors | B11: -107932.37 | C11: -22187.52 | D11: -31630.37 | E11: -12466.04 | F11: -9510.15
A12: 136801 - Ele Dist-Ln Trans-Oth Eqp | B12: -27639.24 | C12: -12566.99 | D12: -4900.5 | E12: -4715.94 | F12: -1237.59
A13: 136802 - Ele Dist-Ln Trans-Conventn | B13: -45288.25 | C13: -42917.37 | D13: -86896.88 | E13: -88384.79 | F13: -83391.39
A14: 136803 - Ele Dist-Ln Trans-Padmount | B14: -12117.66 | C14: -12326.51 | D14: -12174.86 | E14: -12174.86 | F14: -13248.43
A15: 136901 - Ele Dist - OH Services | B15: -24487.31 | C15: -11178.18 | D15: -7628.95 | E15: -12551.99 | F15: -3017.9
A16: 136902 - Ele Dist - UG Services | B16: -3336.75 | C16: -1888.06 | D16: -22.45 | E16: -824.83
A17: 137100 - Ele Dist-Instal Cst Prmise | B17: -13805.96 | C17: -14388.26 | D17: -6074.93 | E17: -5147.77 | F17: -2206.92
A18: 137300 - Ele Dist-Street Lighting | B18: -27855.54 | C18: -22859.1 | D18: -18508.36 | E18: -24445.72 | F18: -6089.56
A19: 139001 - Gen Plt-Str & Improve-Own | B19: -95828.85 | C19: -95828.85 | D19: -95828.85

Sheet Balance Sheet - Jan - Dec 2021
A1: Balance Sheet - by Month - FERC Reporting Acct Detail
A2: Business Unit: BH COLORADO ELEC UTILITY CO LP
A3: 2021 (Jan - Dec) 13 Mth Avg Scenario
A4: Run For: All Products, All Resource Codes, All Allocation Types
B5: H-T-D(Jan) | C5: H-T-D(Feb) | D5: H-T-D(Mar) | E5: H-T-D(Apr) | F5: H-T-D(May) | G5: H-T-D(Jun) | H5: H-T-D(Jul) | I5: H-T-D(Aug) | J5: H-T-D(Sep) | K5: H-T-D(Oct) | L5: H-T-D(Nov) | M5: H-T-D(Dec)
B6: 2021 | C6: 2021 | D6: 2021 | E6: 2021 | F6: 2021 | G6: 2021 | H6: 2021 | I6: 2021 | J6: 2021 | K6: 2021 | L6: 2021 | M6: 2021
A9: ASSETS:
A10: UTILITY PLANT:
A11: 101000 PLANT IN SERVICE | B11: 1024871810 | C11: 1025158126 | D11: 1016033594 | E11: 1025806339 | F11: 1026253923 | G11: 1017172528 | H11: 1034032895 | I11: 1034283370 | J11: 1027913084 | K11: 1035012210 | L11: 1037321147 | M11: 1035727823
A12: 101001 PLANT IN SERVICE INTANGIBLES | B12: 529900 | C12: 529900 | D12: 529900 | E12: 529900 | F12: 529900 | G12: 529900 | H12: 529900 | I12: 529900 | J12: 529900 | K12: 529900 | L12: 529900 | M12: 529900
A13: 101110 RIGHT OF USE ASSET OPER LEASE | B13: 1032945 | C13: 1032945 | D13: 1032377 | E13: 1032377 | F13: 1032377 | G13: 1032377 | H13: 1167472 | I13: 1167472 | J13: 1167472 | K13: 1167472 | L13: 1241279 | M13: 1241279
A14: 101304 PLANT IN SERVICE ARO | B14: 7200130 | C14: 7200130 | D14: 7200130 | E14: 7200130 | F14: 7200130 | G14: 7200130 | H14: 7200130 | I14: 7196224 | J14: 7196224 | K14: 7196224 | L14: 7196224 | M14: 7196224
A15: 105000 PLANT HELD FOR FUTURE-USE | B15: 1830408 | C15: 1830408 | D15: 4741888 | E15: 4742150 | F15: 4742150 | G15: 4742150 | H15: 4742150 | I15: 4133205 | J15: 4133205 | K15: 4133205 | L15: 4133205 | M15: 4133205
A16: 106000 COMPLETE NOT CLASSIFIED IN CPR | B16: 44061297 | C16: 48233398 | D16: 57181309 | E16: 58378136 | F16: 63057384 | G16: 62475882 | H16: 52483105 | I16: 53391775 | J16: 55310966 | K16: 56476000 | L16: 55337602 | M16: 52758997
A17: 114000 PLANT ACQUISITION ADJUSTMENTS | B17: 234762278 | C17: 234762278 | D17: 234762278 | E17: 234762278 | F17: 234762278 | G17: 234762278 | H17: 234762278 | I17: 234762278 | J17: 234762278 | K17: 234762278 | L17: 234762278 | M17: 234762278
A18: 118999 COMMON UTILITY PLANT ALLOC | B18: 21214485 | C18: 21197796 | D18: 21302943 | E18: 21360902 | F18: 21413898 | G18: 21269944 | H18: 21290065 | I18: 21863884 | J18: 22298849 | K18: 22295547 | L18: 22572314 | M18: 22892222
A19: UTILITY PLANT | B19: 1335503254 | C19: 1339944982 | D19: 1342784420 | E19: 1353812213 | F19: 1358992042 | G19: 1349185189 | H19: 1356207996 | I19: 1357328109 | J19: 1353311980 | K19: 1361572837 | L19: 1363093950 | M19: 1359241929
A20: 107000 CONSTRUCTION WORK IN-PROGRESS | B20: 37910842 | C20: 38054552 | D20: 31575957 | E20: 37053394 | F20: 42833216 | G20: 52503950 | H20: 59491125 | I20: 64651388 | J20: 65320120 | K20: 70026347 | L20: 72302699 | M20: 76721237
A21: CWIP Construction Work In Progress | B21: 37910842 | C21: 38054552 | D21: 31575957 | E21: 37053394 | F21: 42833216 | G21: 52503950 | H21: 59491125 | I21: 64651388 | J21: 65320120 | K21: 70026347 | L21: 72302699 | M21: 76721237
A22: TOTAL UTILITY PLANT | B22: 1373414096 | C22: 1377999535 | D22: 1374360377 | E22: 1390865606 | F22: 1401825258 | G22: 1401689139 | H22: 1415699121 | I22: 1421979497 | J22: 1418632099 | K22: 1431599184 | L22: 1435396649 | M22: 1435963167
... A33: NET UTILITY PLANT | B33: 1049530343 | C33: 1051428746 | D33: 1054897930 | E33: 1059108899 | F33: 1067584757 | G33: 1074610544 | H33: 1080139662 | I33: 1085030012 | J33: 1088199605 | K33: 1091480979 | L33: 1092939602 | M33: 1098992290
A35: OTHER PROPERY AND INVESTMENTS:
A36: 121000 NONUTILITY PROPERTY | B36: 126891 | C36: 126891 | D36: 126891 | E36: 126891 | F36: 126891 | G36: 126891 | H36: 126891 | I36: 126891 | J36: 120841 | K36: 120841 | L36: 120841 | M36: 120841
A37: NON UTILITY PROPERTY | B37: 126891 | C37: 126891 | D37: 126891 | E37: 126891 | F37: 126891 | G37: 126891 | H37: 126891 | I37: 126891 | J37: 120841 | K37: 120841 | L37: 120841 | M37: 120841
A38: TTL OTH PROPERTY & INVESTMENT | B38: 126891 | C38: 126891 | D38: 126891 | E38: 126891 | F38: 126891 | G38: 126891 | H38: 126891 | I38: 126891 | J38: 120841 | K38: 120841 | L38: 120841 | M38: 120841
A40: CURRENT AND ACCRUED ASSETS:
A41: 131038 CO BANKS ROCKY FORD | B41: 334574 | C41: 701516 | D41: 553941 | E41: 262411 | F41: 508056 | G41: 1237368 | H41: 715624 | I41: 434322 | J41: 929418 | K41: 535296 | L41: 749794 | M41: 306045
A42: 131148 WELLS FARGO OPER CASH | B42: 413044 | C42: 551661 | D42: 1557193 | E42: 212117 | F42: 102126 | G42: 1369130 | H42: 766687 | I42: 466833 | J42: 1956720 | K42: 846606 | L42: -3718 | M42: 1756399
A43: 131149 WELLS FARGO OPER CASH - DISBUR | B43: -1767855 | C43: -1521263 | D43: -1043029 | E43: -1328827 | F43: -1507127 | G43: -1136732 | H43: -1344804 | I43: -1302359 | J43: -1030961 | K43: -1183825 | L43: -957257 | M43: -503624
A44: 131150 WELLS FARGO UTIL DEPOSITORY | B44: 2296 | C44: -174937 | D44: -424702 | E44: -131947 | F44: 58524 | G44: -188063 | H44: 134634 | I44: 136689 | J44: -147472 | K44: -42020 | L44: -41038 | M44: -516364
A45: 131152 WELLS FARGO WFED LOCK BOX | B45: -339 | C45: -339 | D45: -339 | E45: -339 | F45: -339 | G45: -339 | H45: -339 | I45: -339 | J45: -339 | K45: -339 | L45: -339 | M45: -339
A46: 131154 WF BHE RM | B46: 13926 | C46: 26649 | D46: 18600 | E46: 579 | F46: 14699 | G46: 89 | H46: 1442 | I46: 0 | J46: 154514 | K46: 21705 | L46: 1011 | M46: 829
A47: 131185 FIRST AM BANK WEBSTER CTY | B47: -22 | C47: -22 | D47: -22 | E47: -22 | F47: -22 | G47: -22 | H47: -22 | I47: -22 | J47: -22 | K47: -22 | L47: -22 | M47: -22
A48: 131221 WELLS FARGO PMT SVCS | B48: 925772 | C48: 851859 | D48: 118615 | E48: 992156 | F48: 1091477 | G48: 210887 | H48: -26913 | I48: -35750 | J48: 641670 | K48: -4036 | L48: -36919 | M48: -52592
A49: 131230 WESTERN UNION | B49: -1587 | C49: -1587 | D49: -1587 | E49: -1587 | F49: -1587 | G49: -2295 | H49: -2295 | I49: -2326 | J49: -2326 | K49: -2326 | L49: -2326 | M49: -2326
A50: 131233 WELLS FARGO EFT/CHECKLINE | B50: -3675 | C50: -3675 | D50: -3675 | E50: -3675 | F50: -3675 | G50: -3747 | H50: -3747 | I50: -3747 | J50: -3747 | K50: -3772 | L50: -3772 | M50: -3822
A51: 131234 WELLS FARGO COLLECTION AGENCY | B51: 210 | C51: 210 | D51: 210 | E51: 210 | F51: 210 | G51: 210 | H51: 210 | I51: 210 | J51: 210 | K51: 210 | L51: 210 | M51: 210
A52: CASH ACCOUNTS | B52: -83656 | C52: 430073 | D52: 775206 | E52: 1077 | F52: 262343 | G52: 1486486 | H52: 240477 | I52: -306488 | J52: 2497665 | K52: 167477 | L52: -294376 | M52: 984395
... A100: TTL CURRENT & ACCRUED ASSETS | B100: 52100232 | C100: 45384127 | D100: 45571700 | E100: 42871573 | F100: 45733959 | G100: 52491679 | H100: 52891280 | I100: 56084930 | J100: 55505023 | K100: 54698232 | L100: 55123015 | M100: 59676609
A102: DEFFERRED DEBITS:
...

Sheet Balance Sheet - Jan - Dec 2022
A1: Balance Sheet - by Month - FERC Reporting Acct Detail
A2: Business Unit: BH COLORADO ELEC UTILITY CO LP
A3: 2022 (Jan - Dec)
A4: Run For: All Products, All Resource Codes, All Allocation Types
B5: H-T-D(Jan) | C5: H-T-D(Feb) | D5: H-T-D(Mar) | E5: H-T-D(Apr) | F5: H-T-D(May) | G5: H-T-D(Jun) | H5: H-T-D(Jul) | I5: H-T-D(Aug) | J5: H-T-D(Sep) | K5: H-T-D(Oct) | L5: H-T-D(Nov) | M5: H-T-D(Dec)
A8: ASSETS:
A9: UTILITY PLANT:
A10: 101000 PLANT IN SERVICE | B10: 1046032071 | C10: 1048504745 | D10: 1045049944 | E10: 1057190490 | F10: 1058982612 | G10: 1059113849 | H10: 1064775941 | I10: 1066343907 | J10: 1066614577 | K10: 1068874684 | L10: 1072012943 | M10: 1101795192
A11: 101001 PLANT IN SERVICE INTANGIBLES | B11: 529900 | C11: 529900 | D11: 529900 | E11: 529900 | F11: 529900 | G11: 529900 | H11: 529900 | I11: 529900 | J11: 529900 | K11: 529900 | L11: 529900 | M11: 529900
A12: 101110 RIGHT OF USE ASSET OPER LEASE | B12: 1127251 | C12: 1127251 | D12: 1127251 | E12: 1127251 | F12: 1127251 | G12: 1127251 | H12: 1150852 | I12: 1151438 | J12: 1151438 | K12: 1151438 | L12: 1151438 | M12: 1151569
A13: 101304 PLANT IN SERVICE ARO | B13: 7196224 | C13: 7196224 | D13: 7196224 | E13: 7196224 | F13: 7196224 | G13: 7196224 | H13: 7196224 | I13: 7196224 | J13: 7196224 | K13: 7196224 | L13: 7196224 | M13: 7196224
A14: 105000 PLANT HELD FOR FUTURE-USE | B14: 4133205 | C14: 4133205 | D14: 4133205 | E14: 4133205 | F14: 4133205 | G14: 3181183 | H14: 3181183 | I14: 3181183 | J14: 3181183 | K14: 3181183 | L14: 3181183 | M14: 3181183
A15: 106000 COMPLETE NOT CLASSIFIED IN CPR | B15: 50919292 | C15: 51255488 | D15: 49762145 | E15: 59886715 | F15: 60790096 | G15: 61950136 | H15: 60847017 | I15: 60534186 | J15: 59890610 | K15: 62023622 | L15: 66651161 | M15: 42261684
A16: 114000 PLANT ACQUISITION ADJUSTMENTS | B16: 234762278 | C16: 234762278 | D16: 234762278 | E16: 234762278 | F16: 234762278 | G16: 234762278 | H16: 234762278 | I16: 234762278 | J16: 234762278 | K16: 234762278 | L16: 234762278 | M16: 234762278
A17: 118993 SC UTILITY PLANT ALLOC CCA | B17: 0 | C17: 0 | D17: 218054 | E17: 156348 | F17: 156348 | G17: 156198 | H17: 156198 | I17: 171555 | J17: 190241 | K17: 191492 | L17: 251069 | M17: 267217
A18: 118999 COMMON UTILITY PLANT ALLOC | B18: 22911759 | C18: 22687655 | D18: 22062653 | E18: 22041424 | F18: 22071596 | G18: 22212955 | H18: 22859010 | I18: 23083046 | J18: 23085671 | K18: 22812325 | L18: 22821284 | M18: 22478058
A19: UTILITY PLANT | B19: 1367611981 | C19: 1370196747 | D19: 1364841655 | E19: 1387023835 | F19: 1389749511 | G19: 1390229974 | H19: 1395458603 | I19: 1396953718 | J19: 1396602122 | K19: 1400723147 | L19: 1408557482 | M19: 1413623306
A20: 107000 CONSTRUCTION WORK IN-PROGRESS | B20: 76176540 | C20: 77806209 | D20: 80325494 | E20: 64288569 | F20: 70812988 | G20: 71698123 | H20: 73260460 | I20: 76407198 | J20: 79004464 | K20: 81540281 | L20: 76860082 | M20: 77751717
A21: CWIP Construction Work In Progress | B21: 76176540 | C21: 77806209 | D21: 80325494 | E21: 64288569 | F21: 70812988 | G21: 71698123 | H21: 73260460 | I21: 76407198 | J21: 79004464 | K21: 81540281 | L21: 76860082 | M21: 77751717
... A34: NET UTILITY PLANT | B34: 1098862445 | C34: 1100303424 | D34: 1100898831 | E34: 1104282036 | F34: 1110917522 | G34: 1113054793 | H34: 1116097938 | I34: 1117887121 | J34: 1119182370 | K34: 1120205859 | L34: 1121595066 | M34: 1127135029
A36: OTHER PROPERY AND INVESTMENTS:
A37: 121000 NONUTILITY PROPERTY | B37: 120841 | C37: 120841 | D37: 120841 | E37: 120841 | F37: 120841 | G37: 120841 | H37: 120841 | I37: 120841 | J37: 120841 | K37: 120841 | L37: 120841 | M37: 120802
A38: NON UTILITY PROPERTY | B38: 120841 | C38: 120841 | D38: 120841 | E38: 120841 | F38: 120841 | G38: 120841 | H38: 120841 | I38: 120841 | J38: 120841 | K38: 120841 | L38: 120841 | M38: 120802
A39: TTL OTH PROPERTY & INVESTMENT | B39: 120841 | C39: 120841 | D39: 120841 | E39: 120841 | F39: 120841 | G39: 120841 | H39: 120841 | I39: 120841 | J39: 120841 | K39: 120841 | L39: 120841 | M39: 120802
A41: CURRENT AND ACCRUED ASSETS:
A42: 131038 CO BANKS ROCKY FORD | B42: 463950 | C42: 487816 | D42: 1169096 | E42: 513927 | F42: 635321 | G42: 639746 | H42: 362162 | I42: 226611 | J42: 649402 | K42: 375192 | L42: 247058 | M42: 614583
A43: 131148 WELLS FARGO OPER CASH | B43: 201721 | C43: -653 | D43: 205057 | E43: 12237 | F43: -5401 | G43: 327181 | H43: -68074 | I43: 126587 | J43: 401793 | K43: -135 | L43: -4246 | M43: 1066747
A44: 131149 WELLS FARGO OPER CASH - DISBUR | B44: -2026009 | C44: -1697778 | D44: -515222 | E44: -440652 | F44: -364078 | G44: -637068 | H44: -332720 | I44: -231309 | J44: -291553 | K44: -250301 | L44: -323722 | M44: -672255
A45: 131150 WELLS FARGO UTIL DEPOSITORY | B45: 443256 | C45: 313982 | D45: 216456 | E45: -553581 | F45: -31164 | G45: 104370 | H45: -123536 | I45: -345641 | J45: -70943 | K45: 152683 | L45: -219753 | M45: -7100
A46: 131152 WELLS FARGO WFED LOCK BOX | B46: -339 | C46: -339 | D46: -339 | E46: -339 | F46: -339 | G46: -339 | H46: -339 | I46: -339 | J46: -339 | K46: -339 | L46: -339 | M46: -339
A47: 131154 WF BHE RM | B47: 691 | C47: 53003 | D47: 648 | E47: 14647 | F47: 15382 | G47: 18046 | H47: 22518 | I47: 2742 | J47: 99 | K47: 17605 | L47: 0 | M47: 1564
A48: 131185 FIRST AM BANK WEBSTER CTY | B48: -22 | C48: 0 | D48: 0 | E48: 0 | F48: 0 | G48: 0 | H48: 0 | I48: 0 | J48: 0 | K48: 0 | L48: 0 | M48: 0
A49: 131221 WELLS FARGO PMT SVCS | B49: -37975 | C49: -5202 | D49: 99213 | E49: -10357 | F49: -15330 | G49: 256500 | H49: -20728 | I49: 10428 | J49: -30799 | K49: -29220 | L49: 180298 | M49: 120299
A50: 131230 WESTERN UNION | B50: -2326 | C50: -2326 | D50: -2326 | E50: -2326 | F50: -2326 | G50: -2326 | H50: -2326 | I50: -2326 | J50: -2326 | K50: -2326 | L50: -2326 | M50: -2326
A51: 131232 WELLS FARGO OTHER MANUAL | B51: 0 | C51: 0 | D51: 0 | E51: 0 | F51: 0 | G51: 0 | H51: 0 | I51: -40 | J51: -40 | K51: -40 | L51: -40 | M51: -40
A52: 131233 WELLS FARGO EFT/CHECKLINE | B52: -3822 | C52: -3697 | D52: -3697 | E52: -3697 | F52: -3697 | G52: -3906 | H52: -3906 | I52: -6101 | J52: -6101 | K52: -6129 | L52: -6129 | M52: -6129
A53: 131234 WELLS FARGO COLLECTION AGENCY | B53: 210 | C53: 210 | D53: 210 | E53: 210 | F53: 210 | G53: 210 | H53: 210 | I53: 210 | J53: 210 | K53: 210 | L53: 210 | M53: 210
... A99: TTL CURRENT & ACCRUED ASSETS | B99: 54405265 | C99: 53021166 | D99: 54517749 | E99: 49402049 | F99: 52278822 | G99: 57081363 | H99: 61086839 | I99: 63174658 | J99: 60517861 | K99: 56195846 | L99: 57176547 | M99: 67146685
A101: DEFFERRED DEBITS:
A102: 182342 REG ASSET ECA 2021 STORM | B102: 0 | C102: 0 | D102: 11164522 | E102: -114571 | F102: -765314 | G102: 10089706 | H102: 19614743 | I102: 18537625 | J102: 11650217 | K102: 16614367 | L102: 15805918 | M102: 11954395
...

Sheet BS - Jan - Dec _ 99200
A1: Balance Sheet - by Month - FERC Reporting Acct Detail
A2: Business Unit: COE CAP LEASE
A3: 2022 (Jan - Dec) 13 Mth Avg Actual Data
A4: Run For: All Products, All Resource Codes, All Allocation Types
B5: H-T-D(Jan) | C5: H-T-D(Feb) | D5: H-T-D(Mar) | E5: H-T-D(Apr) | F5: H-T-D(May) | G5: H-T-D(Jun) | H5: H-T-D(Jul) | I5: H-T-D(Aug) | J5: H-T-D(Sep) | K5: H-T-D(Oct) | L5: H-T-D(Nov) | M5: H-T-D(Dec) | N5: H-T-D(Dec)
B6: 2022 | C6: 2022 | D6: 2022 | E6: 2022 | F6: 2022 | G6: 2022 | H6: 2022 | I6: 2022 | J6: 2022 | K6: 2022 | L6: 2022 | M6: 2022 | N6: 2021
A9: ASSETS:
A10: UTILITY PLANT:
A11: 101100 FIXED ASSET CAP LEASE | B11: 261441404 | C11: 261441404 | D11: 261441404 | E11: 261441404 | F11: 261441404 | G11: 261441404 | H11: 261441404 | I11: 261441404 | J11: 261441404 | K11: 261441404 | L11: 261441404 | M11: 261441404 | N11: 261441404
A12: UTILITY PLANT | B12: 261441404 | C12: 261441404 | D12: 261441404 | E12: 261441404 | F12: 261441404 | G12: 261441404 | H12: 261441404 | I12: 261441404 | J12: 261441404 | K12: 261441404 | L12: 261441404 | M12: 261441404 | N12: 261441404
A13: TOTAL UTILITY PLANT | B13: 261441404 | C13: 261441404 | D13: 261441404 | E13: 261441404 | F13: 261441404 | G13: 261441404 | H13: 261441404 | I13: 261441404 | J13: 261441404 | K13: 261441404 | L13: 261441404 | M13: 261441404 | N13: 261441404
A14: 108000 PLT IN SERV-ACCUM DEPREC-ORIG | B14: -131810041 | C14: -132899380 | D14: -133988719 | E14: -135078058 | F14: -136167397 | G14: -137256736 | H14: -138346076 | I14: -139435415 | J14: -140524754 | K14: -141614093 | L14: -142703432 | M14: -143792772 | N14: -130720701
A15: ACCUM DEPRECIATION | B15: -131810041 | C15: -132899380 | D15: -133988719 | E15: -135078058 | F15: -136167397 | G15: -137256736 | H15: -138346076 | I15: -139435415 | J15: -140524754 | K15: -141614093 | L15: -142703432 | M15: -143792772 | N15: -130720701
A16: NET UTILITY PLANT | B16: 129631363 | C16: 128542024 | D16: 127452685 | E16: 126363346 | F16: 125274007 | G16: 124184668 | H16: 123095328 | I16: 122005989 | J16: 120916650 | K16: 119827311 | L16: 118737972 | M16: 117648632 | N16: 130720703
A18: OTHER PROPERY AND INVESTMENTS:
A20: CURRENT AND ACCRUED ASSETS:
A21: 146000 I/C ACCOUNTS RECEIVABLE | B21: 22850465 | C21: 22850465 | D21: 22850465 | E21: 22850465 | F21: 22850465 | G21: 22850465 | H21: 22850465 | I21: 22850465 | J21: 22850465 | K21: 22850465 | L21: 22850465 | M21: 22850465 | N21: 22850465
A22: ACCTS REC INTER CO ACCTS RECEIVABLE INTER COMPANY | B22: 22850465 | C22: 22850465 | D22: 22850465 | E22: 22850465 | F22: 22850465 | G22: 22850465 | H22: 22850465 | I22: 22850465 | J22: 22850465 | K22: 22850465 | L22: 22850465 | M22: 22850465 | N22: 22850465
A23: 165007 PREPAID FEDERAL TAXES | B23: 727786 | C23: 780919 | D23: 802374 | E23: 851100 | F23: 897589 | G23: 916020 | H23: 957966 | I23: 997605 | J23: 1012918 | K23: 1047874 | L23: 1080294 | M23: 1093212 | N23: 672483
A24: 165180 PREPAID STATE TAXES | B24: 152650 | C24: 152650 | D24: 182135 | E24: 182135 | F24: 182135 | G24: 207932 | H24: 207932 | I24: 207932 | J24: 229927 | K24: 229927 | L24: 229927 | M24: 244860 | N24: 152650
A25: PREPAYMENTS | B25: 880436 | C25: 933569 | D25: 984509 | E25: 1033235 | F25: 1079724 | G25: 1123952 | H25: 1165898 | I25: 1205537 | J25: 1242845 | K25: 1277801 | L25: 1310221 | M25: 1338072 | N25: 825134
A26: TTL CURRENT & ACCRUED ASSETS | B26: 23730901 | C26: 23784034 | D26: 23834974 | E26: 23883700 | F26: 23930188 | G26: 23974417 | H26: 24016362 | I26: 24056001 | J26: 24093310 | K26: 24128265 | L26: 24160686 | M26: 24188536 | N26: 23675598
A28: DEFFERRED DEBITS:
A29: DEFERRED DEBITS | B29: 0 | C29: 0 | D29: 0 | E29: 0 | F29: 0 | G29: 0 | H29: 0 | I29: 0 | J29: 0 | K29: 0 | L29: 0 | M29: 0 | N29: 0
A32: TOTAL_SUSPENSE_ACCTS TOTAL SUSPENSE ACCOUNTS | B32: 0 | C32: 0 | D32: 0 | E32: 0 | F32: 0 | G32: 0 | H32: 0 | I32: 0 | J32: 0 | K32: 0 | L32: 0 | M32: 0 | N32: 0
A34: TOTAL ASSETS | B34: 153362265 | C34: 152326058 | D34: 151287659 | E34: 150247045 | F34: 149204195 | G34: 148159084 | H34: 147111691 | I34: 146061991 | J34: 145009960 | K34: 143955576 | L34: 142898658 | M34: 141837169 | N34: 154396301
A36: LIABILITIES AND SHAREHOLDERS EQUITY:
A37: PROPRIETARY CAPITAL:
A38: 216000 RETAINED EARNINGS GENERAL | B38: -47392641 | C38: -47392641 | D38: -47392641 | E38: -47392641 | F38: -47392641 | G38: -47392641 | H38: -47392641 | I38: -47392641 | J38: -47392641 | K38: -47392641 | L38: -47392641 | M38: -47392641 | N38: -44862821
A39: RETAINED EARNINGS | B39: -47392641 | C39: -47392641 | D39: -47392641 | E39: -47392641 | F39: -47392641 | G39: -47392641 | H39: -47392641 | I39: -47392641 | J39: -47392641 | K39: -47392641 | L39: -47392641 | M39: -47392641 | N39: -44862821
A40: TOTAL PROPRIETARY CAPITAL | B40: -47392641 | C40: -47392641 | D40: -47392641 | E40: -47392641 | F40: -47392641 | G40: -47392641 | H40: -47392641 | I40: -47392641 | J40: -47392641 | K40: -47392641 | L40: -47392641 | M40: -47392641 | N40: -44862821
A42: LONG-TERM DEBT:
A44: OTHER NON-CURRENT LIABILITIES:
A45: 227200 I/C CAP LEASE OBLIGATION - LT | B45: 189900109 | C45: 188923597 | D45: 187937118 | E45: 186940570 | F45: 185933852 | G45: 184916857 | H45: 183878997 | I45: 182830544 | J45: 181771390 | K45: 180701426 | L45: 179620541 | M45: 178528624 | N45: 190866756
A46: OBLIG UNDR CAP LEASE OBLIGATION UNDER CAPITAL LEASE | B46: 189900109 | C46: 188923597 | D46: 187937118 | E46: 186940570 | F46: 185933852 | G46: 184916857 | H46: 183878997 | I46: 182830544 | J46: 181771390 | K46: 180701426 | L46: 179620541 | M46: 178528624 | N46: 190866756
A47: TTL OTR NONCRNT LIAB TTL OTHER NONCRNT LIABILITIES | B47: 189900109 | C47: 188923597 | D47: 187937118 | E47: 186940570 | F47: 185933852 | G47: 184916857 | H47: 183878997 | I47: 182830544 | J47: 181771390 | K47: 180701426 | L47: 179620541 | M47: 178528624 | N47: 190866756
A49: CURRENT AND ACCRUED LIABILITIES:
A50: 236000 ACCRUED INCOME TAXES FEDERAL | B50: 0 | C50: 0 | D50: -1 | E50: -1 | F50: -1 | G50: -1 | H50: -1 | I50: -1 | J50: -1 | K50: -1 | L50: -1 | M50: -1 | N50: 0
A51: 236001 ACCRUED INCOME TAXES STATE | B51: 0 | C51: 0 | D51: 0 | E51: 0 | F51: 0 | G51: 0 | H51: 0 | I51: 0 | J51: -1 | K51: -1 | L51: -1 | M51: 0 | N51: 0
A52: TAXES ACCRUED | B52: 0 | C52: 0 | D52: -1 | E52: -1 | F52: -1 | G52: -1 | H52: -1 | I52: -1 | J52: -2 | K52: -2 | L52: -2 | M52: -1 | N52: 0
...

Sheet Accum
A2: Period | B2: 44531 | C2: 44562 | D2: 44593 | E2: 44621 | F2: 44652 | G2: 44682 | H2: 44713 | I2: 44743 | J2: 44774 | K2: 44805 | L2: 44835 | M2: 44866 | N2: 44896 | O2: 13 Month Avg.
A3: Distribution
A4: 30302 | B4: -0.01 | C4: -0.01 | D4: -0.01 | E4: -0.01 | F4: -0.01 | G4: -0.01 | H4: -0.01 | I4: -0.01 | J4: -0.01 | K4: -0.01 | L4: -0.01 | M4: -0.01 | N4: -23.99
A5: 36100 | B5: 238149.72 | C5: 239847.5 | D5: 236452.09 | E5: 238160.18 | F5: 239868.27 | G5: 241576.36 | H5: 243284.45 | I5: 244992.54 | J5: 246700.63 | K5: 248408.72 | L5: 250116.81 | M5: 251824.9 | N5: 253946.76
A6: 36200 | B6: =14667701.18+'Pending Retirements'!B7 -> 14588775 | C6: 14652237 | D6: 14716774 | E6: =14781385.12+'Pending Retirements'!C7 -> 14721120 | F6: 14848786 | G6: 14914092 | H6: =14983515.72+'Pending Retirements'!D7 -> 14923250 | I6: 15053689 | J6: 15078424 | K6: =15148575.96+'Pending Retirements'!E7 -> 15116216 | L6: 15218770 | M6: 15292298 | N6: =15295828.35+'Pending Retirements'!F7 -> 15193505
A7: 36400 | B7: =29028577.01+'Pending Retirements'!B8 -> 28653077 | C7: 28992662 | D7: 29121667 | E7: =29318843.19+'Pending Retirements'!C8 -> 29210049 | F7: 29494413 | G7: 29420084 | H7: =29403881.36+'Pending Retirements'!D8 -> 28736651 | I7: 29475826 | J7: 29700291 | K7: =29876073.72+'Pending Retirements'!E8 -> 29193439 | L7: 30093041 | M7: 30251386 | N7: =29410033.91+'Pending Retirements'!F8 -> 29390854
A8: 36500 | B8: =27723427.76+'Pending Retirements'!B9 -> 27687929 | C8: 27788517 | D8: 27874575 | E8: =27932955+'Pending Retirements'!C9 -> 27918078 | F8: 28022532 | G8: 28109315 | H8: =28193030.69+'Pending Retirements'!D9 -> 27658252 | I8: 28205167 | J8: 28304883 | K8: =28402973.82+'Pending Retirements'!E9 -> 27861570 | L8: 28495482 | M8: 28595998 | N8: =27874172.16+'Pending Retirements'!F9 -> 27844751
A9: 36600 | B9: =5740183.25+'Pending Retirements'!B10 -> 5737691.5 | C9: 5770534.2 | D9: 5802755.9 | E9: =5832989.76+'Pending Retirements'!C10 -> 5828141.7 | F9: 5865218.2 | G9: 5898272 | H9: =5930063.64+'Pending Retirements'!D10 -> 5926958.9 | I9: 5889937.1 | J9: 5924109.8 | K9: =5958084.08+'Pending Retirements'!E10 -> 5954979.3 | L9: 5992202.1 | M9: 6026972.3 | N9: =5951991.48+'Pending Retirements'!F10 -> 5951155.7
A10: 36700 | B10: =14123051.11+'Pending Retirements'!B11 -> 14015119 | C10: 14139952 | D10: 14181401 | E10: =14186955.66+'Pending Retirements'!C11 -> 14164768 | F10: 14221080 | G10: 14248173 | H10: =14276766.3+'Pending Retirements'!D11 -> 14245136 | I10: 14270748 | J10: 14313694 | K10: =14351060.48+'Pending Retirements'!E11 -> 14338594 | L10: 14388319 | M10: 14431475 | N10: =14401330.68+'Pending Retirements'!F11 -> 14391821
A11: 36801 | B11: =3163736.53+'Pending Retirements'!B12 -> 3136097.3 | C11: 3176326 | D11: 3187871.8 | E11: =3200045.22+'Pending Retirements'!C12 -> 3187478.2 | F11: 3206941 | G11: 3203791 | H11: =3202377.54+'Pending Retirements'!D12 -> 3197477 | I11: 3164465.5 | J11: 3179142.2 | K11: =3188482.36+'Pending Retirements'!E12 -> 3183766.4 | L11: 3202006.1 | M11: 3109234.5 | N11: =3038707.9+'Pending Retirements'!F12 -> 3037470.3
A12: 36802 | B12: =13720625.98+'Pending Retirements'!B13 -> 13675338 | C12: 13728748 | D12: 13742354 | E12: =13756687.86+'Pending Retirements'!C13 -> 13713770 | F12: 13794412 | G12: 13808382 | H12: =13827505.28+'Pending Retirements'!D13 -> 13740608 | I12: 13830647 | J12: 13846807 | K12: =13868829.59+'Pending Retirements'!E13 -> 13780445 | L12: 13891000 | M12: 13907379 | N12: =13925619.28+'Pending Retirements'!F13 -> 13842228
A13: 36803 | B13: =10774079.52+'Pending Retirements'!B14 -> 10761962 | C13: 10802020 | D13: 10829178 | E13: =10855086.3+'Pending Retirements'!C14 -> 10842760 | F13: 10883423 | G13: 10913084 | H13: =10941015.57+'Pending Retirements'!D14 -> 10928841 | I13: 10971017 | J13: 11001032 | K13: =11031313.01+'Pending Retirements'!E14 -> 11019138 | L13: 11061786 | M13: 11092368 | N13: =11123342+'Pending Retirements'!F14 -> 11110094
A14: 36901 | B14: =8755735.83+'Pending Retirements'!B15 -> 8731248.5 | C14: 8786731.6 | D14: 8817896.6 | E14: =8846132.97+'Pending Retirements'!C15 -> 8834954.8 | F14: 8876906.2 | G14: 8907181.6 | H14: =8932530.95+'Pending Retirements'!D15 -> 8924902 | I14: 8964561.7 | J14: 8997484.6 | K14: =9030468.25+'Pending Retirements'!E15 -> 9017916.3 | L14: 9063476.2 | M14: 9009505.1 | N14: =9019284.88+'Pending Retirements'!F15 -> 9016267
A15: 36902 | B15: =10164109.78+'Pending Retirements'!B16 -> 10160773 | C15: 10219811 | D15: 10275574 | E15: =10331021.09+'Pending Retirements'!C16 -> 10329133 | F15: 10386907 | G15: 10443672 | H15: =10484622.91+'Pending Retirements'!D16 -> 10484600 | I15: 10541960 | J15: 10599398 | K15: =10657196.46+'Pending Retirements'!E16 -> 10656372 | L15: 10715148 | M15: 10772081 | N15: 10825842
A16: 37001 | B16: 1305200.2 | C16: 1321816 | D16: 1338649.5 | E16: 1355358 | F16: 1372141.3 | G16: 1388999.2 | H16: 1406006 | I16: 1423000.7 | J16: 1440017.6 | K16: 1457037.5 | L16: 1474047.4 | M16: 1491120.6 | N16: 1508185.8
A17: 37002 | B17: 0 | C17: 0 | D17: 0 | E17: 0 | F17: 0 | G17: 0 | H17: 0 | I17: 0 | J17: 0 | K17: 0 | L17: 0 | M17: 0 | N17: 0
A18: 37004 | B18: 6699008.7 | C18: 6418503.8 | D18: 6452752.7 | E18: 6552124.9 | F18: 6651734.4 | G18: 6751539.6 | H18: 6851322.7 | I18: 6695457 | J18: 6792658.3 | K18: 6890675.6 | L18: 6990802.2 | M18: 6916248.8 | N18: 7025012.4
A19: 37100 | B19: =1331735.97+'Pending Retirements'!B17 -> 1317930 | C19: 1333257.5 | D19: 1334780.7 | E19: =1336179.46+'Pending Retirements'!C17 -> 1321791.2 | F19: 1334536.1 | G19: 1334038.2 | H19: =1335948.76+'Pending Retirements'!D17 -> 1329873.8 | I19: 1335243.8 | J19: 1336782.4 | K19: =1338339.23+'Pending Retirements'!E17 -> 1333191.5 | L19: 1339906.1 | M19: 1341479.3 | N19: =1322982.54+'Pending Retirements'!F17 -> 1320775.6
A20: 37300 | B20: =6076672.54+'Pending Retirements'!B18 -> 6048817 | C20: 6093719.9 | D20: 6111082.4 | E20: =6127570.58+'Pending Retirements'!C18 -> 6104711.5 | F20: 6144221.4 | G20: 6157649.8 | H20: =6171081.06+'Pending Retirements'!D18 -> 6152572.7 | I20: 6188690.9 | J20: 6206262.8 | K20: =6223793.78+'Pending Retirements'!E18 -> 6199348.1 | L20: 6240248.2 | M20: 6255343.3 | N20: =6224341.19+'Pending Retirements'!F18 -> 6218251.6
A21: Total Distribution | B21: =SUM(B4:B20) -> 1.5275712e+08 | C21: =SUM(C4:C20) -> 1.5346468e+08 | D21: =SUM(D4:D20) -> 1.5402377e+08 | E21: =SUM(E4:E20) -> 1.543224e+08 | F21: =SUM(F4:F20) -> 1.5534312e+08 | G21: =SUM(G4:G20) -> 1.5573985e+08 | H21: =SUM(H4:H20) -> 1.5474974e+08 | I21: =SUM(I4:I20) -> 1.562554e+08 | ... N21: =SUM(N4:N20) -> 1.5693014e+08 | O21: =AVERAGE(B21:N21) -> 1.556897e+08
A23: General & Intagible
A24: 30100 | B24: 185731.42 | C24: 186420.93 | D24: 187110.41 | E24: 187799.92 | F24: 188489.4 | G24: 189178.91 | H24: 189868.39 | I24: 190557.9 | J24: 191247.38 | K24: 191936.86 | L24: 192626.37 | M24: 193315.85 | N24: 194005.36
A25: 30201 | B25: 0 | C25: 0 | D25: 0 | E25: 0 | F25: 0 | G25: 0 | H25: 0 | I25: 0 | J25: 0 | K25: 0 | L25: 0 | M25: 0 | N25: 0
A26: 30301 | B26: 40041.77 | C26: 40041.77 | D26: 40041.77 | E26: 40041.77 | F26: 40041.77 | G26: 40041.77 | H26: 40041.77 | I26: 40041.77 | J26: 40041.77 | K26: 40041.77 | L26: 40041.77 | M26: 40041.77 | N26: 40041.77
A27: 30303 | B27: 0 | C27: 0 | D27: 0 | E27: 0 | F27: 0 | G27: 0 | H27: 0 | I27: 0 | J27: 0 | K27: 0 | L27: 0 | M27: 0 | N27: 0
A28: 31001 | B28: 0 | C28: 0 | D28: 0 | E28: 0 | F28: 0 | G28: 0 | H28: 0 | I28: 0 | J28: 0 | K28: 0 | L28: 0 | M28: 0 | N28: 0
A29: 31002 | B29: -1526.96 | C29: -1526.96 | D29: -1526.96 | E29: -1526.96 | F29: -1526.96 | G29: -1526.96 | H29: -1526.96 | I29: -1526.96 | J29: -1526.96 | K29: -1526.96 | L29: -1526.96 | M29: -1526.96 | N29: -1526.96
A30: 36001 | B30: -385.8 | C30: -385.8 | D30: -385.8 | E30: -385.8 | F30: -385.8 | G30: -385.8 | H30: -385.8 | I30: -385.8 | J30: -385.8 | K30: -385.8 | L30: -385.8 | M30: -385.8 | N30: -388.95
A31: 36002 | B31: -4.18 | C31: -4.18 | D31: -4.18 | E31: -4.18 | F31: -4.18 | G31: -4.18 | H31: -4.18 | I31: -4.18 | J31: -4.18 | K31: -4.18 | L31: -4.18 | M31: -4.18 | N31: -4.18
A32: 38901 | B32: 0 | C32: 0 | D32: 0 | E32: 0 | F32: 0 | G32: 0 | H32: 0 | I32: 604.42 | J32: -5241.08 | K32: -5241.08 | L32: -5241.08 | M32: -5241.08 | N32: -5241.08
A33: 38902 | B33: 0 | C33: 0 | D33: 0 | E33: 0 | F33: 0 | G33: 0 | H33: 0 | I33: 0 | J33: 0 | K33: 0 | L33: 0 | M33: 0 | N33: 0
A34: 39001 | B34: =5048243.26+'Pending Retirements'!B19 -> 4952414.4 | C34: 5068188.5 | D34: 5088133.8 | E34: =5108045.33+'Pending Retirements'!C19 -> 5012216.5 | F34: 5127923.1 | G34: 5147800.8 | H34: =5167807.48+'Pending Retirements'!D19 -> 5071978.6 | I34: 4984612.3 | J34: 5004995 | K34: 5025377.7 | L34: 5045795 | M34: 5066246.9 | N34: 5086569.3
