Workbook

Sheet Res 10 yr
A1: Rates by Component | R1: Charges for Average Res Cust (@600 kWh/Mo) | X1: 600
B2: Customer | C2: 1st Tier Energy | D2: 2nd Tier Energy | E2: BHEAP | F2: CACJA | G2: DSMCA | H2: EASBC | I2: ECA | J2: EGCRR | K2: GRSA | L2: PCCA | M2: RESA | N2: TCA | O2: TEPR | P2: CEPR | R2: Date | S2: Customer | T2: 1st Tier Energy | U2: 2nd Tier Energy | V2: BHEAP | W2: CACJA | X2: DSMCA | Y2: EASBC | Z2: ECA | AA2: EGCRR | AB2: GRSA | AC2: PCCA | AD2: RESA | AE2: TCA | AF2: TEPR | AG2: CEPR | AI2: Total | AJ2: % Delta | AL2: Annual Inflation
A3: 42186 | B3: 16.5 | C3: 0.0865 | D3: 0.0668 | E3: 0.28 | F3: 0.00159 | G3: 0.0226 | H3: 0 | I3: 0.03608 | J3: 0 | K3: 0 | L3: 0.00045 | M3: 0.02 | N3: 0.00174 | O3: 0 | P3: 0 | R3: =A3 -> 42186 | S3: =+B3 -> 16.5 | T3: =+$X$1*C3 -> 51.9 | U3: 0 | V3: =+E3 -> 0.28 | W3: =+$X$1*F3 -> 0.954 | X3: =+G3*(S3+T3+U3+AB3+Z3+W3+AE3+AF3+AC3) -> 2.0863416 | Y3: =+H3 -> 0 | Z3: =+$X$1*I3 -> 21.648 | AA3: =+$X$1*J3 -> 0 | AB3: =+K3*(S3+T3+U3) -> 0 | AC3: =+$X$1*L3 -> 0.27 | AD3: =+M3*(S3+T3+U3+W3+Z3+AB3+AC3+AE3+X3) -> 1.8880468 | AE3: =+$X$1*N3 -> 1.044 | AF3: =+$X$1*O3 -> 0 | AG3: =+P3*(S3+T3+U3+W3+Z3+AB3+AC3+AE3+X3) -> 0 | AI3: =SUM(S3:AH3) -> 96.570388 | AJ3: =+(AI3-#REF!)/#REF! -> #REF!
A4: 42278 | B4: 16.5 | C4: 0.0865 | D4: 0.0668 | E4: 0.28 | F4: 0.00159 | G4: 0.0226 | H4: 0 | I4: 0.04552 | J4: 0 | K4: 0 | L4: 0.00045 | M4: 0.02 | N4: 0.00174 | O4: 0 | P4: 0 | R4: =A4 -> 42278 | S4: =+B4 -> 16.5 | T4: =+$X$1*C4 -> 51.9 | U4: 0 | V4: =+E4 -> 0.28 | W4: =+$X$1*F4 -> 0.954 | X4: =+G4*(S4+T4+U4+AB4+Z4+W4+AE4+AF4+AC4) -> 2.214348 | Y4: =+H4 -> 0 | Z4: =+$X$1*I4 -> 27.312 | AA4: =+$X$1*J4 -> 0 | AB4: =+K4*(S4+T4+U4) -> 0 | AC4: =+$X$1*L4 -> 0.27 | AD4: =+M4*(S4+T4+U4+W4+Z4+AB4+AC4+AE4+X4) -> 2.003887 | AE4: =+$X$1*N4 -> 1.044 | AF4: =+$X$1*O4 -> 0 | AG4: =+P4*(S4+T4+U4+W4+Z4+AB4+AC4+AE4+X4) -> 0 | AI4: =SUM(S4:AH4) -> 102.47823 | AJ4: =+(AI4-AI3)/AI3 -> 0.061176584
A5: 42370 | B5: 16.5 | C5: 0.0865 | D5: 0.0668 | E5: 0.28 | F5: 0.0028 | G5: 0.0226 | H5: 0 | I5: 0.04552 | J5: 0 | K5: 0 | L5: 0.0004 | M5: 0.02 | N5: 0.001266 | O5: 0 | P5: 0 | R5: =A5 -> 42370 | S5: =+B5 -> 16.5 | T5: =+$X$1*C5 -> 51.9 | U5: 0 | V5: =+E5 -> 0.28 | W5: =+$X$1*F5 -> 1.68 | X5: =+G5*(S5+T5+U5+AB5+Z5+W5+AE5+AF5+AC5) -> 2.2236502 | Y5: =+H5 -> 0 | Z5: =+$X$1*I5 -> 27.312 | AA5: =+$X$1*J5 -> 0 | AB5: =+K5*(S5+T5+U5) -> 0 | AC5: =+$X$1*L5 -> 0.24 | AD5: =+M5*(S5+T5+U5+W5+Z5+AB5+AC5+AE5+X5) -> 2.012305 | AE5: =+$X$1*N5 -> 0.7596 | AF5: =+$X$1*O5 -> 0 | AG5: =+P5*(S5+T5+U5+W5+Z5+AB5+AC5+AE5+X5) -> 0 | AI5: =SUM(S5:AH5) -> 102.90756 | AJ5: =+(AI5-AI4)/AI4 -> 0.0041893794 | AK5: 246.643 | AL5: =+(AK5-#REF!)/#REF! -> #REF!
A6: 42401 | B6: 16.5 | C6: 0.0865 | D6: 0.0668 | E6: 0.28 | F6: 0.0028 | G6: 0.0254 | H6: 0 | I6: 0.04552 | J6: 0 | K6: 0 | L6: 0.0004 | M6: 0.02 | N6: 0.001266 | O6: 0 | P6: 0 | R6: =A6 -> 42401 | S6: =+B6 -> 16.5 | T6: =+$X$1*C6 -> 51.9 | U6: 0 | V6: =+E6 -> 0.28 | W6: =+$X$1*F6 -> 1.68 | X6: =+G6*(S6+T6+U6+AB6+Z6+W6+AE6+AF6+AC6) -> 2.4991466 | Y6: =+H6 -> 0 | Z6: =+$X$1*I6 -> 27.312 | AA6: =+$X$1*J6 -> 0 | AB6: =+K6*(S6+T6+U6) -> 0 | AC6: =+$X$1*L6 -> 0.24 | AD6: =+M6*(S6+T6+U6+W6+Z6+AB6+AC6+AE6+X6) -> 2.0178149 | AE6: =+$X$1*N6 -> 0.7596 | AF6: =+$X$1*O6 -> 0 | AG6: =+P6*(S6+T6+U6+W6+Z6+AB6+AC6+AE6+X6) -> 0 | AI6: =SUM(S6:AH6) -> 103.18856 | AJ6: =+(AI6-AI5)/AI5 -> 0.0027306684
A7: 42461 | B7: 16.5 | C7: 0.0865 | D7: 0.0668 | E7: 0.28 | F7: 0.0028 | G7: 0.0254 | H7: 0 | I7: 0.04552 | J7: 0 | K7: 0 | L7: 0.0004 | M7: 0.02 | N7: 0.001266 | O7: 0 | P7: 0 | R7: =A7 -> 42461 | S7: =+B7 -> 16.5 | T7: =+$X$1*C7 -> 51.9 | U7: 0 | V7: =+E7 -> 0.28 | W7: =+$X$1*F7 -> 1.68 | X7: =+G7*(S7+T7+U7+AB7+Z7+W7+AE7+AF7+AC7) -> 2.4991466 | Y7: =+H7 -> 0 | Z7: =+$X$1*I7 -> 27.312 | AA7: =+$X$1*J7 -> 0 | AB7: =+K7*(S7+T7+U7) -> 0 | AC7: =+$X$1*L7 -> 0.24 | AD7: =+M7*(S7+T7+U7+W7+Z7+AB7+AC7+AE7+X7) -> 2.0178149 | AE7: =+$X$1*N7 -> 0.7596 | AF7: =+$X$1*O7 -> 0 | AG7: =+P7*(S7+T7+U7+W7+Z7+AB7+AC7+AE7+X7) -> 0 | AI7: =SUM(S7:AH7) -> 103.18856 | AJ7: =+(AI7-AI6)/AI6 -> 0
A8: 42552 | B8: 16.5 | C8: 0.0865 | D8: 0.0668 | E8: 0.28 | F8: 0.00323 | G8: 0.0318 | H8: 0 | I8: 0.0362 | J8: 0 | K8: 0 | L8: 0.0004 | M8: 0.02 | N8: 0.001266 | O8: 0 | P8: 0 | R8: =A8 -> 42552 | S8: =+B8 -> 16.5 | T8: =+$X$1*C8 -> 51.9 | U8: 0 | V8: =+E8 -> 0.28 | W8: =+$X$1*F8 -> 1.938 | X8: =+G8*(S8+T8+U8+AB8+Z8+W8+AE8+AF8+AC8) -> 2.9592317 | Y8: =+H8 -> 0 | Z8: =+$X$1*I8 -> 21.72 | AA8: =+$X$1*J8 -> 0 | AB8: =+K8*(S8+T8+U8) -> 0 | AC8: =+$X$1*L8 -> 0.24 | AD8: =+M8*(S8+T8+U8+W8+Z8+AB8+AC8+AE8+X8) -> 1.9203366 | AE8: =+$X$1*N8 -> 0.7596 | AF8: =+$X$1*O8 -> 0 | AG8: =+P8*(S8+T8+U8+W8+Z8+AB8+AC8+AE8+X8) -> 0 | AI8: =SUM(S8:AH8) -> 98.217168 | AJ8: =+(AI8-AI7)/AI7 -> -0.048177755
A9: 42644 | B9: 16.5 | C9: 0.0865 | D9: 0.0668 | E9: 0.28 | F9: 0.00323 | G9: 0.0318 | H9: 0 | I9: 0.04019 | J9: 0 | K9: 0 | L9: 0.0004 | M9: 0.02 | N9: 0.001266 | O9: 0 | P9: 0 | R9: =A9 -> 42644 | S9: =+B9 -> 16.5 | T9: =+$X$1*C9 -> 51.9 | U9: 0 | V9: =+E9 -> 0.28 | W9: =+$X$1*F9 -> 1.938 | X9: =+G9*(S9+T9+U9+AB9+Z9+W9+AE9+AF9+AC9) -> 3.0353609 | Y9: =+H9 -> 0 | Z9: =+$X$1*I9 -> 24.114 | AA9: =+$X$1*J9 -> 0 | AB9: =+K9*(S9+T9+U9) -> 0 | AC9: =+$X$1*L9 -> 0.24 | AD9: =+M9*(S9+T9+U9+W9+Z9+AB9+AC9+AE9+X9) -> 1.9697392 | AE9: =+$X$1*N9 -> 0.7596 | AF9: =+$X$1*O9 -> 0 | AG9: =+P9*(S9+T9+U9+W9+Z9+AB9+AC9+AE9+X9) -> 0 | AI9: =SUM(S9:AH9) -> 100.7367 | AJ9: =+(AI9-AI8)/AI8 -> 0.025652662
A10: 42736 | B10: 16.5 | C10: 0.0865 | D10: 0.0668 | E10: 0.28 | F10: 0 | G10: 0.0318 | H10: 0 | I10: 0.03335 | J10: 0 | K10: 0.023552 | L10: 0.00057 | M10: 0.02 | N10: 0.001266 | O10: 0 | P10: 0 | R10: =A10 -> 42736 | S10: =+B10 -> 16.5 | T10: =+$X$1*C10 -> 51.9 | U10: 0 | V10: =+E10 -> 0.28 | W10: =+$X$1*F10 -> 0 | X10: =+G10*(S10+T10+U10+AB10+Z10+W10+AE10+AF10+AC10) -> 2.8976973 | Y10: =+H10 -> 0 | Z10: =+$X$1*I10 -> 20.01 | AA10: =+$X$1*J10 -> 0 | AB10: =+K10*(S10+T10+U10) -> 1.6109568 | AC10: =+$X$1*L10 -> 0.342 | AD10: =+M10*(S10+T10+U10+W10+Z10+AB10+AC10+AE10+X10) -> 1.8804051 | AE10: =+$X$1*N10 -> 0.7596 | AF10: =+$X$1*O10 -> 0 | AG10: =+P10*(S10+T10+U10+W10+Z10+AB10+AC10+AE10+X10) -> 0 | AI10: =SUM(S10:AH10) -> 96.180659 | AJ10: =+(AI10-AI9)/AI9 -> -0.04522722 | AK10: 254.995 | AL10: =+(AK10-AK5)/AK5 -> 0.033862708
A11: 42767 | B11: 16.5 | C11: 0.0865 | D11: 0.0668 | E11: 0.28 | F11: 0 | G11: 0.0318 | H11: 0 | I11: 0.03335 | J11: 0 | K11: 0.023552 | L11: 0.00057 | M11: 0.02 | N11: 0.001266 | O11: 0 | P11: 0 | R11: =A11 -> 42767 | S11: =+B11 -> 16.5 | T11: =+$X$1*C11 -> 51.9 | U11: 0 | V11: =+E11 -> 0.28 | W11: =+$X$1*F11 -> 0 | X11: =+G11*(S11+T11+U11+AB11+Z11+W11+AE11+AF11+AC11) -> 2.8976973 | Y11: =+H11 -> 0 | Z11: =+$X$1*I11 -> 20.01 | AA11: =+$X$1*J11 -> 0 | AB11: =+K11*(S11+T11+U11) -> 1.6109568 | AC11: =+$X$1*L11 -> 0.342 | AD11: =+M11*(S11+T11+U11+W11+Z11+AB11+AC11+AE11+X11) -> 1.8804051 | AE11: =+$X$1*N11 -> 0.7596 | AF11: =+$X$1*O11 -> 0 | AG11: =+P11*(S11+T11+U11+W11+Z11+AB11+AC11+AE11+X11) -> 0 | AI11: =SUM(S11:AH11) -> 96.180659 | AJ11: =+(AI11-AI10)/AI10 -> 0
A12: 42826 | B12: 16.5 | C12: 0.0865 | D12: 0.0668 | E12: 0.28 | F12: 0 | G12: 0.0318 | H12: 0 | I12: 0.03997 | J12: 0 | K12: 0.023552 | L12: 0.00057 | M12: 0.02 | N12: 0.001266 | O12: 0 | P12: 0 | R12: =A12 -> 42826 | S12: =+B12 -> 16.5 | T12: =+$X$1*C12 -> 51.9 | U12: 0 | V12: =+E12 -> 0.28 | W12: =+$X$1*F12 -> 0 | X12: =+G12*(S12+T12+U12+AB12+Z12+W12+AE12+AF12+AC12) -> 3.0240069 | Y12: =+H12 -> 0 | Z12: =+$X$1*I12 -> 23.982 | AA12: =+$X$1*J12 -> 0 | AB12: =+K12*(S12+T12+U12) -> 1.6109568 | AC12: =+$X$1*L12 -> 0.342 | AD12: =+M12*(S12+T12+U12+W12+Z12+AB12+AC12+AE12+X12) -> 1.9623713 | AE12: =+$X$1*N12 -> 0.7596 | AF12: =+$X$1*O12 -> 0 | AG12: =+P12*(S12+T12+U12+W12+Z12+AB12+AC12+AE12+X12) -> 0 | AI12: =SUM(S12:AH12) -> 100.36093 | AJ12: =+(AI12-AI11)/AI11 -> 0.043462748
A13: 42917 | B13: 16.5 | C13: 0.0865 | D13: 0.0668 | E13: 0.28 | F13: 0.00373 | G13: 0.0262 | H13: 0 | I13: 0.03143 | J13: 0 | K13: 0.023552 | L13: 0.00057 | M13: 0.02 | N13: 0.001722 | O13: 0 | P13: 0 | R13: =A13 -> 42917 | S13: =+B13 -> 16.5 | T13: =+$X$1*C13 -> 51.9 | U13: 0 | V13: =+E13 -> 0.28 | W13: =+$X$1*F13 -> 2.238 | X13: =+G13*(S13+T13+U13+AB13+Z13+W13+AE13+AF13+AC13) -> 2.4230325 | Y13: =+H13 -> 0 | Z13: =+$X$1*I13 -> 18.858 | AA13: =+$X$1*J13 -> 0 | AB13: =+K13*(S13+T13+U13) -> 1.6109568 | AC13: =+$X$1*L13 -> 0.342 | AD13: =+M13*(S13+T13+U13+W13+Z13+AB13+AC13+AE13+X13) -> 1.8981038 | AE13: =+$X$1*N13 -> 1.0332 | AF13: =+$X$1*O13 -> 0 | AG13: =+P13*(S13+T13+U13+W13+Z13+AB13+AC13+AE13+X13) -> 0 | AI13: =SUM(S13:AH13) -> 97.083293 | AJ13: =+(AI13-AI12)/AI12 -> -0.032658543
A14: 43009 | B14: 16.5 | C14: 0.0865 | D14: 0.0668 | E14: 0.31 | F14: 0.00373 | G14: 0.0285 | H14: 0 | I14: 0.04052 | J14: 0 | K14: 0.023552 | L14: 0.00057 | M14: 0.02 | N14: 0.001722 | O14: 0 | P14: 0 | R14: =A14 -> 43009 | S14: =+B14 -> 16.5 | T14: =+$X$1*C14 -> 51.9 | U14: 0 | V14: =+E14 -> 0.31 | W14: =+$X$1*F14 -> 2.238 | X14: =+G14*(S14+T14+U14+AB14+Z14+W14+AE14+AF14+AC14) -> 2.7911805 | Y14: =+H14 -> 0 | Z14: =+$X$1*I14 -> 24.312 | AA14: =+$X$1*J14 -> 0 | AB14: =+K14*(S14+T14+U14) -> 1.6109568 | AC14: =+$X$1*L14 -> 0.342 | AD14: =+M14*(S14+T14+U14+W14+Z14+AB14+AC14+AE14+X14) -> 2.0145467 | AE14: =+$X$1*N14 -> 1.0332 | AF14: =+$X$1*O14 -> 0 | AG14: =+P14*(S14+T14+U14+W14+Z14+AB14+AC14+AE14+X14) -> 0 | AI14: =SUM(S14:AH14) -> 103.05188 | AJ14: =+(AI14-AI13)/AI13 -> 0.061479074
A15: 43101 | B15: 16.5 | C15: 0.0865 | D15: 0.0668 | E15: 0.31 | F15: 0.00376 | G15: 0.0285 | H15: 0 | I15: 0.0408 | J15: 0 | K15: 0.023552 | L15: 0.00068 | M15: 0.02 | N15: 0.003052 | O15: 0 | P15: 0 | R15: =A15 -> 43101 | S15: =+B15 -> 16.5 | T15: =+$X$1*C15 -> 51.9 | U15: 0 | V15: =+E15 -> 0.31 | W15: =+$X$1*F15 -> 2.256 | X15: =+G15*(S15+T15+U15+AB15+Z15+W15+AE15+AF15+AC15) -> 2.8211055 | Y15: =+H15 -> 0 | Z15: =+$X$1*I15 -> 24.48 | AA15: =+$X$1*J15 -> 0 | AB15: =+K15*(S15+T15+U15) -> 1.6109568 | AC15: =+$X$1*L15 -> 0.408 | AD15: =+M15*(S15+T15+U15+W15+Z15+AB15+AC15+AE15+X15) -> 2.0361452 | AE15: =+$X$1*N15 -> 1.8312 | AF15: =+$X$1*O15 -> 0 | AG15: =+P15*(S15+T15+U15+W15+Z15+AB15+AC15+AE15+X15) -> 0 | AI15: =SUM(S15:AH15) -> 104.15341 | AJ15: =+(AI15-AI14)/AI14 -> 0.010689019 | AK15: 261.958 | AL15: =+(AK15-AK10)/AK10 -> 0.027306418
A16: 43191 | B16: 16.5 | C16: 0.0865 | D16: 0.0668 | E16: 0.31 | F16: 0.00376 | G16: 0.0285 | H16: 0 | I16: 0.03484 | J16: 0 | K16: 0.023552 | L16: 0.00068 | M16: 0.02 | N16: 0.003052 | O16: 0 | P16: 0 | R16: =A16 -> 43191 | S16: =+B16 -> 16.5 | T16: =+$X$1*C16 -> 51.9 | U16: 0 | V16: =+E16 -> 0.31 | W16: =+$X$1*F16 -> 2.256 | X16: =+G16*(S16+T16+U16+AB16+Z16+W16+AE16+AF16+AC16) -> 2.7191895 | Y16: =+H16 -> 0 | Z16: =+$X$1*I16 -> 20.904 | AA16: =+$X$1*J16 -> 0 | AB16: =+K16*(S16+T16+U16) -> 1.6109568 | AC16: =+$X$1*L16 -> 0.408 | AD16: =+M16*(S16+T16+U16+W16+Z16+AB16+AC16+AE16+X16) -> 1.9625869 | AE16: =+$X$1*N16 -> 1.8312 | AF16: =+$X$1*O16 -> 0 | AG16: =+P16*(S16+T16+U16+W16+Z16+AB16+AC16+AE16+X16) -> 0 | AI16: =SUM(S16:AH16) -> 100.40193 | AJ16: =+(AI16-AI15)/AI15 -> -0.036018738
A17: 43282 | B17: 8.77 | C17: 0.09999 | D17: 0.13004 | E17: 0.31 | F17: 0.00376 | G17: 0.0252 | H17: 0 | I17: 0.02991 | J17: 0 | K17: =+K18 -> -0.037523 | L17: 0.00068 | M17: 0.02 | N17: 0.003052 | O17: 0 | P17: 0 | R17: =A17 -> 43282 | S17: =+B17 -> 8.77 | T17: =500*C17 -> 49.995 | U17: =100*D17 -> 13.004 | V17: =+E17 -> 0.31 | W17: =+$X$1*F17 -> 2.256 | X17: =+G17*(S17+T17+U17+AB17+Z17+W17+AE17+AF17+AC17) -> 2.3062337 | Y17: =+H17 -> 0 | Z17: =+$X$1*I17 -> 17.946 | AA17: =+$X$1*J17 -> 0 | AB17: =+K17*(S17+T17+U17) -> -2.6929882 | AC17: =+$X$1*L17 -> 0.408 | AD17: =+M17*(S17+T17+U17+W17+Z17+AB17+AC17+AE17+X17) -> 1.8764689 | AE17: =+$X$1*N17 -> 1.8312 | AF17: =+$X$1*O17 -> 0 | AG17: =+P17*(S17+T17+U17+W17+Z17+AB17+AC17+AE17+X17) -> 0 | AI17: =SUM(S17:AH17) -> 96.009914 | AJ17: =+(AI17-AI16)/AI16 -> -0.043744364
A18: 43343 | B18: 8.77 | C18: 0.09999 | D18: 0.13004 | E18: 0.31 | F18: 0.00444 | G18: 0.0252 | H18: 0 | I18: 0.02991 | J18: 0 | K18: =+K19 -> -0.037523 | L18: 0.00068 | M18: 0.02 | N18: 0.003052 | O18: 0 | P18: 0 | R18: =A18 -> 43343 | S18: =+B18 -> 8.77 | T18: =500*C18 -> 49.995 | U18: =100*D18 -> 13.004 | V18: =+E18 -> 0.31 | W18: =+$X$1*F18 -> 2.664 | X18: =+G18*(S18+T18+U18+AB18+Z18+W18+AE18+AF18+AC18) -> 2.3165153 | Y18: =+H18 -> 0 | Z18: =+$X$1*I18 -> 17.946 | AA18: =+$X$1*J18 -> 0 | AB18: =+K18*(S18+T18+U18) -> -2.6929882 | AC18: =+$X$1*L18 -> 0.408 | AD18: =+M18*(S18+T18+U18+W18+Z18+AB18+AC18+AE18+X18) -> 1.8848345 | AE18: =+$X$1*N18 -> 1.8312 | AF18: =+$X$1*O18 -> 0 | AG18: =+P18*(S18+T18+U18+W18+Z18+AB18+AC18+AE18+X18) -> 0 | AI18: =SUM(S18:AH18) -> 96.436562 | AJ18: =+(AI18-AI17)/AI17 -> 0.0044437831
A19: 43374 | B19: 8.77 | C19: 0.09999 | D19: 0.13004 | E19: 0.31 | F19: 0.00444 | G19: 0.0252 | H19: 0 | I19: 0.03426 | J19: 0 | K19: =+K20 -> -0.037523 | L19: 0.00068 | M19: 0.02 | N19: 0.003052 | O19: 0 | P19: 0 | R19: =A19 -> 43374 | S19: =+B19 -> 8.77 | T19: =500*C19 -> 49.995 | U19: =100*D19 -> 13.004 | V19: =+E19 -> 0.31 | W19: =+$X$1*F19 -> 2.664 | X19: =+G19*(S19+T19+U19+AB19+Z19+W19+AE19+AF19+AC19) -> 2.3822873 | Y19: =+H19 -> 0 | Z19: =+$X$1*I19 -> 20.556 | AA19: =+$X$1*J19 -> 0 | AB19: =+K19*(S19+T19+U19) -> -2.6929882 | AC19: =+$X$1*L19 -> 0.408 | AD19: =+M19*(S19+T19+U19+W19+Z19+AB19+AC19+AE19+X19) -> 1.93835 | AE19: =+$X$1*N19 -> 1.8312 | AF19: =+$X$1*O19 -> 0 | AG19: =+P19*(S19+T19+U19+W19+Z19+AB19+AC19+AE19+X19) -> 0 | AI19: =SUM(S19:AH19) -> 99.165849 | AJ19: =+(AI19-AI18)/AI18 -> 0.028301376
A20: 43466 | B20: 8.77 | C20: 0.09999 | D20: 0.13004 | E20: 0.31 | F20: 0.00444 | G20: 0.0238 | H20: 0 | I20: 0.03772 | J20: 0 | K20: =+K21 -> -0.037523 | L20: 0.00077 | M20: 0.02 | N20: 0.002069 | O20: 0 | P20: 0 | R20: =A20 -> 43466 | S20: =+B20 -> 8.77 | T20: =500*C20 -> 49.995 | U20: =100*D20 -> 13.004 | V20: =+E20 -> 0.31 | W20: =+$X$1*F20 -> 2.664 | X20: =+G20*(S20+T20+U20+AB20+Z20+W20+AE20+AF20+AC20) -> 2.2865948 | Y20: =+H20 -> 0 | Z20: =+$X$1*I20 -> 22.632 | AA20: =+$X$1*J20 -> 0 | AB20: =+K20*(S20+T20+U20) -> -2.6929882 | AC20: =+$X$1*L20 -> 0.462 | AD20: =+M20*(S20+T20+U20+W20+Z20+AB20+AC20+AE20+X20) -> 1.9672401 | AE20: =+$X$1*N20 -> 1.2414 | AF20: =+$X$1*O20 -> 0 | AG20: =+P20*(S20+T20+U20+W20+Z20+AB20+AC20+AE20+X20) -> 0 | AI20: =SUM(S20:AH20) -> 100.63925 | AJ20: =+(AI20-AI19)/AI19 -> 0.014857914 | AK20: 266.999 | AL20: =+(AK20-AK15)/AK15 -> 0.019243543
A21: 43556 | B21: 8.77 | C21: 0.09999 | D21: 0.13004 | E21: 0.31 | F21: 0.00444 | G21: 0.0238 | H21: 0 | I21: 0.0381 | J21: 0 | K21: =+K22 -> -0.037523 | L21: 0.00077 | M21: 0.02 | N21: 0.002069 | O21: 0 | P21: 0 | R21: =A21 -> 43556 | S21: =+B21 -> 8.77 | T21: =500*C21 -> 49.995 | U21: =100*D21 -> 13.004 | V21: =+E21 -> 0.31 | W21: =+$X$1*F21 -> 2.664 | X21: =+G21*(S21+T21+U21+AB21+Z21+W21+AE21+AF21+AC21) -> 2.2920212 | Y21: =+H21 -> 0 | Z21: =+$X$1*I21 -> 22.86 | AA21: =+$X$1*J21 -> 0 | AB21: =+K21*(S21+T21+U21) -> -2.6929882 | AC21: =+$X$1*L21 -> 0.462 | AD21: =+M21*(S21+T21+U21+W21+Z21+AB21+AC21+AE21+X21) -> 1.9719087 | AE21: =+$X$1*N21 -> 1.2414 | AF21: =+$X$1*O21 -> 0 | AG21: =+P21*(S21+T21+U21+W21+Z21+AB21+AC21+AE21+X21) -> 0 | AI21: =SUM(S21:AH21) -> 100.87734 | AJ21: =+(AI21-AI20)/AI20 -> 0.0023658258
A22: 43647 | B22: 8.77 | C22: 0.09999 | D22: 0.13004 | E22: 0.31 | F22: 0.00444 | G22: 0.0177 | H22: 0 | I22: 0.04099 | J22: 0 | K22: =+K23 -> -0.037523 | L22: 0.00077 | M22: 0.02 | N22: 0.002069 | O22: 0 | P22: 0 | R22: =A22 -> 43647 | S22: =+B22 -> 8.77 | T22: =500*C22 -> 49.995 | U22: =100*D22 -> 13.004 | V22: =+E22 -> 0.31 | W22: =+$X$1*F22 -> 2.664 | X22: =+G22*(S22+T22+U22+AB22+Z22+W22+AE22+AF22+AC22) -> 1.7352622 | Y22: =+H22 -> 0 | Z22: =+$X$1*I22 -> 24.594 | AA22: =+$X$1*J22 -> 0 | AB22: =+K22*(S22+T22+U22) -> -2.6929882 | AC22: =+$X$1*L22 -> 0.462 | AD22: =+M22*(S22+T22+U22+W22+Z22+AB22+AC22+AE22+X22) -> 1.9954535 | AE22: =+$X$1*N22 -> 1.2414 | AF22: =+$X$1*O22 -> 0 | AG22: =+P22*(S22+T22+U22+W22+Z22+AB22+AC22+AE22+X22) -> 0 | AI22: =SUM(S22:AH22) -> 102.07813 | AJ22: =+(AI22-AI21)/AI21 -> 0.011903424
A23: 43711 | B23: 8.77 | C23: 0.09999 | D23: 0.13004 | E23: 0.31 | F23: 0.00444 | G23: 0.0177 | H23: 0 | I23: 0.04099 | J23: 0 | K23: -0.037523 | L23: 0.00077 | M23: 0.02 | N23: 0.002069 | O23: 0 | P23: 0 | R23: =A23 -> 43711 | S23: =+B23 -> 8.77 | T23: =500*C23 -> 49.995 | U23: =100*D23 -> 13.004 | V23: =+E23 -> 0.31 | W23: =+$X$1*F23 -> 2.664 | X23: =+G23*(S23+T23+U23+AB23+Z23+W23+AE23+AF23+AC23) -> 1.7352622 | Y23: =+H23 -> 0 | Z23: =+$X$1*I23 -> 24.594 | AA23: =+$X$1*J23 -> 0 | AB23: =+K23*(S23+T23+U23) -> -2.6929882 | AC23: =+$X$1*L23 -> 0.462 | AD23: =+M23*(S23+T23+U23+W23+Z23+AB23+AC23+AE23+X23) -> 1.9954535 | AE23: =+$X$1*N23 -> 1.2414 | AF23: =+$X$1*O23 -> 0 | AG23: =+P23*(S23+T23+U23+W23+Z23+AB23+AC23+AE23+X23) -> 0 | AI23: =SUM(S23:AH23) -> 102.07813 | AJ23: =+(AI23-AI22)/AI22 -> 0
A24: 43739 | B24: 8.77 | C24: 0.09999 | D24: 0.13004 | E24: 0.31 | F24: 0.00444 | G24: 0.0177 | H24: 0 | I24: 0.03913 | J24: 0 | K24: -0.037523 | L24: 0.00077 | M24: 0.02 | N24: 0.002069 | O24: 0 | P24: 0 | R24: =A24 -> 43739 | S24: =+B24 -> 8.77 | T24: =500*C24 -> 49.995 | U24: =100*D24 -> 13.004 | V24: =+E24 -> 0.31 | W24: =+$X$1*F24 -> 2.664 | X24: =+G24*(S24+T24+U24+AB24+Z24+W24+AE24+AF24+AC24) -> 1.715509 | Y24: =+H24 -> 0 | Z24: =+$X$1*I24 -> 23.478 | AA24: =+$X$1*J24 -> 0 | AB24: =+K24*(S24+T24+U24) -> -2.6929882 | AC24: =+$X$1*L24 -> 0.462 | AD24: =+M24*(S24+T24+U24+W24+Z24+AB24+AC24+AE24+X24) -> 1.9727384 | AE24: =+$X$1*N24 -> 1.2414 | AF24: =+$X$1*O24 -> 0 | AG24: =+P24*(S24+T24+U24+W24+Z24+AB24+AC24+AE24+X24) -> 0 | AI24: =SUM(S24:AH24) -> 100.91966 | AJ24: =+(AI24-AI23)/AI23 -> -0.011348839
A25: 43831 | B25: 8.77 | C25: 0.09999 | D25: 0.13004 | E25: 0.31 | F25: 0.00444 | G25: 0.0182 | H25: 0 | I25: 0.03674 | J25: 0 | K25: -0.037523 | L25: 0.00082 | M25: 0.02 | N25: 0.00286 | O25: 0 | P25: 0 | R25: =A25 -> 43831 | S25: =+B25 -> 8.77 | T25: =500*C25 -> 49.995 | U25: =100*D25 -> 13.004 | V25: =+E25 -> 0.31 | W25: =+$X$1*F25 -> 2.664 | X25: =+G25*(S25+T25+U25+AB25+Z25+W25+AE25+AF25+AC25) -> 1.7470546 | Y25: =+H25 -> 0 | Z25: =+$X$1*I25 -> 22.044 | AA25: =+$X$1*J25 -> 0 | AB25: =+K25*(S25+T25+U25) -> -2.6929882 | AC25: =+$X$1*L25 -> 0.492 | AD25: =+M25*(S25+T25+U25+W25+Z25+AB25+AC25+AE25+X25) -> 1.9547813 | AE25: =+$X$1*N25 -> 1.716 | AF25: =+$X$1*O25 -> 0 | AG25: =+P25*(S25+T25+U25+W25+Z25+AB25+AC25+AE25+X25) -> 0 | AI25: =SUM(S25:AH25) -> 100.00385 | AJ25: =+(AI25-AI24)/AI24 -> -0.0090746587 | AK25: 272.207 | AL25: =+(AK25-AK20)/AK20 -> 0.019505691
A26: 43922 | B26: 8.77 | C26: 0.09999 | D26: 0.13004 | E26: 0.31 | F26: 0.00444 | G26: 0.0182 | H26: 0 | I26: 0.03714 | J26: 0 | K26: -0.037523 | L26: 0.00082 | M26: 0.02 | N26: 0.00286 | O26: 0 | P26: 0 | R26: =A26 -> 43922 | S26: =+B26 -> 8.77 | T26: =500*C26 -> 49.995 | U26: =100*D26 -> 13.004 | V26: =+E26 -> 0.31 | W26: =+$X$1*F26 -> 2.664 | X26: =+G26*(S26+T26+U26+AB26+Z26+W26+AE26+AF26+AC26) -> 1.7514226 | Y26: =+H26 -> 0 | Z26: =+$X$1*I26 -> 22.284 | AA26: =+$X$1*J26 -> 0 | AB26: =+K26*(S26+T26+U26) -> -2.6929882 | AC26: =+$X$1*L26 -> 0.492 | AD26: =+M26*(S26+T26+U26+W26+Z26+AB26+AC26+AE26+X26) -> 1.9596687 | AE26: =+$X$1*N26 -> 1.716 | AF26: =+$X$1*O26 -> 0 | AG26: =+P26*(S26+T26+U26+W26+Z26+AB26+AC26+AE26+X26) -> 0 | AI26: =SUM(S26:AH26) -> 100.2531 | AJ26: =+(AI26-AI25)/AI25 -> 0.0024924577
A27: 44013 | B27: 8.77 | C27: 0.09999 | D27: 0.13004 | E27: 0.31 | F27: 0.00444 | G27: 0.0198 | H27: 0 | I27: 0.03452 | J27: 0 | K27: -0.037523 | L27: 0.00082 | M27: 0.02 | N27: 0.00286 | O27: 0 | P27: 0 | R27: =A27 -> 44013 | S27: =+B27 -> 8.77 | T27: =500*C27 -> 49.995 | U27: =100*D27 -> 13.004 | V27: =+E27 -> 0.31 | W27: =+$X$1*F27 -> 2.664 | X27: =+G27*(S27+T27+U27+AB27+Z27+W27+AE27+AF27+AC27) -> 1.8742682 | Y27: =+H27 -> 0 | Z27: =+$X$1*I27 -> 20.712 | AA27: =+$X$1*J27 -> 0 | AB27: =+K27*(S27+T27+U27) -> -2.6929882 | AC27: =+$X$1*L27 -> 0.492 | AD27: =+M27*(S27+T27+U27+W27+Z27+AB27+AC27+AE27+X27) -> 1.9306856 | AE27: =+$X$1*N27 -> 1.716 | AF27: =+$X$1*O27 -> 0 | AG27: =+P27*(S27+T27+U27+W27+Z27+AB27+AC27+AE27+X27) -> 0 | AI27: =SUM(S27:AH27) -> 98.774966 | AJ27: =+(AI27-AI26)/AI26 -> -0.014744057
A28: 44105 | B28: 8.77 | C28: 0.09999 | D28: 0.13004 | E28: 0.31 | F28: 0.00444 | G28: 0.0198 | H28: 0 | I28: 0.03154 | J28: 0 | K28: -0.037523 | L28: 0.00082 | M28: 0.02 | N28: 0.00286 | O28: 0 | P28: 0 | R28: =A28 -> 44105 | S28: =+B28 -> 8.77 | T28: =500*C28 -> 49.995 | U28: =100*D28 -> 13.004 | V28: =+E28 -> 0.31 | W28: =+$X$1*F28 -> 2.664 | X28: =+G28*(S28+T28+U28+AB28+Z28+W28+AE28+AF28+AC28) -> 1.8388658 | Y28: =+H28 -> 0 | Z28: =+$X$1*I28 -> 18.924 | AA28: =+$X$1*J28 -> 0 | AB28: =+K28*(S28+T28+U28) -> -2.6929882 | AC28: =+$X$1*L28 -> 0.492 | AD28: =+M28*(S28+T28+U28+W28+Z28+AB28+AC28+AE28+X28) -> 1.8942176 | AE28: =+$X$1*N28 -> 1.716 | AF28: =+$X$1*O28 -> 0 | AG28: =+P28*(S28+T28+U28+W28+Z28+AB28+AC28+AE28+X28) -> 0 | AI28: =SUM(S28:AH28) -> 96.915095 | AJ28: =+(AI28-AI27)/AI27 -> -0.018829371
A29: 44197 | B29: 8.77 | C29: 0.09999 | D29: 0.13004 | E29: 0.31 | F29: 0.00444 | G29: 0.0195 | H29: 0 | I29: 0.03501 | J29: 0 | K29: -0.037523 | L29: 0.00108 | M29: 0.02 | N29: 0.003655 | O29: 0 | P29: 0 | R29: =A29 -> 44197 | S29: =+B29 -> 8.77 | T29: =500*C29 -> 49.995 | U29: =100*D29 -> 13.004 | V29: =+E29 -> 0.31 | W29: =+$X$1*F29 -> 2.664 | X29: =+G29*(S29+T29+U29+AB29+Z29+W29+AE29+AF29+AC29) -> 1.8639467 | Y29: =+H29 -> 0 | Z29: =+$X$1*I29 -> 21.006 | AA29: =+$X$1*J29 -> 0 | AB29: =+K29*(S29+T29+U29) -> -2.6929882 | AC29: =+$X$1*L29 -> 0.648 | AD29: =+M29*(S29+T29+U29+W29+Z29+AB29+AC29+AE29+X29) -> 1.9490192 | AE29: =+$X$1*N29 -> 2.193 | AF29: =+$X$1*O29 -> 0 | AG29: =+P29*(S29+T29+U29+W29+Z29+AB29+AC29+AE29+X29) -> 0 | AI29: =SUM(S29:AH29) -> 99.709978 | AJ29: =+(AI29-AI28)/AI28 -> 0.028838464 | AK29: 281.845 | AL29: =+(AK29-AK25)/AK25 -> 0.035406878
A30: 44209 | B30: 8.77 | C30: 0.09999 | D30: 0.13004 | E30: 0.51 | F30: 0.00444 | G30: 0.0195 | H30: 0 | I30: 0.03501 | J30: 0 | K30: -0.037523 | L30: 0.00108 | M30: 0.02 | N30: 0.003655 | O30: 0 | P30: 0 | R30: =A30 -> 44209 | S30: =+B30 -> 8.77 | T30: =500*C30 -> 49.995 | U30: =100*D30 -> 13.004 | V30: =+E30 -> 0.51 | W30: =+$X$1*F30 -> 2.664 | X30: =+G30*(S30+T30+U30+AB30+Z30+W30+AE30+AF30+AC30) -> 1.8639467 | Y30: =+H30 -> 0 | Z30: =+$X$1*I30 -> 21.006 | AA30: =+$X$1*J30 -> 0 | AB30: =+K30*(S30+T30+U30) -> -2.6929882 | AC30: =+$X$1*L30 -> 0.648 | AD30: =+M30*(S30+T30+U30+W30+Z30+AB30+AC30+AE30+X30) -> 1.9490192 | AE30: =+$X$1*N30 -> 2.193 | AF30: =+$X$1*O30 -> 0 | AG30: =+P30*(S30+T30+U30+W30+Z30+AB30+AC30+AE30+X30) -> 0 | AI30: =SUM(S30:AH30) -> 99.909978 | AJ30: =+(AI30-AI29)/AI29 -> 0.0020058173
A31: 44265 | B31: 8.77 | C31: 0.09999 | D31: 0.13004 | E31: 0.51 | F31: 0.00444 | G31: 0.0195 | H31: 0 | I31: 0.03501 | J31: 0.00579 | K31: -0.037523 | L31: 0.00108 | M31: 0.02 | N31: 0.003655 | O31: 0 | P31: 0 | R31: =A31 -> 44265 | S31: =+B31 -> 8.77 | T31: =500*C31 -> 49.995 | U31: =100*D31 -> 13.004 | V31: =+E31 -> 0.51 | W31: =+$X$1*F31 -> 2.664 | X31: =+G31*(S31+T31+U31+AB31+Z31+W31+AE31+AF31+AC31) -> 1.8639467 | Y31: =+H31 -> 0 | Z31: =+$X$1*I31 -> 21.006 | AA31: =+$X$1*J31 -> 3.474 | AB31: =+K31*(S31+T31+U31) -> -2.6929882 | AC31: =+$X$1*L31 -> 0.648 | AD31: =+M31*(S31+T31+U31+W31+Z31+AB31+AC31+AE31+X31) -> 1.9490192 | AE31: =+$X$1*N31 -> 2.193 | AF31: =+$X$1*O31 -> 0 | AG31: =+P31*(S31+T31+U31+W31+Z31+AB31+AC31+AE31+X31) -> 0 | AI31: =SUM(S31:AH31) -> 103.38398 | AJ31: =+(AI31-AI30)/AI30 -> 0.034771302
A32: 44287 | B32: 8.77 | C32: 0.09999 | D32: 0.13004 | E32: 0.51 | F32: 0.00444 | G32: 0.0195 | H32: 0 | I32: 0.03555 | J32: 0.00579 | K32: -0.037523 | L32: 0.00108 | M32: 0.02 | N32: 0.003655 | O32: 0 | P32: 0 | R32: =A32 -> 44287 | S32: =+B32 -> 8.77 | T32: =500*C32 -> 49.995 | U32: =100*D32 -> 13.004 | V32: =+E32 -> 0.51 | W32: =+$X$1*F32 -> 2.664 | X32: =+G32*(S32+T32+U32+AB32+Z32+W32+AE32+AF32+AC32) -> 1.8702647 | Y32: =+H32 -> 0 | Z32: =+$X$1*I32 -> 21.33 | AA32: =+$X$1*J32 -> 3.474 | AB32: =+K32*(S32+T32+U32) -> -2.6929882 | AC32: =+$X$1*L32 -> 0.648 | AD32: =+M32*(S32+T32+U32+W32+Z32+AB32+AC32+AE32+X32) -> 1.9556255 | AE32: =+$X$1*N32 -> 2.193 | AF32: =+$X$1*O32 -> 0 | AG32: =+P32*(S32+T32+U32+W32+Z32+AB32+AC32+AE32+X32) -> 0 | AI32: =SUM(S32:AH32) -> 103.7209 | AJ32: =+(AI32-AI31)/AI31 -> 0.0032589611
A33: 44378 | B33: 8.77 | C33: 0.09999 | D33: 0.13004 | E33: 0.51 | F33: 0.00444 | G33: 0.0275 | H33: 0 | I33: 0.03854 | J33: 0.00579 | K33: -0.037523 | L33: 0.00108 | M33: 0.02 | N33: 0.003655 | O33: 0 | P33: 0 | R33: =A33 -> 44378 | S33: =+B33 -> 8.77 | T33: =500*C33 -> 49.995 | U33: =100*D33 -> 13.004 | V33: =+E33 -> 0.51 | W33: =+$X$1*F33 -> 2.664 | X33: =+G33*(S33+T33+U33+AB33+Z33+W33+AE33+AF33+AC33) -> 2.6868878 | Y33: =+H33 -> 0 | Z33: =+$X$1*I33 -> 23.124 | AA33: =+$X$1*J33 -> 3.474 | AB33: =+K33*(S33+T33+U33) -> -2.6929882 | AC33: =+$X$1*L33 -> 0.648 | AD33: =+M33*(S33+T33+U33+W33+Z33+AB33+AC33+AE33+X33) -> 2.007838 | AE33: =+$X$1*N33 -> 2.193 | AF33: =+$X$1*O33 -> 0 | AG33: =+P33*(S33+T33+U33+W33+Z33+AB33+AC33+AE33+X33) -> 0 | AI33: =SUM(S33:AH33) -> 106.38374 | AJ33: =+(AI33-AI32)/AI32 -> 0.025673085
A34: 44470 | B34: 8.77 | C34: 0.09999 | D34: 0.13004 | E34: 0.51 | F34: 0.00444 | G34: 0.0275 | H34: 0.5 | I34: 0.0472 | J34: 0.00579 | K34: -0.037523 | L34: 0.00108 | M34: 0.02 | N34: 0.003655 | O34: 0 | P34: 0 | R34: =A34 -> 44470 | S34: =+B34 -> 8.77 | T34: =500*C34 -> 49.995 | U34: =100*D34 -> 13.004 | V34: =+E34 -> 0.51 | W34: =+$X$1*F34 -> 2.664 | X34: =+G34*(S34+T34+U34+AB34+Z34+W34+AE34+AF34+AC34) -> 2.8297778 | Y34: =+H34 -> 0.5 | Z34: =+$X$1*I34 -> 28.32 | AA34: =+$X$1*J34 -> 3.474 | AB34: =+K34*(S34+T34+U34) -> -2.6929882 | AC34: =+$X$1*L34 -> 0.648 | AD34: =+M34*(S34+T34+U34+W34+Z34+AB34+AC34+AE34+X34) -> 2.1146158 | AE34: =+$X$1*N34 -> 2.193 | AF34: =+$X$1*O34 -> 0 | AG34: =+P34*(S34+T34+U34+W34+Z34+AB34+AC34+AE34+X34) -> 0 | AI34: =SUM(S34:AH34) -> 112.32941 | AJ34: =+(AI34-AI33)/AI33 -> 0.055888879
A35: 44562 | B35: 8.77 | C35: 0.09999 | D35: 0.13004 | E35: 0.51 | F35: 0.00444 | G35: 0.0275 | H35: 0.5 | I35: 0.04424 | J35: 0.00579 | K35: -0.037523 | L35: 0.00145 | M35: 0.02 | N35: 0.005072 | O35: 0 | P35: 0 | R35: =A35 -> 44562 | S35: =+B35 -> 8.77 | T35: =500*C35 -> 49.995 | U35: =100*D35 -> 13.004 | V35: =+E35 -> 0.51 | W35: =+$X$1*F35 -> 2.664 | X35: =+G35*(S35+T35+U35+AB35+Z35+W35+AE35+AF35+AC35) -> 2.8104233 | Y35: =+H35 -> 0.5 | Z35: =+$X$1*I35 -> 26.544 | AA35: =+$X$1*J35 -> 3.474 | AB35: =+K35*(S35+T35+U35) -> -2.6929882 | AC35: =+$X$1*L35 -> 0.87 | AD35: =+M35*(S35+T35+U35+W35+Z35+AB35+AC35+AE35+X35) -> 2.1001527 | AE35: =+$X$1*N35 -> 3.0432 | AF35: =+$X$1*O35 -> 0 | AG35: =+P35*(S35+T35+U35+W35+Z35+AB35+AC35+AE35+X35) -> 0 | AI35: =SUM(S35:AH35) -> 111.59179 | AJ35: =+(AI35-AI34)/AI34 -> -0.0065665583 | AK35: 304.424 | AL35: =+(AK35-AK29)/AK29 -> 0.080111409
A36: 44652 | B36: 8.77 | C36: 0.09999 | D36: 0.13004 | E36: 0.51 | F36: 0.00444 | G36: 0.0275 | H36: 0.5 | I36: 0.05101 | J36: 0.00579 | K36: -0.037523 | L36: 0.00145 | M36: 0.02 | N36: 0.005072 | O36: 0 | P36: 0 | R36: =A36 -> 44652 | S36: =+B36 -> 8.77 | T36: =500*C36 -> 49.995 | U36: =100*D36 -> 13.004 | V36: =+E36 -> 0.51 | W36: =+$X$1*F36 -> 2.664 | X36: =+G36*(S36+T36+U36+AB36+Z36+W36+AE36+AF36+AC36) -> 2.9221283 | Y36: =+H36 -> 0.5 | Z36: =+$X$1*I36 -> 30.606 | AA36: =+$X$1*J36 -> 3.474 | AB36: =+K36*(S36+T36+U36) -> -2.6929882 | AC36: =+$X$1*L36 -> 0.87 | AD36: =+M36*(S36+T36+U36+W36+Z36+AB36+AC36+AE36+X36) -> 2.1836268 | AE36: =+$X$1*N36 -> 3.0432 | AF36: =+$X$1*O36 -> 0 | AG36: =+P36*(S36+T36+U36+W36+Z36+AB36+AC36+AE36+X36) -> 0 | AI36: =SUM(S36:AH36) -> 115.84897 | AJ36: =+(AI36-AI35)/AI35 -> 0.038149573
A37: 44743 | B37: 8.77 | C37: 0.09999 | D37: 0.13004 | E37: 0.51 | F37: 0.00444 | G37: 0.0226 | H37: 0.5 | I37: 0.06088 | J37: 0.00579 | K37: -0.037523 | L37: 0.00145 | M37: 0.02 | N37: 0.005072 | O37: 0 | P37: 0 | R37: =A37 -> 44743 | S37: =+B37 -> 8.77 | T37: =500*C37 -> 49.995 | U37: =100*D37 -> 13.004 | V37: =+E37 -> 0.51 | W37: =+$X$1*F37 -> 2.664 | X37: =+G37*(S37+T37+U37+AB37+Z37+W37+AE37+AF37+AC37) -> 2.5352954 | Y37: =+H37 -> 0.5 | Z37: =+$X$1*I37 -> 36.528 | AA37: =+$X$1*J37 -> 3.474 | AB37: =+K37*(S37+T37+U37) -> -2.6929882 | AC37: =+$X$1*L37 -> 0.87 | AD37: =+M37*(S37+T37+U37+W37+Z37+AB37+AC37+AE37+X37) -> 2.2943301 | AE37: =+$X$1*N37 -> 3.0432 | AF37: =+$X$1*O37 -> 0 | AG37: =+P37*(S37+T37+U37+W37+Z37+AB37+AC37+AE37+X37) -> 0 | AI37: =SUM(S37:AH37) -> 121.49484 | AJ37: =+(AI37-AI36)/AI36 -> 0.04873475
A38: 44835 | B38: 8.77 | C38: 0.09999 | D38: 0.13004 | E38: 0.51 | F38: 0.00444 | G38: 0.0226 | H38: 0.75 | I38: 0.06044 | J38: 0.00579 | K38: -0.037523 | L38: 0.00145 | M38: 0.02 | N38: 0.005072 | O38: 0 | P38: 0 | R38: =A38 -> 44835 | S38: =+B38 -> 8.77 | T38: =500*C38 -> 49.995 | U38: =100*D38 -> 13.004 | V38: =+E38 -> 0.51 | W38: =+$X$1*F38 -> 2.664 | X38: =+G38*(S38+T38+U38+AB38+Z38+W38+AE38+AF38+AC38) -> 2.529329 | Y38: =+H38 -> 0.75 | Z38: =+$X$1*I38 -> 36.264 | AA38: =+$X$1*J38 -> 3.474 | AB38: =+K38*(S38+T38+U38) -> -2.6929882 | AC38: =+$X$1*L38 -> 0.87 | AD38: =+M38*(S38+T38+U38+W38+Z38+AB38+AC38+AE38+X38) -> 2.2889308 | AE38: =+$X$1*N38 -> 3.0432 | AF38: =+$X$1*O38 -> 0 | AG38: =+P38*(S38+T38+U38+W38+Z38+AB38+AC38+AE38+X38) -> 0 | AI38: =SUM(S38:AH38) -> 121.46947 | AJ38: =+(AI38-AI37)/AI37 -> -0.0002087803
A39: 44927 | B39: 8.77 | C39: 0.09999 | D39: 0.13004 | E39: 0.51 | F39: 0.00444 | G39: 0.0243 | H39: 0.75 | I39: 0.06365 | J39: 0.00579 | K39: -0.037523 | L39: 0.00175 | M39: 0.02 | N39: 0.005072 | O39: 0 | P39: 0 | R39: =A39 -> 44927 | S39: =+B39 -> 8.77 | T39: =500*C39 -> 49.995 | U39: =100*D39 -> 13.004 | V39: =+E39 -> 0.51 | W39: =+$X$1*F39 -> 2.664 | X39: =+G39*(S39+T39+U39+AB39+Z39+W39+AE39+AF39+AC39) -> 2.770764 | Y39: =+H39 -> 0.75 | Z39: =+$X$1*I39 -> 38.19 | AA39: =+$X$1*J39 -> 3.474 | AB39: =+K39*(S39+T39+U39) -> -2.6929882 | AC39: =+$X$1*L39 -> 1.05 | AD39: =+M39*(S39+T39+U39+W39+Z39+AB39+AC39+AE39+X39) -> 2.3358795 | AE39: =+$X$1*N39 -> 3.0432 | AF39: =+$X$1*O39 -> 0 | AG39: =+P39*(S39+T39+U39+W39+Z39+AB39+AC39+AE39+X39) -> 0 | AI39: =SUM(S39:AH39) -> 123.86386 | AJ39: =+(AI39-AI38)/AI38 -> 0.019711815
A40: 45017 | B40: 8.77 | C40: 0.09999 | D40: 0.13004 | E40: 0.51 | F40: 0.00444 | G40: 0.0243 | H40: 0.75 | I40: 0.06036 | J40: 0.00579 | K40: -0.037523 | L40: 0.00175 | M40: 0.02 | N40: 0.005072 | O40: 0.00022 | P40: 0 | R40: =A40 -> 45017 | S40: =+B40 -> 8.77 | T40: =500*C40 -> 49.995 | U40: =100*D40 -> 13.004 | V40: =+E40 -> 0.51 | W40: =+$X$1*F40 -> 2.664 | X40: =+G40*(S40+T40+U40+AB40+Z40+W40+AE40+AF40+AC40) -> 2.7260034 | Y40: =+H40 -> 0.75 | Z40: =+$X$1*I40 -> 36.216 | AA40: =+$X$1*J40 -> 3.474 | AB40: =+K40*(S40+T40+U40) -> -2.6929882 | AC40: =+$X$1*L40 -> 1.05 | AD40: =+M40*(S40+T40+U40+W40+Z40+AB40+AC40+AE40+X40) -> 2.2955043 | AE40: =+$X$1*N40 -> 3.0432 | AF40: =+$X$1*O40 -> 0.132 | AG40: =+P40*(S40+T40+U40+W40+Z40+AB40+AC40+AE40+X40) -> 0 | AI40: =SUM(S40:AH40) -> 121.93672 | AJ40: =+(AI40-AI39)/AI39 -> -0.0155585
...

Sheet SB 10 yr
A1: Rates by Component | Q1: Charges for Average Sm Comm Cust (@2300 kWh/Mo) | V1: 2300
B2: Customer | C2: 1st Tier Energy | D2: BHEAP | E2: CACJA | F2: DSMCA | G2: EASBC | H2: ECA | I2: EGRR | J2: GRSA | K2: PCCA | L2: RESA | M2: TCA | N2: TEPR | O2: CEPR | Q2: Date | R2: Customer | S2: 1st Tier Energy | T2: BHEAP | U2: CACJA | V2: DSMCA | W2: EASBC | X2: ECA | Y2: EGCRR | Z2: GRSA | AA2: PCCA | AB2: RESA | AC2: TCA | AD2: TEPR | AE2: CEPR | AG2: Total | AH2: % Delta | AJ2: Annual Inflation
A3: 42186 | B3: 16.5 | C3: 0.0865 | D3: =+Riders!W6 -> 0.78 | E3: =+Riders!O25 -> 0.00195 | F3: 0.0226 | G3: 0 | H3: 0.03608 | I3: 0 | J3: 0 | K3: =+Riders!K12 -> 0.0005 | L3: 0.02 | M3: 0.00174 | N3: 0 | O3: 0 | Q3: =A3 -> 42186 | R3: =+B3 -> 16.5 | S3: =+$V$1*C3 -> 198.95 | T3: =+D3 -> 0.78 | U3: =+$V$1*E3 -> 4.485 | V3: =+F3*(R3+S3+Z3+X3+U3+AC3+AD3+AA3) -> 6.9624046 | W3: =+G3 -> 0 | X3: =+$V$1*H3 -> 82.984 | Y3: =+$V$1*I3 -> 0 | Z3: =+J3*(R3+S3) -> 0 | AA3: =+$V$1*K3 -> 1.15 | AB3: =+L3*(R3+S3+U3+X3+Z3+AA3+AC3+V3) -> 6.3006681 | AC3: =+$V$1*M3 -> 4.002 | AD3: =+$V$1*N3 -> 0 | AE3: =+O3*(R3+S3+U3+X3+Z3+AA3+AC3+V3) -> 0 | AG3: =SUM(R3:AF3) -> 322.11407 | AH3: =+(AG3-#REF!)/#REF! -> #REF!
A4: 42278 | B4: 16.5 | C4: 0.0865 | D4: =+D3 -> 0.78 | E4: =+E3 -> 0.00195 | F4: 0.0226 | G4: 0 | H4: 0.04552 | I4: 0 | J4: 0 | K4: =+K3 -> 0.0005 | L4: 0.02 | M4: 0.00174 | N4: 0 | O4: 0 | Q4: =A4 -> 42278 | R4: =+B4 -> 16.5 | S4: =+$V$1*C4 -> 198.95 | T4: =+D4 -> 0.78 | U4: =+$V$1*E4 -> 4.485 | V4: =+F4*(R4+S4+Z4+X4+U4+AC4+AD4+AA4) -> 7.4530958 | W4: =+G4 -> 0 | X4: =+$V$1*H4 -> 104.696 | Y4: =+$V$1*I4 -> 0 | Z4: =+J4*(R4+S4) -> 0 | AA4: =+$V$1*K4 -> 1.15 | AB4: =+L4*(R4+S4+U4+X4+Z4+AA4+AC4+V4) -> 6.7447219 | AC4: =+$V$1*M4 -> 4.002 | AD4: =+$V$1*N4 -> 0 | AE4: =+O4*(R4+S4+U4+X4+Z4+AA4+AC4+V4) -> 0 | AG4: =SUM(R4:AF4) -> 344.76082 | AH4: =+(AG4-AG3)/AG3 -> 0.070306599
A5: 42370 | B5: 16.5 | C5: 0.0865 | D5: =+D4 -> 0.78 | E5: =+Riders!O30 -> 0.00343 | F5: 0.0226 | G5: 0 | H5: 0.04552 | I5: 0 | J5: 0 | K5: =+Riders!K12 -> 0.0005 | L5: 0.02 | M5: 0.001266 | N5: 0 | O5: 0 | Q5: =A5 -> 42370 | R5: =+B5 -> 16.5 | S5: =+$V$1*C5 -> 198.95 | T5: =+D5 -> 0.78 | U5: =+$V$1*E5 -> 7.889 | V5: =+F5*(R5+S5+Z5+X5+U5+AC5+AD5+AA5) -> 7.5053877 | W5: =+G5 -> 0 | X5: =+$V$1*H5 -> 104.696 | Y5: =+$V$1*I5 -> 0 | Z5: =+J5*(R5+S5) -> 0 | AA5: =+$V$1*K5 -> 1.15 | AB5: =+L5*(R5+S5+U5+X5+Z5+AA5+AC5+V5) -> 6.7920438 | AC5: =+$V$1*M5 -> 2.9118 | AD5: =+$V$1*N5 -> 0 | AE5: =+O5*(R5+S5+U5+X5+Z5+AA5+AC5+V5) -> 0 | AG5: =SUM(R5:AF5) -> 347.17423 | AH5: =+(AG5-AG4)/AG4 -> 0.0070002552 | AI5: 246.643 | AJ5: =+(AI5-#REF!)/#REF! -> #REF!
A6: 42401 | B6: 16.5 | C6: 0.0865 | D6: =+D5 -> 0.78 | E6: =+E5 -> 0.00343 | F6: 0.0254 | G6: 0 | H6: 0.04552 | I6: 0 | J6: 0 | K6: =+K5 -> 0.0005 | L6: 0.02 | M6: 0.001266 | N6: 0 | O6: 0 | Q6: =A6 -> 42401 | R6: =+B6 -> 16.5 | S6: =+$V$1*C6 -> 198.95 | T6: =+D6 -> 0.78 | U6: =+$V$1*E6 -> 7.889 | V6: =+F6*(R6+S6+Z6+X6+U6+AC6+AD6+AA6) -> 8.4352587 | W6: =+G6 -> 0 | X6: =+$V$1*H6 -> 104.696 | Y6: =+$V$1*I6 -> 0 | Z6: =+J6*(R6+S6) -> 0 | AA6: =+$V$1*K6 -> 1.15 | AB6: =+L6*(R6+S6+U6+X6+Z6+AA6+AC6+V6) -> 6.8106412 | AC6: =+$V$1*M6 -> 2.9118 | AD6: =+$V$1*N6 -> 0 | AE6: =+O6*(R6+S6+U6+X6+Z6+AA6+AC6+V6) -> 0 | AG6: =SUM(R6:AF6) -> 348.1227 | AH6: =+(AG6-AG5)/AG5 -> 0.0027319668
A7: 42461 | B7: 16.5 | C7: 0.0865 | D7: =+D6 -> 0.78 | E7: =+E6 -> 0.00343 | F7: 0.0254 | G7: 0 | H7: 0.04552 | I7: 0 | J7: 0 | K7: =+K6 -> 0.0005 | L7: 0.02 | M7: 0.001266 | N7: 0 | O7: 0 | Q7: =A7 -> 42461 | R7: =+B7 -> 16.5 | S7: =+$V$1*C7 -> 198.95 | T7: =+D7 -> 0.78 | U7: =+$V$1*E7 -> 7.889 | V7: =+F7*(R7+S7+Z7+X7+U7+AC7+AD7+AA7) -> 8.4352587 | W7: =+G7 -> 0 | X7: =+$V$1*H7 -> 104.696 | Y7: =+$V$1*I7 -> 0 | Z7: =+J7*(R7+S7) -> 0 | AA7: =+$V$1*K7 -> 1.15 | AB7: =+L7*(R7+S7+U7+X7+Z7+AA7+AC7+V7) -> 6.8106412 | AC7: =+$V$1*M7 -> 2.9118 | AD7: =+$V$1*N7 -> 0 | AE7: =+O7*(R7+S7+U7+X7+Z7+AA7+AC7+V7) -> 0 | AG7: =SUM(R7:AF7) -> 348.1227 | AH7: =+(AG7-AG6)/AG6 -> 0
A8: 42552 | B8: 16.5 | C8: 0.0865 | D8: =+D7 -> 0.78 | E8: =+Riders!O35 -> 0.00389 | F8: 0.0318 | G8: 0 | H8: 0.0362 | I8: 0 | J8: 0 | K8: =+K7 -> 0.0005 | L8: 0.02 | M8: 0.001266 | N8: 0 | O8: 0 | Q8: =A8 -> 42552 | R8: =+B8 -> 16.5 | S8: =+$V$1*C8 -> 198.95 | T8: =+D8 -> 0.78 | U8: =+$V$1*E8 -> 8.947 | V8: =+F8*(R8+S8+Z8+X8+U8+AC8+AD8+AA8) -> 9.9126578 | W8: =+G8 -> 0 | X8: =+$V$1*H8 -> 83.26 | Y8: =+$V$1*I8 -> 0 | Z8: =+J8*(R8+S8) -> 0 | AA8: =+$V$1*K8 -> 1.15 | AB8: =+L8*(R8+S8+U8+X8+Z8+AA8+AC8+V8) -> 6.4326292 | AC8: =+$V$1*M8 -> 2.9118 | AD8: =+$V$1*N8 -> 0 | AE8: =+O8*(R8+S8+U8+X8+Z8+AA8+AC8+V8) -> 0 | AG8: =SUM(R8:AF8) -> 328.84409 | AH8: =+(AG8-AG7)/AG7 -> -0.055378787
A9: 42644 | B9: 16.5 | C9: 0.0865 | D9: =+D8 -> 0.78 | E9: =+E8 -> 0.00389 | F9: 0.0318 | G9: 0 | H9: 0.04019 | I9: 0 | J9: 0 | K9: =+K8 -> 0.0005 | L9: 0.02 | M9: 0.001266 | N9: 0 | O9: 0 | Q9: =A9 -> 42644 | R9: =+B9 -> 16.5 | S9: =+$V$1*C9 -> 198.95 | T9: =+D9 -> 0.78 | U9: =+$V$1*E9 -> 8.947 | V9: =+F9*(R9+S9+Z9+X9+U9+AC9+AD9+AA9) -> 10.204486 | W9: =+G9 -> 0 | X9: =+$V$1*H9 -> 92.437 | Y9: =+$V$1*I9 -> 0 | Z9: =+J9*(R9+S9) -> 0 | AA9: =+$V$1*K9 -> 1.15 | AB9: =+L9*(R9+S9+U9+X9+Z9+AA9+AC9+V9) -> 6.6220057 | AC9: =+$V$1*M9 -> 2.9118 | AD9: =+$V$1*N9 -> 0 | AE9: =+O9*(R9+S9+U9+X9+Z9+AA9+AC9+V9) -> 0 | AG9: =SUM(R9:AF9) -> 338.50229 | AH9: =+(AG9-AG8)/AG8 -> 0.029370165
A10: 42736 | B10: 16.5 | C10: 0.0865 | D10: =+D9 -> 0.78 | E10: =+Riders!O40 -> 0 | F10: 0.0318 | G10: 0 | H10: 0.03335 | I10: 0 | J10: 0.023552 | K10: =+Riders!K17 -> 0.00067 | L10: 0.02 | M10: 0.001266 | N10: 0 | O10: 0 | Q10: =A10 -> 42736 | R10: =+B10 -> 16.5 | S10: =+$V$1*C10 -> 198.95 | T10: =+D10 -> 0.78 | U10: =+$V$1*E10 -> 0 | V10: =+F10*(R10+S10+Z10+X10+U10+AC10+AD10+AA10) -> 9.5934901 | W10: =+G10 -> 0 | X10: =+$V$1*H10 -> 76.705 | Y10: =+$V$1*I10 -> 0 | Z10: =+J10*(R10+S10) -> 5.0742784 | AA10: =+$V$1*K10 -> 1.541 | AB10: =+L10*(R10+S10+U10+X10+Z10+AA10+AC10+V10) -> 6.2255114 | AC10: =+$V$1*M10 -> 2.9118 | AD10: =+$V$1*N10 -> 0 | AE10: =+O10*(R10+S10+U10+X10+Z10+AA10+AC10+V10) -> 0 | AG10: =SUM(R10:AF10) -> 318.28108 | AH10: =+(AG10-AG9)/AG9 -> -0.059737298 | AI10: 254.995 | AJ10: =+(AI10-AI5)/AI5 -> 0.033862708
A11: 42767 | B11: 16.5 | C11: 0.0865 | D11: =+D10 -> 0.78 | E11: =+E10 -> 0 | F11: 0.0318 | G11: 0 | H11: 0.03335 | I11: 0 | J11: 0.023552 | K11: =+K10 -> 0.00067 | L11: 0.02 | M11: 0.001266 | N11: 0 | O11: 0 | Q11: =A11 -> 42767 | R11: =+B11 -> 16.5 | S11: =+$V$1*C11 -> 198.95 | T11: =+D11 -> 0.78 | U11: =+$V$1*E11 -> 0 | V11: =+F11*(R11+S11+Z11+X11+U11+AC11+AD11+AA11) -> 9.5934901 | W11: =+G11 -> 0 | X11: =+$V$1*H11 -> 76.705 | Y11: =+$V$1*I11 -> 0 | Z11: =+J11*(R11+S11) -> 5.0742784 | AA11: =+$V$1*K11 -> 1.541 | AB11: =+L11*(R11+S11+U11+X11+Z11+AA11+AC11+V11) -> 6.2255114 | AC11: =+$V$1*M11 -> 2.9118 | AD11: =+$V$1*N11 -> 0 | AE11: =+O11*(R11+S11+U11+X11+Z11+AA11+AC11+V11) -> 0 | AG11: =SUM(R11:AF11) -> 318.28108 | AH11: =+(AG11-AG10)/AG10 -> 0
A12: 42826 | B12: 16.5 | C12: 0.0865 | D12: =+D11 -> 0.78 | E12: =+E11 -> 0 | F12: 0.0318 | G12: 0 | H12: 0.03997 | I12: 0 | J12: 0.023552 | K12: =+K11 -> 0.00067 | L12: 0.02 | M12: 0.001266 | N12: 0 | O12: 0 | Q12: =A12 -> 42826 | R12: =+B12 -> 16.5 | S12: =+$V$1*C12 -> 198.95 | T12: =+D12 -> 0.78 | U12: =+$V$1*E12 -> 0 | V12: =+F12*(R12+S12+Z12+X12+U12+AC12+AD12+AA12) -> 10.077677 | W12: =+G12 -> 0 | X12: =+$V$1*H12 -> 91.931 | Y12: =+$V$1*I12 -> 0 | Z12: =+J12*(R12+S12) -> 5.0742784 | AA12: =+$V$1*K12 -> 1.541 | AB12: =+L12*(R12+S12+U12+X12+Z12+AA12+AC12+V12) -> 6.5397151 | AC12: =+$V$1*M12 -> 2.9118 | AD12: =+$V$1*N12 -> 0 | AE12: =+O12*(R12+S12+U12+X12+Z12+AA12+AC12+V12) -> 0 | AG12: =SUM(R12:AF12) -> 334.30547 | AH12: =+(AG12-AG11)/AG11 -> 0.050346664
A13: 42917 | B13: 16.5 | C13: 0.0865 | D13: =+D12 -> 0.78 | E13: =+Riders!O45 -> 0.00455 | F13: 0.0262 | G13: 0 | H13: 0.03143 | I13: 0 | J13: 0.023552 | K13: =+K12 -> 0.00067 | L13: 0.02 | M13: 0.001722 | N13: 0 | O13: 0 | Q13: =A13 -> 42917 | R13: =+B13 -> 16.5 | S13: =+$V$1*C13 -> 198.95 | T13: =+D13 -> 0.78 | U13: =+$V$1*E13 -> 10.465 | V13: =+F13*(R13+S13+Z13+X13+U13+AC13+AD13+AA13) -> 8.0900328 | W13: =+G13 -> 0 | X13: =+$V$1*H13 -> 72.289 | Y13: =+$V$1*I13 -> 0 | Z13: =+J13*(R13+S13) -> 5.0742784 | AA13: =+$V$1*K13 -> 1.541 | AB13: =+L13*(R13+S13+U13+X13+Z13+AA13+AC13+V13) -> 6.3373982 | AC13: =+$V$1*M13 -> 3.9606 | AD13: =+$V$1*N13 -> 0 | AE13: =+O13*(R13+S13+U13+X13+Z13+AA13+AC13+V13) -> 0 | AG13: =SUM(R13:AF13) -> 323.98731 | AH13: =+(AG13-AG12)/AG12 -> -0.030864469
A14: 43009 | B14: 16.5 | C14: 0.0865 | D14: =+Riders!W21 -> 1 | E14: =+E13 -> 0.00455 | F14: 0.0285 | G14: 0 | H14: 0.04052 | I14: 0 | J14: 0.023552 | K14: =+K13 -> 0.00067 | L14: 0.02 | M14: 0.001722 | N14: 0 | O14: 0 | Q14: =A14 -> 43009 | R14: =+B14 -> 16.5 | S14: =+$V$1*C14 -> 198.95 | T14: =+D14 -> 1 | U14: =+$V$1*E14 -> 10.465 | V14: =+F14*(R14+S14+Z14+X14+U14+AC14+AD14+AA14) -> 9.396076 | W14: =+G14 -> 0 | X14: =+$V$1*H14 -> 93.196 | Y14: =+$V$1*I14 -> 0 | Z14: =+J14*(R14+S14) -> 5.0742784 | AA14: =+$V$1*K14 -> 1.541 | AB14: =+L14*(R14+S14+U14+X14+Z14+AA14+AC14+V14) -> 6.7816591 | AC14: =+$V$1*M14 -> 3.9606 | AD14: =+$V$1*N14 -> 0 | AE14: =+O14*(R14+S14+U14+X14+Z14+AA14+AC14+V14) -> 0 | AG14: =SUM(R14:AF14) -> 346.86461 | AH14: =+(AG14-AG13)/AG13 -> 0.070611729
A15: 43101 | B15: 16.5 | C15: 0.0865 | D15: =+D14 -> 1 | E15: =+Riders!O50 -> 0.00458 | F15: 0.0285 | G15: 0 | H15: 0.0408 | I15: 0 | J15: 0.023552 | K15: =+Riders!K22 -> 0.00053 | L15: 0.02 | M15: 0.003052 | N15: 0 | O15: 0 | Q15: =A15 -> 43101 | R15: =+B15 -> 16.5 | S15: =+$V$1*C15 -> 198.95 | T15: =+D15 -> 1 | U15: =+$V$1*E15 -> 10.534 | V15: =+F15*(R15+S15+Z15+X15+U15+AC15+AD15+AA15) -> 9.494401 | W15: =+G15 -> 0 | X15: =+$V$1*H15 -> 93.84 | Y15: =+$V$1*I15 -> 0 | Z15: =+J15*(R15+S15) -> 5.0742784 | AA15: =+$V$1*K15 -> 1.219 | AB15: =+L15*(R15+S15+U15+X15+Z15+AA15+AC15+V15) -> 6.8526256 | AC15: =+$V$1*M15 -> 7.0196 | AD15: =+$V$1*N15 -> 0 | AE15: =+O15*(R15+S15+U15+X15+Z15+AA15+AC15+V15) -> 0 | AG15: =SUM(R15:AF15) -> 350.48391 | AH15: =+(AG15-AG14)/AG14 -> 0.010434306 | AI15: 261.958 | AJ15: =+(AI15-AI10)/AI10 -> 0.027306418
A16: 43191 | B16: 16.5 | C16: 0.0865 | D16: =+D15 -> 1 | E16: =+E15 -> 0.00458 | F16: 0.0285 | G16: 0 | H16: 0.03484 | I16: 0 | J16: 0.023552 | K16: =+K15 -> 0.00053 | L16: 0.02 | M16: 0.003052 | N16: 0 | O16: 0 | Q16: =A16 -> 43191 | R16: =+B16 -> 16.5 | S16: =+$V$1*C16 -> 198.95 | T16: =+D16 -> 1 | U16: =+$V$1*E16 -> 10.534 | V16: =+F16*(R16+S16+Z16+X16+U16+AC16+AD16+AA16) -> 9.103723 | W16: =+G16 -> 0 | X16: =+$V$1*H16 -> 80.132 | Y16: =+$V$1*I16 -> 0 | Z16: =+J16*(R16+S16) -> 5.0742784 | AA16: =+$V$1*K16 -> 1.219 | AB16: =+L16*(R16+S16+U16+X16+Z16+AA16+AC16+V16) -> 6.570652 | AC16: =+$V$1*M16 -> 7.0196 | AD16: =+$V$1*N16 -> 0 | AE16: =+O16*(R16+S16+U16+X16+Z16+AA16+AC16+V16) -> 0 | AG16: =SUM(R16:AF16) -> 336.10325 | AH16: =+(AG16-AG15)/AG15 -> -0.041030847
A17: 43282 | B17: =+'Base Rates'!G20 -> 11.39 | C17: =+'Base Rates'!K21 -> 0.09034 | D17: =+D16 -> 1 | E17: =+E16 -> 0.00458 | F17: 0.0252 | G17: 0 | H17: 0.02991 | I17: 0 | J17: =+J18 -> -0.037523 | K17: =+K16 -> 0.00053 | L17: 0.02 | M17: 0.003052 | N17: 0 | O17: 0 | Q17: =A17 -> 43282 | R17: =+B17 -> 11.39 | S17: =+$V$1*C17 -> 207.782 | T17: =+D17 -> 1 | U17: =+$V$1*E17 -> 10.534 | V17: =+F17*(R17+S17+Z17+X17+U17+AC17+AD17+AA17) -> 7.5225429 | W17: =+G17 -> 0 | X17: =+$V$1*H17 -> 68.793 | Y17: =+$V$1*I17 -> 0 | Z17: =+J17*(R17+S17) -> -8.223991 | AA17: =+$V$1*K17 -> 1.219 | AB17: =+L17*(R17+S17+U17+X17+Z17+AA17+AC17+V17) -> 6.120723 | AC17: =+$V$1*M17 -> 7.0196 | AD17: =+$V$1*N17 -> 0 | AE17: =+O17*(R17+S17+U17+X17+Z17+AA17+AC17+V17) -> 0 | AG17: =SUM(R17:AF17) -> 313.15688 | AH17: =+(AG17-AG16)/AG16 -> -0.068271813
A18: 43343 | B18: =+B17 -> 11.39 | C18: =+C17 -> 0.09034 | D18: =+D17 -> 1 | E18: =+Riders!O55 -> 0.00376 | F18: 0.0252 | G18: 0 | H18: 0.02991 | I18: 0 | J18: =+J19 -> -0.037523 | K18: =+K17 -> 0.00053 | L18: 0.02 | M18: 0.003052 | N18: 0 | O18: 0 | Q18: =A18 -> 43343 | R18: =+B18 -> 11.39 | S18: =+$V$1*C18 -> 207.782 | T18: =+D18 -> 1 | U18: =+$V$1*E18 -> 8.648 | V18: =+F18*(R18+S18+Z18+X18+U18+AC18+AD18+AA18) -> 7.4750157 | W18: =+G18 -> 0 | X18: =+$V$1*H18 -> 68.793 | Y18: =+$V$1*I18 -> 0 | Z18: =+J18*(R18+S18) -> -8.223991 | AA18: =+$V$1*K18 -> 1.219 | AB18: =+L18*(R18+S18+U18+X18+Z18+AA18+AC18+V18) -> 6.0820525 | AC18: =+$V$1*M18 -> 7.0196 | AD18: =+$V$1*N18 -> 0 | AE18: =+O18*(R18+S18+U18+X18+Z18+AA18+AC18+V18) -> 0 | AG18: =SUM(R18:AF18) -> 311.18468 | AH18: =+(AG18-AG17)/AG17 -> -0.0062977948
A19: 43374 | B19: =+B18 -> 11.39 | C19: =+C18 -> 0.09034 | D19: =+D18 -> 1 | E19: =+E18 -> 0.00376 | F19: 0.0252 | G19: 0 | H19: 0.03426 | I19: 0 | J19: =+J20 -> -0.037523 | K19: =+K18 -> 0.00053 | L19: 0.02 | M19: 0.003052 | N19: 0 | O19: 0 | Q19: =A19 -> 43374 | R19: =+B19 -> 11.39 | S19: =+$V$1*C19 -> 207.782 | T19: =+D19 -> 1 | U19: =+$V$1*E19 -> 8.648 | V19: =+F19*(R19+S19+Z19+X19+U19+AC19+AD19+AA19) -> 7.7271417 | W19: =+G19 -> 0 | X19: =+$V$1*H19 -> 78.798 | Y19: =+$V$1*I19 -> 0 | Z19: =+J19*(R19+S19) -> -8.223991 | AA19: =+$V$1*K19 -> 1.219 | AB19: =+L19*(R19+S19+U19+X19+Z19+AA19+AC19+V19) -> 6.287195 | AC19: =+$V$1*M19 -> 7.0196 | AD19: =+$V$1*N19 -> 0 | AE19: =+O19*(R19+S19+U19+X19+Z19+AA19+AC19+V19) -> 0 | AG19: =SUM(R19:AF19) -> 321.64695 | AH19: =+(AG19-AG18)/AG18 -> 0.03362077
A20: 43466 | B20: =+B19 -> 11.39 | C20: =+C19 -> 0.09034 | D20: =+D19 -> 1 | E20: =+E19 -> 0.00376 | F20: 0.0238 | G20: 0 | H20: 0.03772 | I20: 0 | J20: =+J21 -> -0.037523 | K20: =+Riders!K27 -> 0.00064 | L20: 0.02 | M20: 0.002069 | N20: 0 | O20: 0 | Q20: =A20 -> 43466 | R20: =+B20 -> 11.39 | S20: =+$V$1*C20 -> 207.782 | T20: =+D20 -> 1 | U20: =+$V$1*E20 -> 8.648 | V20: =+F20*(R20+S20+Z20+X20+U20+AC20+AD20+AA20) -> 7.4394685 | W20: =+G20 -> 0 | X20: =+$V$1*H20 -> 86.756 | Y20: =+$V$1*I20 -> 0 | Z20: =+J20*(R20+S20) -> -8.223991 | AA20: =+$V$1*K20 -> 1.472 | AB20: =+L20*(R20+S20+U20+X20+Z20+AA20+AC20+V20) -> 6.4004436 | AC20: =+$V$1*M20 -> 4.7587 | AD20: =+$V$1*N20 -> 0 | AE20: =+O20*(R20+S20+U20+X20+Z20+AA20+AC20+V20) -> 0 | AG20: =SUM(R20:AF20) -> 327.42262 | AH20: =+(AG20-AG19)/AG19 -> 0.017956568 | AI20: 266.999 | AJ20: =+(AI20-AI15)/AI15 -> 0.019243543
A21: 43556 | B21: =+B20 -> 11.39 | C21: =+C20 -> 0.09034 | D21: =+D20 -> 1 | E21: =+E20 -> 0.00376 | F21: 0.0238 | G21: 0 | H21: 0.0381 | I21: 0 | J21: =+J22 -> -0.037523 | K21: =+K20 -> 0.00064 | L21: 0.02 | M21: 0.002069 | N21: 0 | O21: 0 | Q21: =A21 -> 43556 | R21: =+B21 -> 11.39 | S21: =+$V$1*C21 -> 207.782 | T21: =+D21 -> 1 | U21: =+$V$1*E21 -> 8.648 | V21: =+F21*(R21+S21+Z21+X21+U21+AC21+AD21+AA21) -> 7.4602697 | W21: =+G21 -> 0 | X21: =+$V$1*H21 -> 87.63 | Y21: =+$V$1*I21 -> 0 | Z21: =+J21*(R21+S21) -> -8.223991 | AA21: =+$V$1*K21 -> 1.472 | AB21: =+L21*(R21+S21+U21+X21+Z21+AA21+AC21+V21) -> 6.4183396 | AC21: =+$V$1*M21 -> 4.7587 | AD21: =+$V$1*N21 -> 0 | AE21: =+O21*(R21+S21+U21+X21+Z21+AA21+AC21+V21) -> 0 | AG21: =SUM(R21:AF21) -> 328.33532 | AH21: =+(AG21-AG20)/AG20 -> 0.0027875204
A22: 43647 | B22: =+B21 -> 11.39 | C22: =+C21 -> 0.09034 | D22: =+D21 -> 1 | E22: =+E21 -> 0.00376 | F22: 0.0177 | G22: 0 | H22: 0.04099 | I22: 0 | J22: =+J23 -> -0.037523 | K22: =+K21 -> 0.00064 | L22: 0.02 | M22: 0.002069 | N22: 0 | O22: 0 | Q22: =A22 -> 43647 | R22: =+B22 -> 11.39 | S22: =+$V$1*C22 -> 207.782 | T22: =+D22 -> 1 | U22: =+$V$1*E22 -> 8.648 | V22: =+F22*(R22+S22+Z22+X22+U22+AC22+AD22+AA22) -> 5.6658357 | W22: =+G22 -> 0 | X22: =+$V$1*H22 -> 94.277 | Y22: =+$V$1*I22 -> 0 | Z22: =+J22*(R22+S22) -> -8.223991 | AA22: =+$V$1*K22 -> 1.472 | AB22: =+L22*(R22+S22+U22+X22+Z22+AA22+AC22+V22) -> 6.5153909 | AC22: =+$V$1*M22 -> 4.7587 | AD22: =+$V$1*N22 -> 0 | AE22: =+O22*(R22+S22+U22+X22+Z22+AA22+AC22+V22) -> 0 | AG22: =SUM(R22:AF22) -> 333.28494 | AH22: =+(AG22-AG21)/AG21 -> 0.015074885
A23: 43711 | B23: =+B22 -> 11.39 | C23: =+C22 -> 0.09034 | D23: =+D22 -> 1 | E23: =+E22 -> 0.00376 | F23: 0.0177 | G23: 0 | H23: 0.04099 | I23: 0 | J23: -0.037523 | K23: =+K22 -> 0.00064 | L23: 0.02 | M23: 0.002069 | N23: 0 | O23: 0 | Q23: =A23 -> 43711 | R23: =+B23 -> 11.39 | S23: =+$V$1*C23 -> 207.782 | T23: =+D23 -> 1 | U23: =+$V$1*E23 -> 8.648 | V23: =+F23*(R23+S23+Z23+X23+U23+AC23+AD23+AA23) -> 5.6658357 | W23: =+G23 -> 0 | X23: =+$V$1*H23 -> 94.277 | Y23: =+$V$1*I23 -> 0 | Z23: =+J23*(R23+S23) -> -8.223991 | AA23: =+$V$1*K23 -> 1.472 | AB23: =+L23*(R23+S23+U23+X23+Z23+AA23+AC23+V23) -> 6.5153909 | AC23: =+$V$1*M23 -> 4.7587 | AD23: =+$V$1*N23 -> 0 | AE23: =+O23*(R23+S23+U23+X23+Z23+AA23+AC23+V23) -> 0 | AG23: =SUM(R23:AF23) -> 333.28494 | AH23: =+(AG23-AG22)/AG22 -> 0
A24: 43739 | B24: =+B23 -> 11.39 | C24: =+C23 -> 0.09034 | D24: =+D23 -> 1 | E24: =+E23 -> 0.00376 | F24: 0.0177 | G24: 0 | H24: 0.03913 | I24: 0 | J24: -0.037523 | K24: =+K23 -> 0.00064 | L24: 0.02 | M24: 0.002069 | N24: 0 | O24: 0 | Q24: =A24 -> 43739 | R24: =+B24 -> 11.39 | S24: =+$V$1*C24 -> 207.782 | T24: =+D24 -> 1 | U24: =+$V$1*E24 -> 8.648 | V24: =+F24*(R24+S24+Z24+X24+U24+AC24+AD24+AA24) -> 5.5901151 | W24: =+G24 -> 0 | X24: =+$V$1*H24 -> 89.999 | Y24: =+$V$1*I24 -> 0 | Z24: =+J24*(R24+S24) -> -8.223991 | AA24: =+$V$1*K24 -> 1.472 | AB24: =+L24*(R24+S24+U24+X24+Z24+AA24+AC24+V24) -> 6.4283165 | AC24: =+$V$1*M24 -> 4.7587 | AD24: =+$V$1*N24 -> 0 | AE24: =+O24*(R24+S24+U24+X24+Z24+AA24+AC24+V24) -> 0 | AG24: =SUM(R24:AF24) -> 328.84414 | AH24: =+(AG24-AG23)/AG23 -> -0.01332432
A25: 43831 | B25: =+B24 -> 11.39 | C25: =+C24 -> 0.09034 | D25: =+D24 -> 1 | E25: =+E24 -> 0.00376 | F25: 0.0182 | G25: 0 | H25: 0.03674 | I25: 0 | J25: -0.037523 | K25: =+Riders!K32 -> 0.000474 | L25: 0.02 | M25: 0.00286 | N25: 0 | O25: 0 | Q25: =A25 -> 43831 | R25: =+B25 -> 11.39 | S25: =+$V$1*C25 -> 207.782 | T25: =+D25 -> 1 | U25: =+$V$1*E25 -> 8.648 | V25: =+F25*(R25+S25+Z25+X25+U25+AC25+AD25+AA25) -> 5.674145 | W25: =+G25 -> 0 | X25: =+$V$1*H25 -> 84.502 | Y25: =+$V$1*I25 -> 0 | Z25: =+J25*(R25+S25) -> -8.223991 | AA25: =+$V$1*K25 -> 1.0902 | AB25: =+L25*(R25+S25+U25+X25+Z25+AA25+AC25+V25) -> 6.3488071 | AC25: =+$V$1*M25 -> 6.578 | AD25: =+$V$1*N25 -> 0 | AE25: =+O25*(R25+S25+U25+X25+Z25+AA25+AC25+V25) -> 0 | AG25: =SUM(R25:AF25) -> 324.78916 | AH25: =+(AG25-AG24)/AG24 -> -0.012331007 | AI25: 272.207 | AJ25: =+(AI25-AI20)/AI20 -> 0.019505691
A26: 43922 | B26: =+B25 -> 11.39 | C26: =+C25 -> 0.09034 | D26: =+D25 -> 1 | E26: =+E25 -> 0.00376 | F26: 0.0182 | G26: 0 | H26: 0.03714 | I26: 0 | J26: -0.037523 | K26: =+K25 -> 0.000474 | L26: 0.02 | M26: 0.00286 | N26: 0 | O26: 0 | Q26: =A26 -> 43922 | R26: =+B26 -> 11.39 | S26: =+$V$1*C26 -> 207.782 | T26: =+D26 -> 1 | U26: =+$V$1*E26 -> 8.648 | V26: =+F26*(R26+S26+Z26+X26+U26+AC26+AD26+AA26) -> 5.690889 | W26: =+G26 -> 0 | X26: =+$V$1*H26 -> 85.422 | Y26: =+$V$1*I26 -> 0 | Z26: =+J26*(R26+S26) -> -8.223991 | AA26: =+$V$1*K26 -> 1.0902 | AB26: =+L26*(R26+S26+U26+X26+Z26+AA26+AC26+V26) -> 6.367542 | AC26: =+$V$1*M26 -> 6.578 | AD26: =+$V$1*N26 -> 0 | AE26: =+O26*(R26+S26+U26+X26+Z26+AA26+AC26+V26) -> 0 | AG26: =SUM(R26:AF26) -> 325.74464 | AH26: =+(AG26-AG25)/AG25 -> 0.0029418435
A27: 44013 | B27: =+B26 -> 11.39 | C27: =+C26 -> 0.09034 | D27: =+D26 -> 1 | E27: =+E26 -> 0.00376 | F27: 0.0198 | G27: 0 | H27: 0.03452 | I27: 0 | J27: -0.037523 | K27: =+K26 -> 0.000474 | L27: 0.02 | M27: 0.00286 | N27: 0 | O27: 0 | Q27: =A27 -> 44013 | R27: =+B27 -> 11.39 | S27: =+$V$1*C27 -> 207.782 | T27: =+D27 -> 1 | U27: =+$V$1*E27 -> 8.648 | V27: =+F27*(R27+S27+Z27+X27+U27+AC27+AD27+AA27) -> 6.0718721 | W27: =+G27 -> 0 | X27: =+$V$1*H27 -> 79.396 | Y27: =+$V$1*I27 -> 0 | Z27: =+J27*(R27+S27) -> -8.223991 | AA27: =+$V$1*K27 -> 1.0902 | AB27: =+L27*(R27+S27+U27+X27+Z27+AA27+AC27+V27) -> 6.2546416 | AC27: =+$V$1*M27 -> 6.578 | AD27: =+$V$1*N27 -> 0 | AE27: =+O27*(R27+S27+U27+X27+Z27+AA27+AC27+V27) -> 0 | AG27: =SUM(R27:AF27) -> 319.98672 | AH27: =+(AG27-AG26)/AG26 -> -0.017676169
A28: 44105 | B28: =+B27 -> 11.39 | C28: =+C27 -> 0.09034 | D28: =+D27 -> 1 | E28: =+E27 -> 0.00376 | F28: 0.0198 | G28: 0 | H28: 0.03154 | I28: 0 | J28: -0.037523 | K28: =+K27 -> 0.000474 | L28: 0.02 | M28: 0.00286 | N28: 0 | O28: 0 | Q28: =A28 -> 44105 | R28: =+B28 -> 11.39 | S28: =+$V$1*C28 -> 207.782 | T28: =+D28 -> 1 | U28: =+$V$1*E28 -> 8.648 | V28: =+F28*(R28+S28+Z28+X28+U28+AC28+AD28+AA28) -> 5.9361629 | W28: =+G28 -> 0 | X28: =+$V$1*H28 -> 72.542 | Y28: =+$V$1*I28 -> 0 | Z28: =+J28*(R28+S28) -> -8.223991 | AA28: =+$V$1*K28 -> 1.0902 | AB28: =+L28*(R28+S28+U28+X28+Z28+AA28+AC28+V28) -> 6.1148474 | AC28: =+$V$1*M28 -> 6.578 | AD28: =+$V$1*N28 -> 0 | AE28: =+O28*(R28+S28+U28+X28+Z28+AA28+AC28+V28) -> 0 | AG28: =SUM(R28:AF28) -> 312.85722 | AH28: =+(AG28-AG27)/AG27 -> -0.022280623
A29: 44197 | B29: =+B28 -> 11.39 | C29: =+C28 -> 0.09034 | D29: =+D28 -> 1 | E29: =+E28 -> 0.00376 | F29: 0.0195 | G29: 0 | H29: 0.03501 | I29: 0 | J29: -0.037523 | K29: =+Riders!K37 -> 0.001 | L29: 0.02 | M29: 0.003655 | N29: 0 | O29: 0 | Q29: =A29 -> 44197 | R29: =+B29 -> 11.39 | S29: =+$V$1*C29 -> 207.782 | T29: =+D29 -> 1 | U29: =+$V$1*E29 -> 8.648 | V29: =+F29*(R29+S29+Z29+X29+U29+AC29+AD29+AA29) -> 6.0610974 | W29: =+G29 -> 0 | X29: =+$V$1*H29 -> 80.523 | Y29: =+$V$1*I29 -> 0 | Z29: =+J29*(R29+S29) -> -8.223991 | AA29: =+$V$1*K29 -> 2.3 | AB29: =+L29*(R29+S29+U29+X29+Z29+AA29+AC29+V29) -> 6.3377321 | AC29: =+$V$1*M29 -> 8.4065 | AD29: =+$V$1*N29 -> 0 | AE29: =+O29*(R29+S29+U29+X29+Z29+AA29+AC29+V29) -> 0 | AG29: =SUM(R29:AF29) -> 324.22434 | AH29: =+(AG29-AG28)/AG28 -> 0.036333249 | AI29: 281.845 | AJ29: =+(AI29-AI25)/AI25 -> 0.035406878
A30: 44209 | B30: =+B29 -> 11.39 | C30: =+C29 -> 0.09034 | D30: 1.46 | E30: =+E29 -> 0.00376 | F30: 0.0195 | G30: 0 | H30: 0.03501 | I30: 0 | J30: -0.037523 | K30: =+K29 -> 0.001 | L30: 0.02 | M30: 0.003655 | N30: 0 | O30: 0 | Q30: =A30 -> 44209 | R30: =+B30 -> 11.39 | S30: =+$V$1*C30 -> 207.782 | T30: =+D30 -> 1.46 | U30: =+$V$1*E30 -> 8.648 | V30: =+F30*(R30+S30+Z30+X30+U30+AC30+AD30+AA30) -> 6.0610974 | W30: =+G30 -> 0 | X30: =+$V$1*H30 -> 80.523 | Y30: =+$V$1*I30 -> 0 | Z30: =+J30*(R30+S30) -> -8.223991 | AA30: =+$V$1*K30 -> 2.3 | AB30: =+L30*(R30+S30+U30+X30+Z30+AA30+AC30+V30) -> 6.3377321 | AC30: =+$V$1*M30 -> 8.4065 | AD30: =+$V$1*N30 -> 0 | AE30: =+O30*(R30+S30+U30+X30+Z30+AA30+AC30+V30) -> 0 | AG30: =SUM(R30:AF30) -> 324.68434 | AH30: =+(AG30-AG29)/AG29 -> 0.0014187707
A31: 44265 | B31: =+B30 -> 11.39 | C31: =+C30 -> 0.09034 | D31: =+D30 -> 1.46 | E31: =+E30 -> 0.00376 | F31: 0.0195 | G31: 0 | H31: 0.03501 | I31: 0.00579 | J31: -0.037523 | K31: =+K30 -> 0.001 | L31: 0.02 | M31: 0.003655 | N31: 0 | O31: 0 | Q31: =A31 -> 44265 | R31: =+B31 -> 11.39 | S31: =+$V$1*C31 -> 207.782 | T31: =+D31 -> 1.46 | U31: =+$V$1*E31 -> 8.648 | V31: =+F31*(R31+S31+Z31+X31+U31+AC31+AD31+AA31) -> 6.0610974 | W31: =+G31 -> 0 | X31: =+$V$1*H31 -> 80.523 | Y31: =+$V$1*I31 -> 13.317 | Z31: =+J31*(R31+S31) -> -8.223991 | AA31: =+$V$1*K31 -> 2.3 | AB31: =+L31*(R31+S31+U31+X31+Z31+AA31+AC31+V31) -> 6.3377321 | AC31: =+$V$1*M31 -> 8.4065 | AD31: =+$V$1*N31 -> 0 | AE31: =+O31*(R31+S31+U31+X31+Z31+AA31+AC31+V31) -> 0 | AG31: =SUM(R31:AF31) -> 338.00134 | AH31: =+(AG31-AG30)/AG30 -> 0.041015221
A32: 44287 | B32: =+B31 -> 11.39 | C32: =+C31 -> 0.09034 | D32: =+D31 -> 1.46 | E32: =+E31 -> 0.00376 | F32: 0.0195 | G32: 0 | H32: 0.03555 | I32: 0.00579 | J32: -0.037523 | K32: =+K31 -> 0.001 | L32: 0.02 | M32: 0.003655 | N32: 0 | O32: 0 | Q32: =A32 -> 44287 | R32: =+B32 -> 11.39 | S32: =+$V$1*C32 -> 207.782 | T32: =+D32 -> 1.46 | U32: =+$V$1*E32 -> 8.648 | V32: =+F32*(R32+S32+Z32+X32+U32+AC32+AD32+AA32) -> 6.0853164 | W32: =+G32 -> 0 | X32: =+$V$1*H32 -> 81.765 | Y32: =+$V$1*I32 -> 13.317 | Z32: =+J32*(R32+S32) -> -8.223991 | AA32: =+$V$1*K32 -> 2.3 | AB32: =+L32*(R32+S32+U32+X32+Z32+AA32+AC32+V32) -> 6.3630565 | AC32: =+$V$1*M32 -> 8.4065 | AD32: =+$V$1*N32 -> 0 | AE32: =+O32*(R32+S32+U32+X32+Z32+AA32+AC32+V32) -> 0 | AG32: =SUM(R32:AF32) -> 339.29288 | AH32: =+(AG32-AG31)/AG31 -> 0.0038211191
A33: 44378 | B33: =+B32 -> 11.39 | C33: =+C32 -> 0.09034 | D33: =+D32 -> 1.46 | E33: =+E32 -> 0.00376 | F33: 0.0275 | G33: 0 | H33: 0.03854 | I33: 0.00579 | J33: -0.037523 | K33: =+K32 -> 0.001 | L33: 0.02 | M33: 0.003655 | N33: 0 | O33: 0 | Q33: =A33 -> 44378 | R33: =+B33 -> 11.39 | S33: =+$V$1*C33 -> 207.782 | T33: =+D33 -> 1.46 | U33: =+$V$1*E33 -> 8.648 | V33: =+F33*(R33+S33+Z33+X33+U33+AC33+AD33+AA33) -> 8.770974 | W33: =+G33 -> 0 | X33: =+$V$1*H33 -> 88.642 | Y33: =+$V$1*I33 -> 13.317 | Z33: =+J33*(R33+S33) -> -8.223991 | AA33: =+$V$1*K33 -> 2.3 | AB33: =+L33*(R33+S33+U33+X33+Z33+AA33+AC33+V33) -> 6.5543097 | AC33: =+$V$1*M33 -> 8.4065 | AD33: =+$V$1*N33 -> 0 | AE33: =+O33*(R33+S33+U33+X33+Z33+AA33+AC33+V33) -> 0 | AG33: =SUM(R33:AF33) -> 349.04679 | AH33: =+(AG33-AG32)/AG32 -> 0.028747761
A34: 44470 | B34: =+B33 -> 11.39 | C34: =+C33 -> 0.09034 | D34: =+D33 -> 1.46 | E34: =+E33 -> 0.00376 | F34: 0.0275 | G34: 0.5 | H34: 0.0472 | I34: 0.00579 | J34: -0.037523 | K34: =+K33 -> 0.001 | L34: 0.02 | M34: 0.003655 | N34: 0 | O34: 0 | Q34: =A34 -> 44470 | R34: =+B34 -> 11.39 | S34: =+$V$1*C34 -> 207.782 | T34: =+D34 -> 1.46 | U34: =+$V$1*E34 -> 8.648 | V34: =+F34*(R34+S34+Z34+X34+U34+AC34+AD34+AA34) -> 9.318719 | W34: =+G34 -> 0.5 | X34: =+$V$1*H34 -> 108.56 | Y34: =+$V$1*I34 -> 13.317 | Z34: =+J34*(R34+S34) -> -8.223991 | AA34: =+$V$1*K34 -> 2.3 | AB34: =+L34*(R34+S34+U34+X34+Z34+AA34+AC34+V34) -> 6.9636246 | AC34: =+$V$1*M34 -> 8.4065 | AD34: =+$V$1*N34 -> 0 | AE34: =+O34*(R34+S34+U34+X34+Z34+AA34+AC34+V34) -> 0 | AG34: =SUM(R34:AF34) -> 370.42185 | AH34: =+(AG34-AG33)/AG33 -> 0.061238379
A35: 44562 | B35: =+B34 -> 11.39 | C35: =+C34 -> 0.09034 | D35: =+D34 -> 1.46 | E35: =+E34 -> 0.00376 | F35: 0.0275 | G35: 0.5 | H35: 0.04424 | I35: 0.00579 | J35: -0.037523 | K35: =+Riders!K42 -> 0.0013 | L35: 0.02 | M35: 0.005072 | N35: 0 | O35: 0 | Q35: =A35 -> 44562 | R35: =+B35 -> 11.39 | S35: =+$V$1*C35 -> 207.782 | T35: =+D35 -> 1.46 | U35: =+$V$1*E35 -> 8.648 | V35: =+F35*(R35+S35+Z35+X35+U35+AC35+AD35+AA35) -> 9.2400992 | W35: =+G35 -> 0.5 | X35: =+$V$1*H35 -> 101.752 | Y35: =+$V$1*I35 -> 13.317 | Z35: =+J35*(R35+S35) -> -8.223991 | AA35: =+$V$1*K35 -> 2.99 | AB35: =+L35*(R35+S35+U35+X35+Z35+AA35+AC35+V35) -> 6.9048742 | AC35: =+$V$1*M35 -> 11.6656 | AD35: =+$V$1*N35 -> 0 | AE35: =+O35*(R35+S35+U35+X35+Z35+AA35+AC35+V35) -> 0 | AG35: =SUM(R35:AF35) -> 367.42558 | AH35: =+(AG35-AG34)/AG34 -> -0.008088805 | AI35: 304.424 | AJ35: =+(AI35-AI29)/AI29 -> 0.080111409
A36: 44652 | B36: =+B35 -> 11.39 | C36: =+C35 -> 0.09034 | D36: =+D35 -> 1.46 | E36: =+E35 -> 0.00376 | F36: 0.0275 | G36: 0.5 | H36: 0.05101 | I36: 0.00579 | J36: -0.037523 | K36: =+K35 -> 0.0013 | L36: 0.02 | M36: 0.005072 | N36: 0 | O36: 0 | Q36: =A36 -> 44652 | R36: =+B36 -> 11.39 | S36: =+$V$1*C36 -> 207.782 | T36: =+D36 -> 1.46 | U36: =+$V$1*E36 -> 8.648 | V36: =+F36*(R36+S36+Z36+X36+U36+AC36+AD36+AA36) -> 9.6683017 | W36: =+G36 -> 0.5 | X36: =+$V$1*H36 -> 117.323 | Y36: =+$V$1*I36 -> 13.317 | Z36: =+J36*(R36+S36) -> -8.223991 | AA36: =+$V$1*K36 -> 2.99 | AB36: =+L36*(R36+S36+U36+X36+Z36+AA36+AC36+V36) -> 7.2248582 | AC36: =+$V$1*M36 -> 11.6656 | AD36: =+$V$1*N36 -> 0 | AE36: =+O36*(R36+S36+U36+X36+Z36+AA36+AC36+V36) -> 0 | AG36: =SUM(R36:AF36) -> 383.74477 | AH36: =+(AG36-AG35)/AG35 -> 0.044414944
A37: 44743 | B37: =+B36 -> 11.39 | C37: =+C36 -> 0.09034 | D37: =+D36 -> 1.46 | E37: =+E36 -> 0.00376 | F37: 0.0226 | G37: 0.5 | H37: 0.06088 | I37: 0.00579 | J37: -0.037523 | K37: =+K36 -> 0.0013 | L37: 0.02 | M37: 0.005072 | N37: 0 | O37: 0 | Q37: =A37 -> 44743 | R37: =+B37 -> 11.39 | S37: =+$V$1*C37 -> 207.782 | T37: =+D37 -> 1.46 | U37: =+$V$1*E37 -> 8.648 | V37: =+F37*(R37+S37+Z37+X37+U37+AC37+AD37+AA37) -> 8.4586288 | W37: =+G37 -> 0.5 | X37: =+$V$1*H37 -> 140.024 | Y37: =+$V$1*I37 -> 13.317 | Z37: =+J37*(R37+S37) -> -8.223991 | AA37: =+$V$1*K37 -> 2.99 | AB37: =+L37*(R37+S37+U37+X37+Z37+AA37+AC37+V37) -> 7.6546848 | AC37: =+$V$1*M37 -> 11.6656 | AD37: =+$V$1*N37 -> 0 | AE37: =+O37*(R37+S37+U37+X37+Z37+AA37+AC37+V37) -> 0 | AG37: =SUM(R37:AF37) -> 405.66592 | AH37: =+(AG37-AG36)/AG36 -> 0.057124306
A38: 44835 | B38: =+B37 -> 11.39 | C38: =+C37 -> 0.09034 | D38: =+D37 -> 1.46 | E38: =+E37 -> 0.00376 | F38: 0.0226 | G38: 0.75 | H38: 0.06044 | I38: 0.00579 | J38: -0.037523 | K38: =+K37 -> 0.0013 | L38: 0.02 | M38: 0.005072 | N38: 0 | O38: 0 | Q38: =A38 -> 44835 | R38: =+B38 -> 11.39 | S38: =+$V$1*C38 -> 207.782 | T38: =+D38 -> 1.46 | U38: =+$V$1*E38 -> 8.648 | V38: =+F38*(R38+S38+Z38+X38+U38+AC38+AD38+AA38) -> 8.4357576 | W38: =+G38 -> 0.75 | X38: =+$V$1*H38 -> 139.012 | Y38: =+$V$1*I38 -> 13.317 | Z38: =+J38*(R38+S38) -> -8.223991 | AA38: =+$V$1*K38 -> 2.99 | AB38: =+L38*(R38+S38+U38+X38+Z38+AA38+AC38+V38) -> 7.6339873 | AC38: =+$V$1*M38 -> 11.6656 | AD38: =+$V$1*N38 -> 0 | AE38: =+O38*(R38+S38+U38+X38+Z38+AA38+AC38+V38) -> 0 | AG38: =SUM(R38:AF38) -> 404.86035 | AH38: =+(AG38-AG37)/AG37 -> -0.0019857932
