Workbook

Sheet Res 10 yr
A1: Rates by Component | R1: Charges for Average Res Cust (@600 kWh/Mo) | X1: 600
B2: Customer | C2: 1st Tier Energy | D2: 2nd Tier Energy | E2: BHEAP | F2: CACJA | G2: DSMCA | H2: EASBC | I2: ECA | J2: EGCRR | K2: GRSA | L2: PCCA | M2: RESA | N2: TCA | O2: TEPR | P2: CEPR | R2: Date | S2: Customer | T2: 1st Tier Energy | U2: 2nd Tier Energy | V2: BHEAP | W2: CACJA | X2: DSMCA | Y2: EASBC | Z2: ECA | AA2: EGCRR | AB2: GRSA | AC2: PCCA | AD2: RESA | AE2: TCA | AF2: TEPR | AG2: CEPR | AI2: Total | AJ2: % Delta | AL2: Annual Inflation
A3: 42186 | B3: 16.5 | C3: 0.0865 | D3: 0.0668 | E3: 0.28 | F3: 0.00159 | G3: 0.0226 | H3: 0 | I3: 0.03608 | J3: 0 | K3: 0 | L3: 0.00045 | M3: 0.02 | N3: 0.00174 | O3: 0 | P3: 0 | R3: =A3 -> 42186 | S3: =+B3 -> 16.5 | T3: =+$X$1*C3 -> 51.9 | U3: 0 | V3: =+E3 -> 0.28 | W3: =+$X$1*F3 -> 0.954 | X3: =+G3*(S3+T3+U3+AB3+Z3+W3+AE3+AF3+AC3) -> 2.0863416 | Y3: =+H3 -> 0 | Z3: =+$X$1*I3 -> 21.648 | AA3: =+$X$1*J3 -> 0 | AB3: =+K3*(S3+T3+U3) -> 0 | AC3: =+$X$1*L3 -> 0.27 | AD3: =+M3*(S3+T3+U3+W3+Z3+AB3+AC3+AE3+X3) -> 1.8880468 | AE3: =+$X$1*N3 -> 1.044 | AF3: =+$X$1*O3 -> 0 | AG3: =+P3*(S3+T3+U3+W3+Z3+AB3+AC3+AE3+X3) -> 0 | AI3: =SUM(S3:AH3) -> 96.570388 | AJ3: =+(AI3-#REF!)/#REF! -> #REF!
A4: 42278 | B4: 16.5 | C4: 0.0865 | D4: 0.0668 | E4: 0.28 | F4: 0.00159 | G4: 0.0226 | H4: 0 | I4: 0.04552 | J4: 0 | K4: 0 | L4: 0.00045 | M4: 0.02 | N4: 0.00174 | O4: 0 | P4: 0 | R4: =A4 -> 42278 | S4: =+B4 -> 16.5 | T4: =+$X$1*C4 -> 51.9 | U4: 0 | V4: =+E4 -> 0.28 | W4: =+$X$1*F4 -> 0.954 | X4: =+G4*(S4+T4+U4+AB4+Z4+W4+AE4+AF4+AC4) -> 2.214348 | Y4: =+H4 -> 0 | Z4: =+$X$1*I4 -> 27.312 | AA4: =+$X$1*J4 -> 0 | AB4: =+K4*(S4+T4+U4) -> 0 | AC4: =+$X$1*L4 -> 0.27 | AD4: =+M4*(S4+T4+U4+W4+Z4+AB4+AC4+AE4+X4) -> 2.003887 | AE4: =+$X$1*N4 -> 1.044 | AF4: =+$X$1*O4 -> 0 | AG4: =+P4*(S4+T4+U4+W4+Z4+AB4+AC4+AE4+X4) -> 0 | AI4: =SUM(S4:AH4) -> 102.47823 | AJ4: =+(AI4-AI3)/AI3 -> 0.061176584
A5: 42370 | B5: 16.5 | C5: 0.0865 | D5: 0.0668 | E5: 0.28 | F5: 0.0028 | G5: 0.0226 | H5: 0 | I5: 0.04552 | J5: 0 | K5: 0 | L5: 0.0004 | M5: 0.02 | N5: 0.001266 | O5: 0 | P5: 0 | R5: =A5 -> 42370 | S5: =+B5 -> 16.5 | T5: =+$X$1*C5 -> 51.9 | U5: 0 | V5: =+E5 -> 0.28 | W5: =+$X$1*F5 -> 1.68 | X5: =+G5*(S5+T5+U5+AB5+Z5+W5+AE5+AF5+AC5) -> 2.2236502 | Y5: =+H5 -> 0 | Z5: =+$X$1*I5 -> 27.312 | AA5: =+$X$1*J5 -> 0 | AB5: =+K5*(S5+T5+U5) -> 0 | AC5: =+$X$1*L5 -> 0.24 | AD5: =+M5*(S5+T5+U5+W5+Z5+AB5+AC5+AE5+X5) -> 2.012305 | AE5: =+$X$1*N5 -> 0.7596 | AF5: =+$X$1*O5 -> 0 | AG5: =+P5*(S5+T5+U5+W5+Z5+AB5+AC5+AE5+X5) -> 0 | AI5: =SUM(S5:AH5) -> 102.90756 | AJ5: =+(AI5-AI4)/AI4 -> 0.0041893794 | AK5: 246.643 | AL5: =+(AK5-#REF!)/#REF! -> #REF!
A6: 42401 | B6: 16.5 | C6: 0.0865 | D6: 0.0668 | E6: 0.28 | F6: 0.0028 | G6: 0.0254 | H6: 0 | I6: 0.04552 | J6: 0 | K6: 0 | L6: 0.0004 | M6: 0.02 | N6: 0.001266 | O6: 0 | P6: 0 | R6: =A6 -> 42401 | S6: =+B6 -> 16.5 | T6: =+$X$1*C6 -> 51.9 | U6: 0 | V6: =+E6 -> 0.28 | W6: =+$X$1*F6 -> 1.68 | X6: =+G6*(S6+T6+U6+AB6+Z6+W6+AE6+AF6+AC6) -> 2.4991466 | Y6: =+H6 -> 0 | Z6: =+$X$1*I6 -> 27.312 | AA6: =+$X$1*J6 -> 0 | AB6: =+K6*(S6+T6+U6) -> 0 | AC6: =+$X$1*L6 -> 0.24 | AD6: =+M6*(S6+T6+U6+W6+Z6+AB6+AC6+AE6+X6) -> 2.0178149 | AE6: =+$X$1*N6 -> 0.7596 | AF6: =+$X$1*O6 -> 0 | AG6: =+P6*(S6+T6+U6+W6+Z6+AB6+AC6+AE6+X6) -> 0 | AI6: =SUM(S6:AH6) -> 103.18856 | AJ6: =+(AI6-AI5)/AI5 -> 0.0027306684
A7: 42461 | B7: 16.5 | C7: 0.0865 | D7: 0.0668 | E7: 0.28 | F7: 0.0028 | G7: 0.0254 | H7: 0 | I7: 0.04552 | J7: 0 | K7: 0 | L7: 0.0004 | M7: 0.02 | N7: 0.001266 | O7: 0 | P7: 0 | R7: =A7 -> 42461 | S7: =+B7 -> 16.5 | T7: =+$X$1*C7 -> 51.9 | U7: 0 | V7: =+E7 -> 0.28 | W7: =+$X$1*F7 -> 1.68 | X7: =+G7*(S7+T7+U7+AB7+Z7+W7+AE7+AF7+AC7) -> 2.4991466 | Y7: =+H7 -> 0 | Z7: =+$X$1*I7 -> 27.312 | AA7: =+$X$1*J7 -> 0 | AB7: =+K7*(S7+T7+U7) -> 0 | AC7: =+$X$1*L7 -> 0.24 | AD7: =+M7*(S7+T7+U7+W7+Z7+AB7+AC7+AE7+X7) -> 2.0178149 | AE7: =+$X$1*N7 -> 0.7596 | AF7: =+$X$1*O7 -> 0 | AG7: =+P7*(S7+T7+U7+W7+Z7+AB7+AC7+AE7+X7) -> 0 | AI7: =SUM(S7:AH7) -> 103.18856 | AJ7: =+(AI7-AI6)/AI6 -> 0
A8: 42552 | B8: 16.5 | C8: 0.0865 | D8: 0.0668 | E8: 0.28 | F8: 0.00323 | G8: 0.0318 | H8: 0 | I8: 0.0362 | J8: 0 | K8: 0 | L8: 0.0004 | M8: 0.02 | N8: 0.001266 | O8: 0 | P8: 0 | R8: =A8 -> 42552 | S8: =+B8 -> 16.5 | T8: =+$X$1*C8 -> 51.9 | U8: 0 | V8: =+E8 -> 0.28 | W8: =+$X$1*F8 -> 1.938 | X8: =+G8*(S8+T8+U8+AB8+Z8+W8+AE8+AF8+AC8) -> 2.9592317 | Y8: =+H8 -> 0 | Z8: =+$X$1*I8 -> 21.72 | AA8: =+$X$1*J8 -> 0 | AB8: =+K8*(S8+T8+U8) -> 0 | AC8: =+$X$1*L8 -> 0.24 | AD8: =+M8*(S8+T8+U8+W8+Z8+AB8+AC8+AE8+X8) -> 1.9203366 | AE8: =+$X$1*N8 -> 0.7596 | AF8: =+$X$1*O8 -> 0 | AG8: =+P8*(S8+T8+U8+W8+Z8+AB8+AC8+AE8+X8) -> 0 | AI8: =SUM(S8:AH8) -> 98.217168 | AJ8: =+(AI8-AI7)/AI7 -> -0.048177755
A9: 42644 | B9: 16.5 | C9: 0.0865 | D9: 0.0668 | E9: 0.28 | F9: 0.00323 | G9: 0.0318 | H9: 0 | I9: 0.04019 | J9: 0 | K9: 0 | L9: 0.0004 | M9: 0.02 | N9: 0.001266 | O9: 0 | P9: 0 | R9: =A9 -> 42644 | S9: =+B9 -> 16.5 | T9: =+$X$1*C9 -> 51.9 | U9: 0 | V9: =+E9 -> 0.28 | W9: =+$X$1*F9 -> 1.938 | X9: =+G9*(S9+T9+U9+AB9+Z9+W9+AE9+AF9+AC9) -> 3.0353609 | Y9: =+H9 -> 0 | Z9: =+$X$1*I9 -> 24.114 | AA9: =+$X$1*J9 -> 0 | AB9: =+K9*(S9+T9+U9) -> 0 | AC9: =+$X$1*L9 -> 0.24 | AD9: =+M9*(S9+T9+U9+W9+Z9+AB9+AC9+AE9+X9) -> 1.9697392 | AE9: =+$X$1*N9 -> 0.7596 | AF9: =+$X$1*O9 -> 0 | AG9: =+P9*(S9+T9+U9+W9+Z9+AB9+AC9+AE9+X9) -> 0 | AI9: =SUM(S9:AH9) -> 100.7367 | AJ9: =+(AI9-AI8)/AI8 -> 0.025652662
A10: 42736 | B10: 16.5 | C10: 0.0865 | D10: 0.0668 | E10: 0.28 | F10: 0 | G10: 0.0318 | H10: 0 | I10: 0.03335 | J10: 0 | K10: 0.023552 | L10: 0.00057 | M10: 0.02 | N10: 0.001266 | O10: 0 | P10: 0 | R10: =A10 -> 42736 | S10: =+B10 -> 16.5 | T10: =+$X$1*C10 -> 51.9 | U10: 0 | V10: =+E10 -> 0.28 | W10: =+$X$1*F10 -> 0 | X10: =+G10*(S10+T10+U10+AB10+Z10+W10+AE10+AF10+AC10) -> 2.8976973 | Y10: =+H10 -> 0 | Z10: =+$X$1*I10 -> 20.01 | AA10: =+$X$1*J10 -> 0 | AB10: =+K10*(S10+T10+U10) -> 1.6109568 | AC10: =+$X$1*L10 -> 0.342 | AD10: =+M10*(S10+T10+U10+W10+Z10+AB10+AC10+AE10+X10) -> 1.8804051 | AE10: =+$X$1*N10 -> 0.7596 | AF10: =+$X$1*O10 -> 0 | AG10: =+P10*(S10+T10+U10+W10+Z10+AB10+AC10+AE10+X10) -> 0 | AI10: =SUM(S10:AH10) -> 96.180659 | AJ10: =+(AI10-AI9)/AI9 -> -0.04522722 | AK10: 254.995 | AL10: =+(AK10-AK5)/AK5 -> 0.033862708
A11: 42767 | B11: 16.5 | C11: 0.0865 | D11: 0.0668 | E11: 0.28 | F11: 0 | G11: 0.0318 | H11: 0 | I11: 0.03335 | J11: 0 | K11: 0.023552 | L11: 0.00057 | M11: 0.02 | N11: 0.001266 | O11: 0 | P11: 0 | R11: =A11 -> 42767 | S11: =+B11 -> 16.5 | T11: =+$X$1*C11 -> 51.9 | U11: 0 | V11: =+E11 -> 0.28 | W11: =+$X$1*F11 -> 0 | X11: =+G11*(S11+T11+U11+AB11+Z11+W11+AE11+AF11+AC11) -> 2.8976973 | Y11: =+H11 -> 0 | Z11: =+$X$1*I11 -> 20.01 | AA11: =+$X$1*J11 -> 0 | AB11: =+K11*(S11+T11+U11) -> 1.6109568 | AC11: =+$X$1*L11 -> 0.342 | AD11: =+M11*(S11+T11+U11+W11+Z11+AB11+AC11+AE11+X11) -> 1.8804051 | AE11: =+$X$1*N11 -> 0.7596 | AF11: =+$X$1*O11 -> 0 | AG11: =+P11*(S11+T11+U11+W11+Z11+AB11+AC11+AE11+X11) -> 0 | AI11: =SUM(S11:AH11) -> 96.180659 | AJ11: =+(AI11-AI10)/AI10 -> 0
A12: 42826 | B12: 16.5 | C12: 0.0865 | D12: 0.0668 | E12: 0.28 | F12: 0 | G12: 0.0318 | H12: 0 | I12: 0.03997 | J12: 0 | K12: 0.023552 | L12: 0.00057 | M12: 0.02 | N12: 0.001266 | O12: 0 | P12: 0 | R12: =A12 -> 42826 | S12: =+B12 -> 16.5 | T12: =+$X$1*C12 -> 51.9 | U12: 0 | V12: =+E12 -> 0.28 | W12: =+$X$1*F12 -> 0 | X12: =+G12*(S12+T12+U12+AB12+Z12+W12+AE12+AF12+AC12) -> 3.0240069 | Y12: =+H12 -> 0 | Z12: =+$X$1*I12 -> 23.982 | AA12: =+$X$1*J12 -> 0 | AB12: =+K12*(S12+T12+U12) -> 1.6109568 | AC12: =+$X$1*L12 -> 0.342 | AD12: =+M12*(S12+T12+U12+W12+Z12+AB12+AC12+AE12+X12) -> 1.9623713 | AE12: =+$X$1*N12 -> 0.7596 | AF12: =+$X$1*O12 -> 0 | AG12: =+P12*(S12+T12+U12+W12+Z12+AB12+AC12+AE12+X12) -> 0 | AI12: =SUM(S12:AH12) -> 100.36093 | AJ12: =+(AI12-AI11)/AI11 -> 0.043462748
A13: 42917 | B13: 16.5 | C13: 0.0865 | D13: 0.0668 | E13: 0.28 | F13: 0.00373 | G13: 0.0262 | H13: 0 | I13: 0.03143 | J13: 0 | K13: 0.023552 | L13: 0.00057 | M13: 0.02 | N13: 0.001722 | O13: 0 | P13: 0 | R13: =A13 -> 42917 | S13: =+B13 -> 16.5 | T13: =+$X$1*C13 -> 51.9 | U13: 0 | V13: =+E13 -> 0.28 | W13: =+$X$1*F13 -> 2.238 | X13: =+G13*(S13+T13+U13+AB13+Z13+W13+AE13+AF13+AC13) -> 2.4230325 | Y13: =+H13 -> 0 | Z13: =+$X$1*I13 -> 18.858 | AA13: =+$X$1*J13 -> 0 | AB13: =+K13*(S13+T13+U13) -> 1.6109568 | AC13: =+$X$1*L13 -> 0.342 | AD13: =+M13*(S13+T13+U13+W13+Z13+AB13+AC13+AE13+X13) -> 1.8981038 | AE13: =+$X$1*N13 -> 1.0332 | AF13: =+$X$1*O13 -> 0 | AG13: =+P13*(S13+T13+U13+W13+Z13+AB13+AC13+AE13+X13) -> 0 | AI13: =SUM(S13:AH13) -> 97.083293 | AJ13: =+(AI13-AI12)/AI12 -> -0.032658543
A14: 43009 | B14: 16.5 | C14: 0.0865 | D14: 0.0668 | E14: 0.31 | F14: 0.00373 | G14: 0.0285 | H14: 0 | I14: 0.04052 | J14: 0 | K14: 0.023552 | L14: 0.00057 | M14: 0.02 | N14: 0.001722 | O14: 0 | P14: 0 | R14: =A14 -> 43009 | S14: =+B14 -> 16.5 | T14: =+$X$1*C14 -> 51.9 | U14: 0 | V14: =+E14 -> 0.31 | W14: =+$X$1*F14 -> 2.238 | X14: =+G14*(S14+T14+U14+AB14+Z14+W14+AE14+AF14+AC14) -> 2.7911805 | Y14: =+H14 -> 0 | Z14: =+$X$1*I14 -> 24.312 | AA14: =+$X$1*J14 -> 0 | AB14: =+K14*(S14+T14+U14) -> 1.6109568 | AC14: =+$X$1*L14 -> 0.342 | AD14: =+M14*(S14+T14+U14+W14+Z14+AB14+AC14+AE14+X14) -> 2.0145467 | AE14: =+$X$1*N14 -> 1.0332 | AF14: =+$X$1*O14 -> 0 | AG14: =+P14*(S14+T14+U14+W14+Z14+AB14+AC14+AE14+X14) -> 0 | AI14: =SUM(S14:AH14) -> 103.05188 | AJ14: =+(AI14-AI13)/AI13 -> 0.061479074
A15: 43101 | B15: 16.5 | C15: 0.0865 | D15: 0.0668 | E15: 0.31 | F15: 0.00376 | G15: 0.0285 | H15: 0 | I15: 0.0408 | J15: 0 | K15: 0.023552 | L15: 0.00068 | M15: 0.02 | N15: 0.003052 | O15: 0 | P15: 0 | R15: =A15 -> 43101 | S15: =+B15 -> 16.5 | T15: =+$X$1*C15 -> 51.9 | U15: 0 | V15: =+E15 -> 0.31 | W15: =+$X$1*F15 -> 2.256 | X15: =+G15*(S15+T15+U15+AB15+Z15+W15+AE15+AF15+AC15) -> 2.8211055 | Y15: =+H15 -> 0 | Z15: =+$X$1*I15 -> 24.48 | AA15: =+$X$1*J15 -> 0 | AB15: =+K15*(S15+T15+U15) -> 1.6109568 | AC15: =+$X$1*L15 -> 0.408 | AD15: =+M15*(S15+T15+U15+W15+Z15+AB15+AC15+AE15+X15) -> 2.0361452 | AE15: =+$X$1*N15 -> 1.8312 | AF15: =+$X$1*O15 -> 0 | AG15: =+P15*(S15+T15+U15+W15+Z15+AB15+AC15+AE15+X15) -> 0 | AI15: =SUM(S15:AH15) -> 104.15341 | AJ15: =+(AI15-AI14)/AI14 -> 0.010689019 | AK15: 261.958 | AL15: =+(AK15-AK10)/AK10 -> 0.027306418
A16: 43191 | B16: 16.5 | C16: 0.0865 | D16: 0.0668 | E16: 0.31 | F16: 0.00376 | G16: 0.0285 | H16: 0 | I16: 0.03484 | J16: 0 | K16: 0.023552 | L16: 0.00068 | M16: 0.02 | N16: 0.003052 | O16: 0 | P16: 0 | R16: =A16 -> 43191 | S16: =+B16 -> 16.5 | T16: =+$X$1*C16 -> 51.9 | U16: 0 | V16: =+E16 -> 0.31 | W16: =+$X$1*F16 -> 2.256 | X16: =+G16*(S16+T16+U16+AB16+Z16+W16+AE16+AF16+AC16) -> 2.7191895 | Y16: =+H16 -> 0 | Z16: =+$X$1*I16 -> 20.904 | AA16: =+$X$1*J16 -> 0 | AB16: =+K16*(S16+T16+U16) -> 1.6109568 | AC16: =+$X$1*L16 -> 0.408 | AD16: =+M16*(S16+T16+U16+W16+Z16+AB16+AC16+AE16+X16) -> 1.9625869 | AE16: =+$X$1*N16 -> 1.8312 | AF16: =+$X$1*O16 -> 0 | AG16: =+P16*(S16+T16+U16+W16+Z16+AB16+AC16+AE16+X16) -> 0 | AI16: =SUM(S16:AH16) -> 100.40193 | AJ16: =+(AI16-AI15)/AI15 -> -0.036018738
A17: 43282 | B17: 8.77 | C17: 0.09999 | D17: 0.13004 | E17: 0.31 | F17: 0.00376 | G17: 0.0252 | H17: 0 | I17: 0.02991 | J17: 0 | K17: =+K18 -> -0.037523 | L17: 0.00068 | M17: 0.02 | N17: 0.003052 | O17: 0 | P17: 0 | R17: =A17 -> 43282 | S17: =+B17 -> 8.77 | T17: =500*C17 -> 49.995 | U17: =100*D17 -> 13.004 | V17: =+E17 -> 0.31 | W17: =+$X$1*F17 -> 2.256 | X17: =+G17*(S17+T17+U17+AB17+Z17+W17+AE17+AF17+AC17) -> 2.3062337 | Y17: =+H17 -> 0 | Z17: =+$X$1*I17 -> 17.946 | AA17: =+$X$1*J17 -> 0 | AB17: =+K17*(S17+T17+U17) -> -2.6929882 | AC17: =+$X$1*L17 -> 0.408 | AD17: =+M17*(S17+T17+U17+W17+Z17+AB17+AC17+AE17+X17) -> 1.8764689 | AE17: =+$X$1*N17 -> 1.8312 | AF17: =+$X$1*O17 -> 0 | AG17: =+P17*(S17+T17+U17+W17+Z17+AB17+AC17+AE17+X17) -> 0 | AI17: =SUM(S17:AH17) -> 96.009914 | AJ17: =+(AI17-AI16)/AI16 -> -0.043744364
A18: 43343 | B18: 8.77 | C18: 0.09999 | D18: 0.13004 | E18: 0.31 | F18: 0.00444 | G18: 0.0252 | H18: 0 | I18: 0.02991 | J18: 0 | K18: =+K19 -> -0.037523 | L18: 0.00068 | M18: 0.02 | N18: 0.003052 | O18: 0 | P18: 0 | R18: =A18 -> 43343 | S18: =+B18 -> 8.77 | T18: =500*C18 -> 49.995 | U18: =100*D18 -> 13.004 | V18: =+E18 -> 0.31 | W18: =+$X$1*F18 -> 2.664 | X18: =+G18*(S18+T18+U18+AB18+Z18+W18+AE18+AF18+AC18) -> 2.3165153 | Y18: =+H18 -> 0 | Z18: =+$X$1*I18 -> 17.946 | AA18: =+$X$1*J18 -> 0 | AB18: =+K18*(S18+T18+U18) -> -2.6929882 | AC18: =+$X$1*L18 -> 0.408 | AD18: =+M18*(S18+T18+U18+W18+Z18+AB18+AC18+AE18+X18) -> 1.8848345 | AE18: =+$X$1*N18 -> 1.8312 | AF18: =+$X$1*O18 -> 0 | AG18: =+P18*(S18+T18+U18+W18+Z18+AB18+AC18+AE18+X18) -> 0 | AI18: =SUM(S18:AH18) -> 96.436562 | AJ18: =+(AI18-AI17)/AI17 -> 0.0044437831
A19: 43374 | B19: 8.77 | C19: 0.09999 | D19: 0.13004 | E19: 0.31 | F19: 0.00444 | G19: 0.0252 | H19: 0 | I19: 0.03426 | J19: 0 | K19: =+K20 -> -0.037523 | L19: 0.00068 | M19: 0.02 | N19: 0.003052 | O19: 0 | P19: 0 | R19: =A19 -> 43374 | S19: =+B19 -> 8.77 | T19: =500*C19 -> 49.995 | U19: =100*D19 -> 13.004 | V19: =+E19 -> 0.31 | W19: =+$X$1*F19 -> 2.664 | X19: =+G19*(S19+T19+U19+AB19+Z19+W19+AE19+AF19+AC19) -> 2.3822873 | Y19: =+H19 -> 0 | Z19: =+$X$1*I19 -> 20.556 | AA19: =+$X$1*J19 -> 0 | AB19: =+K19*(S19+T19+U19) -> -2.6929882 | AC19: =+$X$1*L19 -> 0.408 | AD19: =+M19*(S19+T19+U19+W19+Z19+AB19+AC19+AE19+X19) -> 1.93835 | AE19: =+$X$1*N19 -> 1.8312 | AF19: =+$X$1*O19 -> 0 | AG19: =+P19*(S19+T19+U19+W19+Z19+AB19+AC19+AE19+X19) -> 0 | AI19: =SUM(S19:AH19) -> 99.165849 | AJ19: =+(AI19-AI18)/AI18 -> 0.028301376
A20: 43466 | B20: 8.77 | C20: 0.09999 | D20: 0.13004 | E20: 0.31 | F20: 0.00444 | G20: 0.0238 | H20: 0 | I20: 0.03772 | J20: 0 | K20: =+K21 -> -0.037523 | L20: 0.00077 | M20: 0.02 | N20: 0.002069 | O20: 0 | P20: 0 | R20: =A20 -> 43466 | S20: =+B20 -> 8.77 | T20: =500*C20 -> 49.995 | U20: =100*D20 -> 13.004 | V20: =+E20 -> 0.31 | W20: =+$X$1*F20 -> 2.664 | X20: =+G20*(S20+T20+U20+AB20+Z20+W20+AE20+AF20+AC20) -> 2.2865948 | Y20: =+H20 -> 0 | Z20: =+$X$1*I20 -> 22.632 | AA20: =+$X$1*J20 -> 0 | AB20: =+K20*(S20+T20+U20) -> -2.6929882 | AC20: =+$X$1*L20 -> 0.462 | AD20: =+M20*(S20+T20+U20+W20+Z20+AB20+AC20+AE20+X20) -> 1.9672401 | AE20: =+$X$1*N20 -> 1.2414 | AF20: =+$X$1*O20 -> 0 | AG20: =+P20*(S20+T20+U20+W20+Z20+AB20+AC20+AE20+X20) -> 0 | AI20: =SUM(S20:AH20) -> 100.63925 | AJ20: =+(AI20-AI19)/AI19 -> 0.014857914 | AK20: 266.999 | AL20: =+(AK20-AK15)/AK15 -> 0.019243543
A21: 43556 | B21: 8.77 | C21: 0.09999 | D21: 0.13004 | E21: 0.31 | F21: 0.00444 | G21: 0.0238 | H21: 0 | I21: 0.0381 | J21: 0 | K21: =+K22 -> -0.037523 | L21: 0.00077 | M21: 0.02 | N21: 0.002069 | O21: 0 | P21: 0 | R21: =A21 -> 43556 | S21: =+B21 -> 8.77 | T21: =500*C21 -> 49.995 | U21: =100*D21 -> 13.004 | V21: =+E21 -> 0.31 | W21: =+$X$1*F21 -> 2.664 | X21: =+G21*(S21+T21+U21+AB21+Z21+W21+AE21+AF21+AC21) -> 2.2920212 | Y21: =+H21 -> 0 | Z21: =+$X$1*I21 -> 22.86 | AA21: =+$X$1*J21 -> 0 | AB21: =+K21*(S21+T21+U21) -> -2.6929882 | AC21: =+$X$1*L21 -> 0.462 | AD21: =+M21*(S21+T21+U21+W21+Z21+AB21+AC21+AE21+X21) -> 1.9719087 | AE21: =+$X$1*N21 -> 1.2414 | AF21: =+$X$1*O21 -> 0 | AG21: =+P21*(S21+T21+U21+W21+Z21+AB21+AC21+AE21+X21) -> 0 | AI21: =SUM(S21:AH21) -> 100.87734 | AJ21: =+(AI21-AI20)/AI20 -> 0.0023658258
A22: 43647 | B22: 8.77 | C22: 0.09999 | D22: 0.13004 | E22: 0.31 | F22: 0.00444 | G22: 0.0177 | H22: 0 | I22: 0.04099 | J22: 0 | K22: =+K23 -> -0.037523 | L22: 0.00077 | M22: 0.02 | N22: 0.002069 | O22: 0 | P22: 0 | R22: =A22 -> 43647 | S22: =+B22 -> 8.77 | T22: =500*C22 -> 49.995 | U22: =100*D22 -> 13.004 | V22: =+E22 -> 0.31 | W22: =+$X$1*F22 -> 2.664 | X22: =+G22*(S22+T22+U22+AB22+Z22+W22+AE22+AF22+AC22) -> 1.7352622 | Y22: =+H22 -> 0 | Z22: =+$X$1*I22 -> 24.594 | AA22: =+$X$1*J22 -> 0 | AB22: =+K22*(S22+T22+U22) -> -2.6929882 | AC22: =+$X$1*L22 -> 0.462 | AD22: =+M22*(S22+T22+U22+W22+Z22+AB22+AC22+AE22+X22) -> 1.9954535 | AE22: =+$X$1*N22 -> 1.2414 | AF22: =+$X$1*O22 -> 0 | AG22: =+P22*(S22+T22+U22+W22+Z22+AB22+AC22+AE22+X22) -> 0 | AI22: =SUM(S22:AH22) -> 102.07813 | AJ22: =+(AI22-AI21)/AI21 -> 0.011903424
A23: 43711 | B23: 8.77 | C23: 0.09999 | D23: 0.13004 | E23: 0.31 | F23: 0.00444 | G23: 0.0177 | H23: 0 | I23: 0.04099 | J23: 0 | K23: -0.037523 | L23: 0.00077 | M23: 0.02 | N23: 0.002069 | O23: 0 | P23: 0 | R23: =A23 -> 43711 | S23: =+B23 -> 8.77 | T23: =500*C23 -> 49.995 | U23: =100*D23 -> 13.004 | V23: =+E23 -> 0.31 | W23: =+$X$1*F23 -> 2.664 | X23: =+G23*(S23+T23+U23+AB23+Z23+W23+AE23+AF23+AC23) -> 1.7352622 | Y23: =+H23 -> 0 | Z23: =+$X$1*I23 -> 24.594 | AA23: =+$X$1*J23 -> 0 | AB23: =+K23*(S23+T23+U23) -> -2.6929882 | AC23: =+$X$1*L23 -> 0.462 | AD23: =+M23*(S23+T23+U23+W23+Z23+AB23+AC23+AE23+X23) -> 1.9954535 | AE23: =+$X$1*N23 -> 1.2414 | AF23: =+$X$1*O23 -> 0 | AG23: =+P23*(S23+T23+U23+W23+Z23+AB23+AC23+AE23+X23) -> 0 | AI23: =SUM(S23:AH23) -> 102.07813 | AJ23: =+(AI23-AI22)/AI22 -> 0
A24: 43739 | B24: 8.77 | C24: 0.09999 | D24: 0.13004 | E24: 0.31 | F24: 0.00444 | G24: 0.0177 | H24: 0 | I24: 0.03913 | J24: 0 | K24: -0.037523 | L24: 0.00077 | M24: 0.02 | N24: 0.002069 | O24: 0 | P24: 0 | R24: =A24 -> 43739 | S24: =+B24 -> 8.77 | T24: =500*C24 -> 49.995 | U24: =100*D24 -> 13.004 | V24: =+E24 -> 0.31 | W24: =+$X$1*F24 -> 2.664 | X24: =+G24*(S24+T24+U24+AB24+Z24+W24+AE24+AF24+AC24) -> 1.715509 | Y24: =+H24 -> 0 | Z24: =+$X$1*I24 -> 23.478 | AA24: =+$X$1*J24 -> 0 | AB24: =+K24*(S24+T24+U24) -> -2.6929882 | AC24: =+$X$1*L24 -> 0.462 | AD24: =+M24*(S24+T24+U24+W24+Z24+AB24+AC24+AE24+X24) -> 1.9727384 | AE24: =+$X$1*N24 -> 1.2414 | AF24: =+$X$1*O24 -> 0 | AG24: =+P24*(S24+T24+U24+W24+Z24+AB24+AC24+AE24+X24) -> 0 | AI24: =SUM(S24:AH24) -> 100.91966 | AJ24: =+(AI24-AI23)/AI23 -> -0.011348839
A25: 43831 | B25: 8.77 | C25: 0.09999 | D25: 0.13004 | E25: 0.31 | F25: 0.00444 | G25: 0.0182 | H25: 0 | I25: 0.03674 | J25: 0 | K25: -0.037523 | L25: 0.00082 | M25: 0.02 | N25: 0.00286 | O25: 0 | P25: 0 | R25: =A25 -> 43831 | S25: =+B25 -> 8.77 | T25: =500*C25 -> 49.995 | U25: =100*D25 -> 13.004 | V25: =+E25 -> 0.31 | W25: =+$X$1*F25 -> 2.664 | X25: =+G25*(S25+T25+U25+AB25+Z25+W25+AE25+AF25+AC25) -> 1.7470546 | Y25: =+H25 -> 0 | Z25: =+$X$1*I25 -> 22.044 | AA25: =+$X$1*J25 -> 0 | AB25: =+K25*(S25+T25+U25) -> -2.6929882 | AC25: =+$X$1*L25 -> 0.492 | AD25: =+M25*(S25+T25+U25+W25+Z25+AB25+AC25+AE25+X25) -> 1.9547813 | AE25: =+$X$1*N25 -> 1.716 | AF25: =+$X$1*O25 -> 0 | AG25: =+P25*(S25+T25+U25+W25+Z25+AB25+AC25+AE25+X25) -> 0 | AI25: =SUM(S25:AH25) -> 100.00385 | AJ25: =+(AI25-AI24)/AI24 -> -0.0090746587 | AK25: 272.207 | AL25: =+(AK25-AK20)/AK20 -> 0.019505691
A26: 43922 | B26: 8.77 | C26: 0.09999 | D26: 0.13004 | E26: 0.31 | F26: 0.00444 | G26: 0.0182 | H26: 0 | I26: 0.03714 | J26: 0 | K26: -0.037523 | L26: 0.00082 | M26: 0.02 | N26: 0.00286 | O26: 0 | P26: 0 | R26: =A26 -> 43922 | S26: =+B26 -> 8.77 | T26: =500*C26 -> 49.995 | U26: =100*D26 -> 13.004 | V26: =+E26 -> 0.31 | W26: =+$X$1*F26 -> 2.664 | X26: =+G26*(S26+T26+U26+AB26+Z26+W26+AE26+AF26+AC26) -> 1.7514226 | Y26: =+H26 -> 0 | Z26: =+$X$1*I26 -> 22.284 | AA26: =+$X$1*J26 -> 0 | AB26: =+K26*(S26+T26+U26) -> -2.6929882 | AC26: =+$X$1*L26 -> 0.492 | AD26: =+M26*(S26+T26+U26+W26+Z26+AB26+AC26+AE26+X26) -> 1.9596687 | AE26: =+$X$1*N26 -> 1.716 | AF26: =+$X$1*O26 -> 0 | AG26: =+P26*(S26+T26+U26+W26+Z26+AB26+AC26+AE26+X26) -> 0 | AI26: =SUM(S26:AH26) -> 100.2531 | AJ26: =+(AI26-AI25)/AI25 -> 0.0024924577
A27: 44013 | B27: 8.77 | C27: 0.09999 | D27: 0.13004 | E27: 0.31 | F27: 0.00444 | G27: 0.0198 | H27: 0 | I27: 0.03452 | J27: 0 | K27: -0.037523 | L27: 0.00082 | M27: 0.02 | N27: 0.00286 | O27: 0 | P27: 0 | R27: =A27 -> 44013 | S27: =+B27 -> 8.77 | T27: =500*C27 -> 49.995 | U27: =100*D27 -> 13.004 | V27: =+E27 -> 0.31 | W27: =+$X$1*F27 -> 2.664 | X27: =+G27*(S27+T27+U27+AB27+Z27+W27+AE27+AF27+AC27) -> 1.8742682 | Y27: =+H27 -> 0 | Z27: =+$X$1*I27 -> 20.712 | AA27: =+$X$1*J27 -> 0 | AB27: =+K27*(S27+T27+U27) -> -2.6929882 | AC27: =+$X$1*L27 -> 0.492 | AD27: =+M27*(S27+T27+U27+W27+Z27+AB27+AC27+AE27+X27) -> 1.9306856 | AE27: =+$X$1*N27 -> 1.716 | AF27: =+$X$1*O27 -> 0 | AG27: =+P27*(S27+T27+U27+W27+Z27+AB27+AC27+AE27+X27) -> 0 | AI27: =SUM(S27:AH27) -> 98.774966 | AJ27: =+(AI27-AI26)/AI26 -> -0.014744057
A28: 44105 | B28: 8.77 | C28: 0.09999 | D28: 0.13004 | E28: 0.31 | F28: 0.00444 | G28: 0.0198 | H28: 0 | I28: 0.03154 | J28: 0 | K28: -0.037523 | L28: 0.00082 | M28: 0.02 | N28: 0.00286 | O28: 0 | P28: 0 | R28: =A28 -> 44105 | S28: =+B28 -> 8.77 | T28: =500*C28 -> 49.995 | U28: =100*D28 -> 13.004 | V28: =+E28 -> 0.31 | W28: =+$X$1*F28 -> 2.664 | X28: =+G28*(S28+T28+U28+AB28+Z28+W28+AE28+AF28+AC28) -> 1.8388658 | Y28: =+H28 -> 0 | Z28: =+$X$1*I28 -> 18.924 | AA28: =+$X$1*J28 -> 0 | AB28: =+K28*(S28+T28+U28) -> -2.6929882 | AC28: =+$X$1*L28 -> 0.492 | AD28: =+M28*(S28+T28+U28+W28+Z28+AB28+AC28+AE28+X28) -> 1.8942176 | AE28: =+$X$1*N28 -> 1.716 | AF28: =+$X$1*O28 -> 0 | AG28: =+P28*(S28+T28+U28+W28+Z28+AB28+AC28+AE28+X28) -> 0 | AI28: =SUM(S28:AH28) -> 96.915095 | AJ28: =+(AI28-AI27)/AI27 -> -0.018829371
A29: 44197 | B29: 8.77 | C29: 0.09999 | D29: 0.13004 | E29: 0.31 | F29: 0.00444 | G29: 0.0195 | H29: 0 | I29: 0.03501 | J29: 0 | K29: -0.037523 | L29: 0.00108 | M29: 0.02 | N29: 0.003655 | O29: 0 | P29: 0 | R29: =A29 -> 44197 | S29: =+B29 -> 8.77 | T29: =500*C29 -> 49.995 | U29: =100*D29 -> 13.004 | V29: =+E29 -> 0.31 | W29: =+$X$1*F29 -> 2.664 | X29: =+G29*(S29+T29+U29+AB29+Z29+W29+AE29+AF29+AC29) -> 1.8639467 | Y29: =+H29 -> 0 | Z29: =+$X$1*I29 -> 21.006 | AA29: =+$X$1*J29 -> 0 | AB29: =+K29*(S29+T29+U29) -> -2.6929882 | AC29: =+$X$1*L29 -> 0.648 | AD29: =+M29*(S29+T29+U29+W29+Z29+AB29+AC29+AE29+X29) -> 1.9490192 | AE29: =+$X$1*N29 -> 2.193 | AF29: =+$X$1*O29 -> 0 | AG29: =+P29*(S29+T29+U29+W29+Z29+AB29+AC29+AE29+X29) -> 0 | AI29: =SUM(S29:AH29) -> 99.709978 | AJ29: =+(AI29-AI28)/AI28 -> 0.028838464 | AK29: 281.845 | AL29: =+(AK29-AK25)/AK25 -> 0.035406878
A30: 44209 | B30: 8.77 | C30: 0.09999 | D30: 0.13004 | E30: 0.51 | F30: 0.00444 | G30: 0.0195 | H30: 0 | I30: 0.03501 | J30: 0 | K30: -0.037523 | L30: 0.00108 | M30: 0.02 | N30: 0.003655 | O30: 0 | P30: 0 | R30: =A30 -> 44209 | S30: =+B30 -> 8.77 | T30: =500*C30 -> 49.995 | U30: =100*D30 -> 13.004 | V30: =+E30 -> 0.51 | W30: =+$X$1*F30 -> 2.664 | X30: =+G30*(S30+T30+U30+AB30+Z30+W30+AE30+AF30+AC30) -> 1.8639467 | Y30: =+H30 -> 0 | Z30: =+$X$1*I30 -> 21.006 | AA30: =+$X$1*J30 -> 0 | AB30: =+K30*(S30+T30+U30) -> -2.6929882 | AC30: =+$X$1*L30 -> 0.648 | AD30: =+M30*(S30+T30+U30+W30+Z30+AB30+AC30+AE30+X30) -> 1.9490192 | AE30: =+$X$1*N30 -> 2.193 | AF30: =+$X$1*O30 -> 0 | AG30: =+P30*(S30+T30+U30+W30+Z30+AB30+AC30+AE30+X30) -> 0 | AI30: =SUM(S30:AH30) -> 99.909978 | AJ30: =+(AI30-AI29)/AI29 -> 0.0020058173
A31: 44265 | B31: 8.77 | C31: 0.09999 | D31: 0.13004 | E31: 0.51 | F31: 0.00444 | G31: 0.0195 | H31: 0 | I31: 0.03501 | J31: 0.00579 | K31: -0.037523 | L31: 0.00108 | M31: 0.02 | N31: 0.003655 | O31: 0 | P31: 0 | R31: =A31 -> 44265 | S31: =+B31 -> 8.77 | T31: =500*C31 -> 49.995 | U31: =100*D31 -> 13.004 | V31: =+E31 -> 0.51 | W31: =+$X$1*F31 -> 2.664 | X31: =+G31*(S31+T31+U31+AB31+Z31+W31+AE31+AF31+AC31) -> 1.8639467 | Y31: =+H31 -> 0 | Z31: =+$X$1*I31 -> 21.006 | AA31: =+$X$1*J31 -> 3.474 | AB31: =+K31*(S31+T31+U31) -> -2.6929882 | AC31: =+$X$1*L31 -> 0.648 | AD31: =+M31*(S31+T31+U31+W31+Z31+AB31+AC31+AE31+X31) -> 1.9490192 | AE31: =+$X$1*N31 -> 2.193 | AF31: =+$X$1*O31 -> 0 | AG31: =+P31*(S31+T31+U31+W31+Z31+AB31+AC31+AE31+X31) -> 0 | AI31: =SUM(S31:AH31) -> 103.38398 | AJ31: =+(AI31-AI30)/AI30 -> 0.034771302
A32: 44287 | B32: 8.77 | C32: 0.09999 | D32: 0.13004 | E32: 0.51 | F32: 0.00444 | G32: 0.0195 | H32: 0 | I32: 0.03555 | J32: 0.00579 | K32: -0.037523 | L32: 0.00108 | M32: 0.02 | N32: 0.003655 | O32: 0 | P32: 0 | R32: =A32 -> 44287 | S32: =+B32 -> 8.77 | T32: =500*C32 -> 49.995 | U32: =100*D32 -> 13.004 | V32: =+E32 -> 0.51 | W32: =+$X$1*F32 -> 2.664 | X32: =+G32*(S32+T32+U32+AB32+Z32+W32+AE32+AF32+AC32) -> 1.8702647 | Y32: =+H32 -> 0 | Z32: =+$X$1*I32 -> 21.33 | AA32: =+$X$1*J32 -> 3.474 | AB32: =+K32*(S32+T32+U32) -> -2.6929882 | AC32: =+$X$1*L32 -> 0.648 | AD32: =+M32*(S32+T32+U32+W32+Z32+AB32+AC32+AE32+X32) -> 1.9556255 | AE32: =+$X$1*N32 -> 2.193 | AF32: =+$X$1*O32 -> 0 | AG32: =+P32*(S32+T32+U32+W32+Z32+AB32+AC32+AE32+X32) -> 0 | AI32: =SUM(S32:AH32) -> 103.7209 | AJ32: =+(AI32-AI31)/AI31 -> 0.0032589611
A33: 44378 | B33: 8.77 | C33: 0.09999 | D33: 0.13004 | E33: 0.51 | F33: 0.00444 | G33: 0.0275 | H33: 0 | I33: 0.03854 | J33: 0.00579 | K33: -0.037523 | L33: 0.00108 | M33: 0.02 | N33: 0.003655 | O33: 0 | P33: 0 | R33: =A33 -> 44378 | S33: =+B33 -> 8.77 | T33: =500*C33 -> 49.995 | U33: =100*D33 -> 13.004 | V33: =+E33 -> 0.51 | W33: =+$X$1*F33 -> 2.664 | X33: =+G33*(S33+T33+U33+AB33+Z33+W33+AE33+AF33+AC33) -> 2.6868878 | Y33: =+H33 -> 0 | Z33: =+$X$1*I33 -> 23.124 | AA33: =+$X$1*J33 -> 3.474 | AB33: =+K33*(S33+T33+U33) -> -2.6929882 | AC33: =+$X$1*L33 -> 0.648 | AD33: =+M33*(S33+T33+U33+W33+Z33+AB33+AC33+AE33+X33) -> 2.007838 | AE33: =+$X$1*N33 -> 2.193 | AF33: =+$X$1*O33 -> 0 | AG33: =+P33*(S33+T33+U33+W33+Z33+AB33+AC33+AE33+X33) -> 0 | AI33: =SUM(S33:AH33) -> 106.38374 | AJ33: =+(AI33-AI32)/AI32 -> 0.025673085
A34: 44470 | B34: 8.77 | C34: 0.09999 | D34: 0.13004 | E34: 0.51 | F34: 0.00444 | G34: 0.0275 | H34: 0.5 | I34: 0.0472 | J34: 0.00579 | K34: -0.037523 | L34: 0.00108 | M34: 0.02 | N34: 0.003655 | O34: 0 | P34: 0 | R34: =A34 -> 44470 | S34: =+B34 -> 8.77 | T34: =500*C34 -> 49.995 | U34: =100*D34 -> 13.004 | V34: =+E34 -> 0.51 | W34: =+$X$1*F34 -> 2.664 | X34: =+G34*(S34+T34+U34+AB34+Z34+W34+AE34+AF34+AC34) -> 2.8297778 | Y34: =+H34 -> 0.5 | Z34: =+$X$1*I34 -> 28.32 | AA34: =+$X$1*J34 -> 3.474 | AB34: =+K34*(S34+T34+U34) -> -2.6929882 | AC34: =+$X$1*L34 -> 0.648 | AD34: =+M34*(S34+T34+U34+W34+Z34+AB34+AC34+AE34+X34) -> 2.1146158 | AE34: =+$X$1*N34 -> 2.193 | AF34: =+$X$1*O34 -> 0 | AG34: =+P34*(S34+T34+U34+W34+Z34+AB34+AC34+AE34+X34) -> 0 | AI34: =SUM(S34:AH34) -> 112.32941 | AJ34: =+(AI34-AI33)/AI33 -> 0.055888879
A35: 44562 | B35: 8.77 | C35: 0.09999 | D35: 0.13004 | E35: 0.51 | F35: 0.00444 | G35: 0.0275 | H35: 0.5 | I35: 0.04424 | J35: 0.00579 | K35: -0.037523 | L35: 0.00145 | M35: 0.02 | N35: 0.005072 | O35: 0 | P35: 0 | R35: =A35 -> 44562 | S35: =+B35 -> 8.77 | T35: =500*C35 -> 49.995 | U35: =100*D35 -> 13.004 | V35: =+E35 -> 0.51 | W35: =+$X$1*F35 -> 2.664 | X35: =+G35*(S35+T35+U35+AB35+Z35+W35+AE35+AF35+AC35) -> 2.8104233 | Y35: =+H35 -> 0.5 | Z35: =+$X$1*I35 -> 26.544 | AA35: =+$X$1*J35 -> 3.474 | AB35: =+K35*(S35+T35+U35) -> -2.6929882 | AC35: =+$X$1*L35 -> 0.87 | AD35: =+M35*(S35+T35+U35+W35+Z35+AB35+AC35+AE35+X35) -> 2.1001527 | AE35: =+$X$1*N35 -> 3.0432 | AF35: =+$X$1*O35 -> 0 | AG35: =+P35*(S35+T35+U35+W35+Z35+AB35+AC35+AE35+X35) -> 0 | AI35: =SUM(S35:AH35) -> 111.59179 | AJ35: =+(AI35-AI34)/AI34 -> -0.0065665583 | AK35: 304.424 | AL35: =+(AK35-AK29)/AK29 -> 0.080111409
A36: 44652 | B36: 8.77 | C36: 0.09999 | D36: 0.13004 | E36: 0.51 | F36: 0.00444 | G36: 0.0275 | H36: 0.5 | I36: 0.05101 | J36: 0.00579 | K36: -0.037523 | L36: 0.00145 | M36: 0.02 | N36: 0.005072 | O36: 0 | P36: 0 | R36: =A36 -> 44652 | S36: =+B36 -> 8.77 | T36: =500*C36 -> 49.995 | U36: =100*D36 -> 13.004 | V36: =+E36 -> 0.51 | W36: =+$X$1*F36 -> 2.664 | X36: =+G36*(S36+T36+U36+AB36+Z36+W36+AE36+AF36+AC36) -> 2.9221283 | Y36: =+H36 -> 0.5 | Z36: =+$X$1*I36 -> 30.606 | AA36: =+$X$1*J36 -> 3.474 | AB36: =+K36*(S36+T36+U36) -> -2.6929882 | AC36: =+$X$1*L36 -> 0.87 | AD36: =+M36*(S36+T36+U36+W36+Z36+AB36+AC36+AE36+X36) -> 2.1836268 | AE36: =+$X$1*N36 -> 3.0432 | AF36: =+$X$1*O36 -> 0 | AG36: =+P36*(S36+T36+U36+W36+Z36+AB36+AC36+AE36+X36) -> 0 | AI36: =SUM(S36:AH36) -> 115.84897 | AJ36: =+(AI36-AI35)/AI35 -> 0.038149573
A37: 44743 | B37: 8.77 | C37: 0.09999 | D37: 0.13004 | E37: 0.51 | F37: 0.00444 | G37: 0.0226 | H37: 0.5 | I37: 0.06088 | J37: 0.00579 | K37: -0.037523 | L37: 0.00145 | M37: 0.02 | N37: 0.005072 | O37: 0 | P37: 0 | R37: =A37 -> 44743 | S37: =+B37 -> 8.77 | T37: =500*C37 -> 49.995 | U37: =100*D37 -> 13.004 | V37: =+E37 -> 0.51 | W37: =+$X$1*F37 -> 2.664 | X37: =+G37*(S37+T37+U37+AB37+Z37+W37+AE37+AF37+AC37) -> 2.5352954 | Y37: =+H37 -> 0.5 | Z37: =+$X$1*I37 -> 36.528 | AA37: =+$X$1*J37 -> 3.474 | AB37: =+K37*(S37+T37+U37) -> -2.6929882 | AC37: =+$X$1*L37 -> 0.87 | AD37: =+M37*(S37+T37+U37+W37+Z37+AB37+AC37+AE37+X37) -> 2.2943301 | AE37: =+$X$1*N37 -> 3.0432 | AF37: =+$X$1*O37 -> 0 | AG37: =+P37*(S37+T37+U37+W37+Z37+AB37+AC37+AE37+X37) -> 0 | AI37: =SUM(S37:AH37) -> 121.49484 | AJ37: =+(AI37-AI36)/AI36 -> 0.04873475
A38: 44835 | B38: 8.77 | C38: 0.09999 | D38: 0.13004 | E38: 0.51 | F38: 0.00444 | G38: 0.0226 | H38: 0.75 | I38: 0.06044 | J38: 0.00579 | K38: -0.037523 | L38: 0.00145 | M38: 0.02 | N38: 0.005072 | O38: 0 | P38: 0 | R38: =A38 -> 44835 | S38: =+B38 -> 8.77 | T38: =500*C38 -> 49.995 | U38: =100*D38 -> 13.004 | V38: =+E38 -> 0.51 | W38: =+$X$1*F38 -> 2.664 | X38: =+G38*(S38+T38+U38+AB38+Z38+W38+AE38+AF38+AC38) -> 2.529329 | Y38: =+H38 -> 0.75 | Z38: =+$X$1*I38 -> 36.264 | AA38: =+$X$1*J38 -> 3.474 | AB38: =+K38*(S38+T38+U38) -> -2.6929882 | AC38: =+$X$1*L38 -> 0.87 | AD38: =+M38*(S38+T38+U38+W38+Z38+AB38+AC38+AE38+X38) -> 2.2889308 | AE38: =+$X$1*N38 -> 3.0432 | AF38: =+$X$1*O38 -> 0 | AG38: =+P38*(S38+T38+U38+W38+Z38+AB38+AC38+AE38+X38) -> 0 | AI38: =SUM(S38:AH38) -> 121.46947 | AJ38: =+(AI38-AI37)/AI37 -> -0.0002087803
A39: 44927 | B39: 8.77 | C39: 0.09999 | D39: 0.13004 | E39: 0.51 | F39: 0.00444 | G39: 0.0243 | H39: 0.75 | I39: 0.06365 | J39: 0.00579 | K39: -0.037523 | L39: 0.00175 | M39: 0.02 | N39: 0.005072 | O39: 0 | P39: 0 | R39: =A39 -> 44927 | S39: =+B39 -> 8.77 | T39: =500*C39 -> 49.995 | U39: =100*D39 -> 13.004 | V39: =+E39 -> 0.51 | W39: =+$X$1*F39 -> 2.664 | X39: =+G39*(S39+T39+U39+AB39+Z39+W39+AE39+AF39+AC39) -> 2.770764 | Y39: =+H39 -> 0.75 | Z39: =+$X$1*I39 -> 38.19 | AA39: =+$X$1*J39 -> 3.474 | AB39: =+K39*(S39+T39+U39) -> -2.6929882 | AC39: =+$X$1*L39 -> 1.05 | AD39: =+M39*(S39+T39+U39+W39+Z39+AB39+AC39+AE39+X39) -> 2.3358795 | AE39: =+$X$1*N39 -> 3.0432 | AF39: =+$X$1*O39 -> 0 | AG39: =+P39*(S39+T39+U39+W39+Z39+AB39+AC39+AE39+X39) -> 0 | AI39: =SUM(S39:AH39) -> 123.86386 | AJ39: =+(AI39-AI38)/AI38 -> 0.019711815
A40: 45017 | B40: 8.77 | C40: 0.09999 | D40: 0.13004 | E40: 0.51 | F40: 0.00444 | G40: 0.0243 | H40: 0.75 | I40: 0.06036 | J40: 0.00579 | K40: -0.037523 | L40: 0.00175 | M40: 0.02 | N40: 0.005072 | O40: 0.00022 | P40: 0 | R40: =A40 -> 45017 | S40: =+B40 -> 8.77 | T40: =500*C40 -> 49.995 | U40: =100*D40 -> 13.004 | V40: =+E40 -> 0.51 | W40: =+$X$1*F40 -> 2.664 | X40: =+G40*(S40+T40+U40+AB40+Z40+W40+AE40+AF40+AC40) -> 2.7260034 | Y40: =+H40 -> 0.75 | Z40: =+$X$1*I40 -> 36.216 | AA40: =+$X$1*J40 -> 3.474 | AB40: =+K40*(S40+T40+U40) -> -2.6929882 | AC40: =+$X$1*L40 -> 1.05 | AD40: =+M40*(S40+T40+U40+W40+Z40+AB40+AC40+AE40+X40) -> 2.2955043 | AE40: =+$X$1*N40 -> 3.0432 | AF40: =+$X$1*O40 -> 0.132 | AG40: =+P40*(S40+T40+U40+W40+Z40+AB40+AC40+AE40+X40) -> 0 | AI40: =SUM(S40:AH40) -> 121.93672 | AJ40: =+(AI40-AI39)/AI39 -> -0.0155585
A41: 45078 | B41: 8.77 | C41: 0.09999 | D41: 0.13004 | E41: 0.51 | F41: 0.00444 | G41: 0.0243 | H41: 0.75 | I41: 0.06036 | J41: 0.00579 | K41: -0.037523 | L41: 0.00175 | M41: 0.02 | N41: 0.005072 | O41: 0.00022 | P41: 0 | R41: =A41 -> 45078 | S41: =+B41 -> 8.77 | T41: =500*C41 -> 49.995 | U41: =100*D41 -> 13.004 | V41: =+E41 -> 0.51 | W41: =+$X$1*F41 -> 2.664 | X41: =+G41*(S41+T41+U41+AB41+Z41+W41+AE41+AF41+AC41) -> 2.7260034 | Y41: =+H41 -> 0.75 | Z41: =+$X$1*I41 -> 36.216 | AA41: =+$X$1*J41 -> 3.474 | AB41: =+K41*(S41+T41+U41) -> -2.6929882 | AC41: =+$X$1*L41 -> 1.05 | AD41: =+M41*(S41+T41+U41+W41+Z41+AB41+AC41+AE41+X41) -> 2.2955043 | AE41: =+$X$1*N41 -> 3.0432 | AF41: =+$X$1*O41 -> 0.132 | AG41: =+P41*(S41+T41+U41+W41+Z41+AB41+AC41+AE41+X41) -> 0 | AI41: =SUM(S41:AH41) -> 121.93672 | AJ41: =+(AI41-AI40)/AI40 -> 0
A42: 45108 | B42: 8.77 | C42: 0.09999 | D42: 0.13004 | E42: 0.51 | F42: 0.00444 | G42: 0.021 | H42: 0.75 | I42: 0.05158 | J42: 0.00579 | K42: -0.037523 | L42: 0.00175 | M42: 0.02 | N42: 0.005072 | O42: 0.00022 | P42: 0 | R42: =A42 -> 45108 | S42: =+B42 -> 8.77 | T42: =500*C42 -> 49.995 | U42: =100*D42 -> 13.004 | V42: =+E42 -> 0.51 | W42: =+$X$1*F42 -> 2.664 | X42: =+G42*(S42+T42+U42+AB42+Z42+W42+AE42+AF42+AC42) -> 2.2451774 | Y42: =+H42 -> 0.75 | Z42: =+$X$1*I42 -> 30.948 | AA42: =+$X$1*J42 -> 3.474 | AB42: =+K42*(S42+T42+U42) -> -2.6929882 | AC42: =+$X$1*L42 -> 1.05 | AD42: =+M42*(S42+T42+U42+W42+Z42+AB42+AC42+AE42+X42) -> 2.1805278 | AE42: =+$X$1*N42 -> 3.0432 | AF42: =+$X$1*O42 -> 0.132 | AG42: =+P42*(S42+T42+U42+W42+Z42+AB42+AC42+AE42+X42) -> 0 | AI42: =SUM(S42:AH42) -> 116.07292 | AJ42: =+(AI42-AI41)/AI41 -> -0.048088898
A43: 45109 | B43: 8.77 | C43: 0.09999 | D43: 0.13004 | E43: 0.51 | F43: 0.00444 | G43: 0.0215 | H43: 0.75 | I43: 0.05158 | J43: 0.00579 | K43: -0.037523 | L43: 0.00175 | M43: 0.02 | N43: 0.005072 | O43: 0.00022 | P43: 0 | R43: =A43 -> 45109 | S43: =+B43 -> 8.77 | T43: =500*C43 -> 49.995 | U43: =100*D43 -> 13.004 | V43: =+E43 -> 0.51 | W43: =+$X$1*F43 -> 2.664 | X43: =+G43*(S43+T43+U43+AB43+Z43+W43+AE43+AF43+AC43) -> 2.2986341 | Y43: =+H43 -> 0.75 | Z43: =+$X$1*I43 -> 30.948 | AA43: =+$X$1*J43 -> 3.474 | AB43: =+K43*(S43+T43+U43) -> -2.6929882 | AC43: =+$X$1*L43 -> 1.05 | AD43: =+M43*(S43+T43+U43+W43+Z43+AB43+AC43+AE43+X43) -> 2.1815969 | AE43: =+$X$1*N43 -> 3.0432 | AF43: =+$X$1*O43 -> 0.132 | AG43: =+P43*(S43+T43+U43+W43+Z43+AB43+AC43+AE43+X43) -> 0 | AI43: =SUM(S43:AH43) -> 116.12744 | AJ43: =+(AI43-AI42)/AI42 -> 0.00046975418
A44: 45177 | B44: =+B43 -> 8.77 | C44: =+C43 -> 0.09999 | D44: =+D43 -> 0.13004 | E44: =+E43 -> 0.51 | F44: =+F43 -> 0.00444 | G44: =+G43 -> 0.0215 | H44: =+H43 -> 0.75 | I44: =+I43 -> 0.05158 | ... M44: =+M43 -> 0.02 | N44: =+Riders!O14 -> 0.008722 | O44: =+O43 -> 0.00022 | P44: 0 | R44: =A44 -> 45177 | S44: =+B44 -> 8.77 | T44: =500*C44 -> 49.995 | U44: =100*D44 -> 13.004 | V44: =+E44 -> 0.51 | W44: =+$X$1*F44 -> 2.664 | X44: =+G44*(S44+T44+U44+AB44+Z44+W44+AE44+AF44+AC44) -> 2.3457191 | Y44: =+H44 -> 0.75 | Z44: =+$X$1*I44 -> 30.948 | AA44: =+$X$1*J44 -> 3.474 | AB44: =+K44*(S44+T44+U44) -> -2.6929882 | AC44: =+$X$1*L44 -> 1.05 | AD44: =+M44*(S44+T44+U44+W44+Z44+AB44+AC44+AE44+X44) -> 2.2263386 | AE44: =+$X$1*N44 -> 5.2332 | AF44: =+$X$1*O44 -> 0.132 | AG44: =+P44*(S44+T44+U44+W44+Z44+AB44+AC44+AE44+X44) -> 0 | AI44: =SUM(S44:AH44) -> 118.40927 | AJ44: =+(AI44-AI43)/AI43 -> 0.019649332
A45: 45200 | B45: =+B44 -> 8.77 | C45: =+C44 -> 0.09999 | D45: =+D44 -> 0.13004 | E45: =+E44 -> 0.51 | F45: =+F44 -> 0.00444 | G45: =+G44 -> 0.0215 | H45: 0.79 | I45: 0.04987 | J45: =+J44 -> 0.00579 | K45: =+K44 -> -0.037523 | L45: =+L44 -> 0.00175 | M45: =+M44 -> 0.02 | N45: =+N44 -> 0.008722 | O45: =+O44 -> 0.00022 | P45: 0 | R45: =A45 -> 45200 | S45: =+B45 -> 8.77 | T45: =500*C45 -> 49.995 | U45: =100*D45 -> 13.004 | V45: =+E45 -> 0.51 | W45: =+$X$1*F45 -> 2.664 | X45: =+G45*(S45+T45+U45+AB45+Z45+W45+AE45+AF45+AC45) -> 2.3236601 | Y45: =+H45 -> 0.79 | Z45: =+$X$1*I45 -> 29.922 | AA45: =+$X$1*J45 -> 3.474 | AB45: =+K45*(S45+T45+U45) -> -2.6929882 | AC45: =+$X$1*L45 -> 1.05 | AD45: =+M45*(S45+T45+U45+W45+Z45+AB45+AC45+AE45+X45) -> 2.2053774 | AE45: =+$X$1*N45 -> 5.2332 | AF45: =+$X$1*O45 -> 0.132 | AG45: =+P45*(S45+T45+U45+W45+Z45+AB45+AC45+AE45+X45) -> 0 | AI45: =SUM(S45:AH45) -> 117.38025 | AJ45: =+(AI45-AI44)/AI44 -> -0.0086903685
A46: 45292 | B46: =+B45 -> 8.77 | C46: =+C45 -> 0.09999 | D46: =+D45 -> 0.13004 | E46: =+E45 -> 0.51 | F46: =+F45 -> 0.00444 | G46: =+Riders!B27 -> 0.0228 | H46: =+H45 -> 0.79 | I46: =+Riders!G39 -> 0.04559 | J46: =+J45 -> 0.00579 | K46: =+K45 -> -0.037523 | L46: 0.00196 | M46: =+M45 -> 0.02 | N46: 0.008315 | O46: =+O45 -> 0.00022 | P46: 0 | R46: =A46 -> 45292 | S46: =+B46 -> 8.77 | T46: =500*C46 -> 49.995 | U46: =100*D46 -> 13.004 | V46: =+E46 -> 0.51 | W46: =+$X$1*F46 -> 2.664 | X46: =+G46*(S46+T46+U46+AB46+Z46+W46+AE46+AF46+AC46) -> 2.4029151 | Y46: =+H46 -> 0.79 | Z46: =+$X$1*I46 -> 27.354 | AA46: =+$X$1*J46 -> 3.474 | AB46: =+K46*(S46+T46+U46) -> -2.6929882 | AC46: =+$X$1*L46 -> 1.176 | AD46: =+M46*(S46+T46+U46+W46+Z46+AB46+AC46+AE46+X46) -> 2.1532385 | AE46: =+$X$1*N46 -> 4.989 | AF46: =+$X$1*O46 -> 0.132 | AG46: =+P46*(S46+T46+U46+W46+Z46+AB46+AC46+AE46+X46) -> 0 | AI46: =SUM(S46:AH46) -> 114.72117 | AJ46: =+(AI46-AI45)/AI45 -> -0.022653589
A47: 45323 | B47: =+B46 -> 8.77 | C47: 0.09999 | D47: 0.13004 | E47: 0.51 | F47: 0.00444 | G47: 0.0228 | H47: 0.79 | I47: 0.04559 | J47: 0.00579 | K47: -0.037523 | L47: 0.00196 | M47: 0.02 | N47: =+Riders!O15 -> 0.008315 | O47: =+O46 -> 0.00022 | P47: 0 | R47: =A47 -> 45323 | S47: =+B47 -> 8.77 | T47: =500*C47 -> 49.995 | U47: =100*D47 -> 13.004 | V47: =+E47 -> 0.51 | W47: =+$X$1*F47 -> 2.664 | X47: =+G47*(S47+T47+U47+AB47+Z47+W47+AE47+AF47+AC47) -> 2.4029151 | Y47: =+H47 -> 0.79 | Z47: =+$X$1*I47 -> 27.354 | AA47: =+$X$1*J47 -> 3.474 | AB47: =+K47*(S47+T47+U47) -> -2.6929882 | AC47: =+$X$1*L47 -> 1.176 | AD47: =+M47*(S47+T47+U47+W47+Z47+AB47+AC47+AE47+X47) -> 2.1532385 | AE47: =+$X$1*N47 -> 4.989 | AF47: =+$X$1*O47 -> 0.132 | AG47: =+P47*(S47+T47+U47+W47+Z47+AB47+AC47+AE47+X47) -> 0
A48: 45383 | B48: =+B46 -> 8.77 | C48: =+C45 -> 0.09999 | D48: =+D46 -> 0.13004 | E48: =+E45 -> 0.51 | F48: =+F45 -> 0.00444 | G48: =+G46 -> 0.0228 | H48: =+H46 -> 0.79 | I48: 0.04308 | J48: =+J46 -> 0.00579 | K48: =+K46 -> -0.037523 | L48: =+L46 -> 0.00196 | M48: =+M46 -> 0.02 | N48: =+N46 -> 0.008315 | O48: =+O46 -> 0.00022 | P48: 0 | R48: =A48 -> 45383 | S48: =+S46 -> 8.77 | T48: =500*C48 -> 49.995 | U48: =100*D48 -> 13.004 | V48: =+E48 -> 0.51 | W48: =+$X$1*F48 -> 2.664 | X48: =+G48*(S48+T48+U48+AB48+Z48+W48+AE48+AF48+AC48) -> 2.3685783 | Y48: =+H48 -> 0.79 | Z48: =+$X$1*I48 -> 25.848 | AA48: =+$X$1*J48 -> 3.474 | AB48: =+K48*(S48+T48+U48) -> -2.6929882 | AC48: =+$X$1*L48 -> 1.176 | AD48: =+M48*(S48+T48+U48+W48+Z48+AB48+AC48+AE48+X48) -> 2.1224318 | AE48: =+$X$1*N48 -> 4.989 | AF48: =+$X$1*O48 -> 0.132 | AG48: =+P48*(S48+T48+U48+W48+Z48+AB48+AC48+AE48+X48) -> 0 | AI48: =SUM(S48:AH48) -> 113.15002 | AJ48: =+(AI48-AI46)/AI46 -> -0.013695324
A49: 45392 | B49: =+B48 -> 8.77 | C49: =+C46 -> 0.09999 | D49: =+D48 -> 0.13004 | E49: 1 | F49: =+F46 -> 0.00444 | G49: =+G46 -> 0.0228 | H49: =+H48 -> 0.79 | I49: =+I48 -> 0.04308 | J49: 0 | K49: =+K48 -> -0.037523 | L49: =+L48 -> 0.00196 | M49: =+M48 -> 0.02 | N49: =+N48 -> 0.008315 | O49: =+O48 -> 0.00022 | P49: 0 | R49: =A49 -> 45392 | S49: =+S48 -> 8.77 | T49: =500*C49 -> 49.995 | U49: =100*D49 -> 13.004 | V49: =+E49 -> 1 | W49: =+$X$1*F49 -> 2.664 | X49: =+G49*(S49+T49+U49+AB49+Z49+W49+AE49+AF49+AC49) -> 2.3685783 | Y49: =+H49 -> 0.79 | Z49: =+$X$1*I49 -> 25.848 | AA49: =+$X$1*J49 -> 0 | AB49: =+K49*(S49+T49+U49) -> -2.6929882 | AC49: =+$X$1*L49 -> 1.176 | AD49: =+M49*(S49+T49+U49+W49+Z49+AB49+AC49+AE49+X49) -> 2.1224318 | AE49: =+$X$1*N49 -> 4.989 | AF49: =+$X$1*O49 -> 0.132 | AG49: =+P49*(S49+T49+U49+W49+Z49+AB49+AC49+AE49+X49) -> 0 | AI49: =SUM(S49:AH49) -> 110.16602 | AJ49: =+(AI49-AI48)/AI48 -> -0.026372067
A50: 45444 | B50: =+B49 -> 8.77 | C50: =+C49 -> 0.09999 | D50: =+D49 -> 0.13004 | E50: =+E49 -> 1 | F50: =+F49 -> 0.00444 | G50: =+G49 -> 0.0228 | H50: =+H49 -> 0.79 | I50: =+I49 -> 0.04308 | ... N50: =+N49 -> 0.008315 | O50: 0.0002 | P50: 0 | R50: =A50 -> 45444 | S50: =+S49 -> 8.77 | T50: =500*C50 -> 49.995 | U50: =100*D50 -> 13.004 | V50: =+E50 -> 1 | W50: =+$X$1*F50 -> 2.664 | X50: =+G50*(S50+T50+U50+AB50+Z50+W50+AE50+AF50+AC50) -> 2.3683047 | Y50: =+H50 -> 0.79 | Z50: =+$X$1*I50 -> 25.848 | AA50: =+$X$1*J50 -> 0 | AB50: =+K50*(S50+T50+U50) -> -2.6929882 | AC50: =+$X$1*L50 -> 1.176 | AD50: =+M50*(S50+T50+U50+W50+Z50+AB50+AC50+AE50+X50) -> 2.1224263 | AE50: =+$X$1*N50 -> 4.989 | AF50: =+$X$1*O50 -> 0.12 | AG50: =+P50*(S50+T50+U50+W50+Z50+AB50+AC50+AE50+X50) -> 0 | AI50: =SUM(S50:AH50) -> 110.15374
A51: 45474 | B51: =+B50 -> 8.77 | C51: =+C50 -> 0.09999 | D51: =+D50 -> 0.13004 | E51: =+E50 -> 1 | F51: =+F50 -> 0.00444 | G51: 0.0303 | H51: =+H50 -> 0.79 | I51: 0.03749 | J51: =+J50 -> 0 | K51: =+K50 -> -0.037523 | L51: =+L50 -> 0.00196 | M51: =+M50 -> 0.02 | N51: =+N50 -> 0.008315 | O51: =+O50 -> 0.0002 | P51: 0 | R51: =A51 -> 45474 | S51: =+S50 -> 8.77 | T51: =500*C51 -> 49.995 | U51: =100*D51 -> 13.004 | V51: =+E51 -> 1 | W51: =+$X$1*F51 -> 2.664 | X51: =+G51*(S51+T51+U51+AB51+Z51+W51+AE51+AF51+AC51) -> 3.0457261 | Y51: =+H51 -> 0.79 | Z51: =+$X$1*I51 -> 22.494 | AA51: =+$X$1*J51 -> 0 | AB51: =+K51*(S51+T51+U51) -> -2.6929882 | AC51: =+$X$1*L51 -> 1.176 | AD51: =+M51*(S51+T51+U51+W51+Z51+AB51+AC51+AE51+X51) -> 2.0688948 | AE51: =+$X$1*N51 -> 4.989 | AF51: =+$X$1*O51 -> 0.12 | AG51: =+P51*(S51+T51+U51+W51+Z51+AB51+AC51+AE51+X51) -> 0 | AI51: =SUM(S51:AH51) -> 107.42363 | AJ51: =+(AI51-AI50)/AI50 -> -0.024784543
A52: 45566 | B52: =+B51 -> 8.77 | C52: =+C51 -> 0.09999 | D52: =+D51 -> 0.13004 | E52: =+E51 -> 1 | F52: =+F51 -> 0.00444 | G52: 0.0303 | H52: =Riders!B78 -> 0.81 | I52: =Riders!G42 -> 0.0354 | J52: =+J51 -> 0 | K52: =+K51 -> -0.037523 | L52: =+L51 -> 0.00196 | M52: =+M51 -> 0.02 | N52: =+N51 -> 0.008315 | O52: =+O51 -> 0.0002 | P52: 0 | R52: =A52 -> 45566 | S52: =+S51 -> 8.77 | T52: =500*C52 -> 49.995 | U52: =100*D52 -> 13.004 | V52: =+E52 -> 1 | W52: =+$X$1*F52 -> 2.664 | X52: =+G52*(S52+T52+U52+AB52+Z52+W52+AE52+AF52+AC52) -> 3.0077299 | Y52: =+H52 -> 0.81 | Z52: =+$X$1*I52 -> 21.24 | AA52: =+$X$1*J52 -> 0 | AB52: =+K52*(S52+T52+U52) -> -2.6929882 | AC52: =+$X$1*L52 -> 1.176 | AD52: =+M52*(S52+T52+U52+W52+Z52+AB52+AC52+AE52+X52) -> 2.0430548 | AE52: =+$X$1*N52 -> 4.989 | AF52: =+$X$1*O52 -> 0.12 | AG52: =+P52*(S52+T52+U52+W52+Z52+AB52+AC52+AE52+X52) -> 0 | AI52: =SUM(S52:AH52) -> 106.1258 | AJ52: =+(AI52-AI51)/AI51 -> -0.012081477
A53: 45658 | B53: =+B52 -> 8.77 | C53: =+C52 -> 0.09999 | D53: =+D52 -> 0.13004 | E53: =+E52 -> 1 | F53: =+F52 -> 0.00444 | G53: 0.0302 | H53: =H52 -> 0.81 | I53: 0.03714 | J53: =+J52 -> 0 | K53: =+K52 -> -0.037523 | L53: 0.00114 | M53: =Riders!B85 -> 0.015 | N53: =+N52 -> 0.008315 | O53: =+O52 -> 0.0002 | P53: =Riders!O65 -> 0.015 | R53: =A53 -> 45658 | S53: =+S52 -> 8.77 | T53: =500*C53 -> 49.995 | U53: =100*D53 -> 13.004 | V53: =+E53 -> 1 | W53: =+$X$1*F53 -> 2.664 | X53: =+G53*(S53+T53+U53+AB53+Z53+W53+AE53+AF53+AC53) -> 3.0144738 | Y53: =+H53 -> 0.81 | Z53: =+$X$1*I53 -> 22.284 | AA53: =+$X$1*J53 -> 0 | AB53: =+K53*(S53+T53+U53) -> -2.6929882 | AC53: =+$X$1*L53 -> 0.684 | AD53: =+M53*(S53+T53+U53+W53+Z53+AB53+AC53+AE53+X53) -> 1.5406723 | AE53: =+$X$1*N53 -> 4.989 | AF53: =+$X$1*O53 -> 0.12 | AG53: =+P53*(S53+T53+U53+W53+Z53+AB53+AC53+AE53+X53) -> 1.5406723 | AI53: =SUM(S53:AH53) -> 107.72283 | AJ53: =+(AI53-AI52)/AI52 -> 0.015048496
A54: 45748 | B54: =+B53 -> 8.77 | C54: ='Base Rates'!G4 -> 0.12122 | D54: ='Base Rates'!G5 -> 0.15759 | E54: =+E53 -> 1 | F54: 0 | G54: 0.0289 | H54: =H53 -> 0.81 | I54: =+Riders!G44 -> 0.04154 | J54: =+J53 -> 0 | K54: 0 | L54: 0 | M54: =+M53 -> 0.015 | N54: 0 | O54: =+O53 -> 0.0002 | P54: =+P53 -> 0.015 | R54: =A54 -> 45748 | S54: =+S53 -> 8.77 | T54: =500*C54 -> 60.61 | U54: =100*D54 -> 15.759 | V54: =+E54 -> 1 | W54: =+$X$1*F54 -> 0 | X54: =+G54*(S54+T54+U54+AB54+Z54+W54+AE54+AF54+AC54) -> 3.1842887 | Y54: =+H54 -> 0.81 | Z54: =+$X$1*I54 -> 24.924 | AA54: =+$X$1*J54 -> 0 | AB54: =+K54*(S54+T54+U54) -> 0 | AC54: =+$X$1*L54 -> 0 | AD54: =+M54*(S54+T54+U54+W54+Z54+AB54+AC54+AE54+X54) -> 1.6987093 | AE54: =+$X$1*N54 -> 0 | AF54: =+$X$1*O54 -> 0.12 | AG54: =+P54*(S54+T54+U54+W54+Z54+AB54+AC54+AE54+X54) -> 1.6987093 | AI54: =SUM(S54:AH54) -> 118.57471 | AJ54: =+(AI54-AI53)/AI53 -> 0.10073888
A55: 45778 | B55: =+B54 -> 8.77 | C55: =+C54 -> 0.12122 | D55: =+D54 -> 0.15759 | E55: =+E54 -> 1 | F55: =+F54 -> 0 | G55: =+G54 -> 0.0289 | H55: =+H54 -> 0.81 | I55: =+I54 -> 0.04154 | ... M55: =+M54 -> 0.015 | N55: =Riders!$O$18 -> 0.001082 | O55: =+O54 -> 0.0002 | P55: =+P54 -> 0.015 | R55: =A55 -> 45778 | S55: =+S54 -> 8.77 | T55: =500*C55 -> 60.61 | U55: =100*D55 -> 15.759 | V55: =+E55 -> 1 | W55: =+$X$1*F55 -> 0 | X55: =+G55*(S55+T55+U55+AB55+Z55+W55+AE55+AF55+AC55) -> 3.2030506 | Y55: =+H55 -> 0.81 | Z55: =+$X$1*I55 -> 24.924 | AA55: =+$X$1*J55 -> 0 | AB55: =+K55*(S55+T55+U55) -> 0 | AC55: =+$X$1*L55 -> 0 | AD55: =+M55*(S55+T55+U55+W55+Z55+AB55+AC55+AE55+X55) -> 1.7087288 | AE55: =+$X$1*N55 -> 0.6492 | AF55: =+$X$1*O55 -> 0.12 | AG55: =+P55*(S55+T55+U55+W55+Z55+AB55+AC55+AE55+X55) -> 1.7087288 | AI55: =SUM(S55:AH55) -> 119.26271 | AJ55: =+(AI55-AI54)/AI54 -> 0.0058022554
A56: 45809 | B56: =+B55 -> 8.77 | C56: ='Base Rates'!C4 -> 0.12159 | D56: ='Base Rates'!C5 -> 0.15807 | E56: =+E55 -> 1 | F56: =+F55 -> 0 | G56: =+G55 -> 0.0289 | H56: =+H55 -> 0.81 | I56: =+I55 -> 0.04154 | J56: =+J55 -> 0 | K56: =+K55 -> 0 | L56: =+L55 -> 0 | M56: =+M55 -> 0.015 | N56: =N55 -> 0.001082 | O56: =+O55 -> 0.0002 | P56: =+P55 -> 0.015 | R56: =A56 -> 45809 | S56: =+S55 -> 8.77 | T56: =500*C56 -> 60.795 | U56: =100*D56 -> 15.807 | V56: =+E56 -> 1 | W56: =+$X$1*F56 -> 0 | X56: =+G56*(S56+T56+U56+AB56+Z56+W56+AE56+AF56+AC56) -> 3.2097843 | Y56: =+H56 -> 0.81 | Z56: =+$X$1*I56 -> 24.924 | AA56: =+$X$1*J56 -> 0 | AB56: =+K56*(S56+T56+U56) -> 0 | AC56: =+$X$1*L56 -> 0 | AD56: =+M56*(S56+T56+U56+W56+Z56+AB56+AC56+AE56+X56) -> 1.7123248 | AE56: =+$X$1*N56 -> 0.6492 | AF56: =+$X$1*O56 -> 0.12 | AG56: =+P56*(S56+T56+U56+W56+Z56+AB56+AC56+AE56+X56) -> 1.7123248 | AI56: =SUM(S56:AH56) -> 119.50963 | AJ56: =+(AI56-AI55)/AI55 -> 0.0020704352
A57: 45839 | B57: =+B56 -> 8.77 | C57: =+C56 -> 0.12159 | D57: =+D56 -> 0.15807 | E57: =+E56 -> 1 | F57: =+F56 -> 0 | G57: =Riders!B31 -> 0.0293 | H57: =+H56 -> 0.81 | I57: =Riders!G45 -> 0.04867 | J57: =+J56 -> 0 | K57: =+K56 -> 0 | L57: =+L56 -> 0 | M57: =+M56 -> 0.015 | N57: =N56 -> 0.001082 | O57: =+O56 -> 0.0002 | P57: =+P56 -> 0.015 | R57: =A57 -> 45839 | S57: =+S56 -> 8.77 | T57: =500*C57 -> 60.795 | U57: =100*D57 -> 15.807 | V57: =+E57 -> 1 | W57: =+$X$1*F57 -> 0 | X57: =+G57*(S57+T57+U57+AB57+Z57+W57+AE57+AF57+AC57) -> 3.3795558 | Y57: =+H57 -> 0.81 | Z57: =+$X$1*I57 -> 29.202 | AA57: =+$X$1*J57 -> 0 | AB57: =+K57*(S57+T57+U57) -> 0 | AC57: =+$X$1*L57 -> 0 | AD57: =+M57*(S57+T57+U57+W57+Z57+AB57+AC57+AE57+X57) -> 1.7790413 | AE57: =+$X$1*N57 -> 0.6492 | AF57: =+$X$1*O57 -> 0.12 | AG57: =+P57*(S57+T57+U57+W57+Z57+AB57+AC57+AE57+X57) -> 1.7790413 | AI57: =SUM(S57:AH57) -> 124.09084 | AJ57: =+(AI57-AI56)/AI56 -> 0.03833335
A58: 45854 | B58: =+B57 -> 8.77 | C58: =+C57 -> 0.12159 | D58: =+D57 -> 0.15807 | E58: =+Riders!W45 -> 1.45 | F58: =+F57 -> 0 | G58: =+G57 -> 0.0293 | H58: =+H57 -> 0.81 | I58: =+I57 -> 0.04867 | J58: =+J57 -> 0 | K58: =+K57 -> 0 | L58: =+L57 -> 0 | M58: =+M57 -> 0.015 | N58: =N57 -> 0.001082 | O58: =+O57 -> 0.0002 | P58: =+P57 -> 0.015 | R58: =A58 -> 45854 | S58: =+S57 -> 8.77 | T58: =500*C58 -> 60.795 | U58: =100*D58 -> 15.807 | V58: =+E58 -> 1.45 | W58: =+$X$1*F58 -> 0 | X58: =+G58*(S58+T58+U58+AB58+Z58+W58+AE58+AF58+AC58) -> 3.3795558 | Y58: =+H58 -> 0.81 | Z58: =+$X$1*I58 -> 29.202 | AA58: =+$X$1*J58 -> 0 | AB58: =+K58*(S58+T58+U58) -> 0 | AC58: =+$X$1*L58 -> 0 | AD58: =+M58*(S58+T58+U58+W58+Z58+AB58+AC58+AE58+X58) -> 1.7790413 | AE58: =+$X$1*N58 -> 0.6492 | AF58: =+$X$1*O58 -> 0.12 | AG58: =+P58*(S58+T58+U58+W58+Z58+AB58+AC58+AE58+X58) -> 1.7790413 | AI58: =SUM(S58:AH58) -> 124.54084 | AJ58: =+(AI58-AI57)/AI57 -> 0.0036263757
A59: 45931 | B59: =+B58 -> 8.77 | C59: =+C58 -> 0.12159 | D59: =+D58 -> 0.15807 | E59: =+E58 -> 1.45 | F59: =+F58 -> 0 | G59: =+G58 -> 0.0293 | H59: =Riders!B79 -> 0.83 | I59: =+Riders!G49 -> 0.04928 | J59: =+J58 -> 0 | K59: =+K58 -> 0 | L59: =+L58 -> 0 | M59: =+M58 -> 0.015 | N59: =N58 -> 0.001082 | O59: =+O58 -> 0.0002 | P59: =+P58 -> 0.015 | R59: =A59 -> 45931 | S59: =+S58 -> 8.77 | T59: =500*C59 -> 60.795 | U59: =100*D59 -> 15.807 | V59: =+E59 -> 1.45 | W59: =+$X$1*F59 -> 0 | X59: =+G59*(S59+T59+U59+AB59+Z59+W59+AE59+AF59+AC59) -> 3.3902796 | Y59: =+H59 -> 0.83 | Z59: =+$X$1*I59 -> 29.568 | AA59: =+$X$1*J59 -> 0 | AB59: =+K59*(S59+T59+U59) -> 0 | AC59: =+$X$1*L59 -> 0 | AD59: =+M59*(S59+T59+U59+W59+Z59+AB59+AC59+AE59+X59) -> 1.7846922 | AE59: =+$X$1*N59 -> 0.6492 | AF59: =+$X$1*O59 -> 0.12 | AG59: =+P59*(S59+T59+U59+W59+Z59+AB59+AC59+AE59+X59) -> 1.7846922 | AI59: =SUM(S59:AH59) -> 124.94886 | AJ59: =+(AI59-AI58)/AI58 -> 0.0032762387
A60: 46023 | B60: =+B59 -> 8.77 | C60: =+C59 -> 0.12159 | D60: =+D59 -> 0.15807 | E60: =+E59 -> 1.45 | F60: =+F59 -> 0 | G60: =Riders!B32 -> 0.0318 | H60: =+H59 -> 0.83 | I60: =+Riders!G53 -> 0.04778 | J60: =+J59 -> 0 | K60: =+K59 -> 0 | L60: =Riders!K68 -> -0.00248 | M60: =+M59 -> 0.015 | N60: =Riders!$O$19 -> 0.001287 | O60: =+O59 -> 0.0002 | P60: =+P59 -> 0.015 | R60: =A60 -> 46023 | S60: =+S59 -> 8.77 | T60: =500*C60 -> 60.795 | U60: =100*D60 -> 15.807 | V60: =+E60 -> 1.45 | W60: =+$X$1*F60 -> 0 | X60: =+G60*(S60+T60+U60+AB60+Z60+W60+AE60+AF60+AC60) -> 3.6075256 | Y60: =+H60 -> 0.83 | Z60: =+$X$1*I60 -> 28.668 | AA60: =+$X$1*J60 -> 0 | AB60: =+K60*(S60+T60+U60) -> 0 | AC60: =+$X$1*L60 -> -1.488 | AD60: =+M60*(S60+T60+U60+W60+Z60+AB60+AC60+AE60+X60) -> 1.7539759 | AE60: =+$X$1*N60 -> 0.7722 | AF60: =+$X$1*O60 -> 0.12 | AG60: =+P60*(S60+T60+U60+W60+Z60+AB60+AC60+AE60+X60) -> 1.7539759 | AI60: =SUM(S60:AH60) -> 122.83968 | AJ60: =+(AI60-AI59)/AI59 -> -0.016880399
A61: 46113 | B61: =+B60 -> 8.77 | C61: =+C60 -> 0.12159 | D61: =+D60 -> 0.15807 | E61: =+E60 -> 1.45 | F61: =+F60 -> 0 | G61: =Riders!B32 -> 0.0318 | H61: =+H60 -> 0.83 | I61: =+Riders!G57 -> 0.04954 | J61: =+J60 -> 0 | K61: =+K60 -> 0 | L61: =Riders!K68 -> -0.00248 | M61: =+M60 -> 0.015 | N61: =Riders!$O$19 -> 0.001287 | O61: =+O60 -> 0.0002 | P61: =+P60 -> 0.015 | R61: =A61 -> 46113 | S61: =+S60 -> 8.77 | T61: =500*C61 -> 60.795 | U61: =100*D61 -> 15.807 | V61: =+E61 -> 1.45 | W61: =+$X$1*F61 -> 0 | X61: =+G61*(S61+T61+U61+AB61+Z61+W61+AE61+AF61+AC61) -> 3.6411064 | Y61: =+H61 -> 0.83 | Z61: =+$X$1*I61 -> 29.724 | AA61: =+$X$1*J61 -> 0 | AB61: =+K61*(S61+T61+U61) -> 0 | AC61: =+$X$1*L61 -> -1.488 | AD61: =+M61*(S61+T61+U61+W61+Z61+AB61+AC61+AE61+X61) -> 1.7703196 | AE61: =+$X$1*N61 -> 0.7722 | AF61: =+$X$1*O61 -> 0.12 | AG61: =+P61*(S61+T61+U61+W61+Z61+AB61+AC61+AE61+X61) -> 1.7703196 | AI61: =SUM(S61:AH61) -> 123.96195 | AJ61: =+(AI61-AI60)/AI60 -> 0.0091360401
A62: 46174 | B62: =+B61 -> 8.77 | C62: =+C61 -> 0.12159 | D62: =+D61 -> 0.15807 | E62: =+E61 -> 1.45 | F62: =+F61 -> 0 | G62: =Riders!B32 -> 0.0318 | H62: =+H61 -> 0.83 | I62: =+Riders!G57 -> 0.04954 | J62: =+J61 -> 0 | K62: =+K61 -> 0 | L62: =Riders!K68 -> -0.00248 | M62: =+M61 -> 0.015 | N62: =Riders!$O$19 -> 0.001287 | O62: 0.00054 | P62: =+P61 -> 0.015 | R62: =A62 -> 46174 | S62: =+S61 -> 8.77 | T62: =500*C62 -> 60.795 | U62: =100*D62 -> 15.807 | V62: =+E62 -> 1.45 | W62: =+$X$1*F62 -> 0 | X62: =+G62*(S62+T62+U62+AB62+Z62+W62+AE62+AF62+AC62) -> 3.6475936 | Y62: =+H62 -> 0.83 | Z62: =+$X$1*I62 -> 29.724 | AA62: =+$X$1*J62 -> 0 | AB62: =+K62*(S62+T62+U62) -> 0 | AC62: =+$X$1*L62 -> -1.488 | AD62: =+M62*(S62+T62+U62+W62+Z62+AB62+AC62+AE62+X62) -> 1.7704169 | AE62: =+$X$1*N62 -> 0.7722 | AF62: =+$X$1*O62 -> 0.324 | AG62: =+P62*(S62+T62+U62+W62+Z62+AB62+AC62+AE62+X62) -> 1.7704169 | AI62: =SUM(S62:AH62) -> 124.17263 | AJ62: =+(AI62-AI61)/AI61 -> 0.0016995685
A63: 46204 | B63: =+B62 -> 8.77 | C63: =+C62 -> 0.12159 | D63: =+D62 -> 0.15807 | E63: =+E62 -> 1.45 | F63: =+F62 -> 0 | G63: =Riders!B33 -> 0.0215 | H63: =+H62 -> 0.83 | I63: =+Riders!G61 -> 0.04468 | J63: =+J62 -> 0 | K63: =+K62 -> 0 | L63: =Riders!K68 -> -0.00248 | M63: =+M62 -> 0.015 | N63: =Riders!$O$19 -> 0.001287 | O63: 0.00054 | P63: =+P62 -> 0.015 | R63: =A63 -> 46204 | S63: =+S62 -> 8.77 | T63: =500*C63 -> 60.795 | U63: =100*D63 -> 15.807 | V63: =+E63 -> 1.45 | W63: =+$X$1*F63 -> 0 | X63: =+G63*(S63+T63+U63+AB63+Z63+W63+AE63+AF63+AC63) -> 2.4034463 | Y63: =+H63 -> 0.83 | Z63: =+$X$1*I63 -> 26.808 | AA63: =+$X$1*J63 -> 0 | AB63: =+K63*(S63+T63+U63) -> 0 | AC63: =+$X$1*L63 -> -1.488 | AD63: =+M63*(S63+T63+U63+W63+Z63+AB63+AC63+AE63+X63) -> 1.7080147 | AE63: =+$X$1*N63 -> 0.7722 | AF63: =+$X$1*O63 -> 0.324 | AG63: =+P63*(S63+T63+U63+W63+Z63+AB63+AC63+AE63+X63) -> 1.7080147 | AI63: =SUM(S63:AH63) -> 119.88768 | AJ63: =+(AI63-AI62)/AI62 -> -0.034508021

Sheet SB 10 yr
A1: Rates by Component | Q1: Charges for Average Sm Comm Cust (@2300 kWh/Mo) | V1: 2300
B2: Customer | C2: 1st Tier Energy | D2: BHEAP | E2: CACJA | F2: DSMCA | G2: EASBC | H2: ECA | I2: EGRR | J2: GRSA | K2: PCCA | L2: RESA | M2: TCA | N2: TEPR | O2: CEPR | Q2: Date | R2: Customer | S2: 1st Tier Energy | T2: BHEAP | U2: CACJA | V2: DSMCA | W2: EASBC | X2: ECA | Y2: EGCRR | Z2: GRSA | AA2: PCCA | AB2: RESA | AC2: TCA | AD2: TEPR | AE2: CEPR | AG2: Total | AH2: % Delta | AJ2: Annual Inflation
A3: 42186 | B3: 16.5 | C3: 0.0865 | D3: =+Riders!W6 -> 0.78 | E3: =+Riders!O25 -> 0.00195 | F3: 0.0226 | G3: 0 | H3: 0.03608 | I3: 0 | J3: 0 | K3: =+Riders!K12 -> 0.0005 | L3: 0.02 | M3: 0.00174 | N3: 0 | O3: 0 | Q3: =A3 -> 42186 | R3: =+B3 -> 16.5 | S3: =+$V$1*C3 -> 198.95 | T3: =+D3 -> 0.78 | U3: =+$V$1*E3 -> 4.485 | V3: =+F3*(R3+S3+Z3+X3+U3+AC3+AD3+AA3) -> 6.9624046 | W3: =+G3 -> 0 | X3: =+$V$1*H3 -> 82.984 | Y3: =+$V$1*I3 -> 0 | Z3: =+J3*(R3+S3) -> 0 | AA3: =+$V$1*K3 -> 1.15 | AB3: =+L3*(R3+S3+U3+X3+Z3+AA3+AC3+V3) -> 6.3006681 | AC3: =+$V$1*M3 -> 4.002 | AD3: =+$V$1*N3 -> 0 | AE3: =+O3*(R3+S3+U3+X3+Z3+AA3+AC3+V3) -> 0 | AG3: =SUM(R3:AF3) -> 322.11407 | AH3: =+(AG3-#REF!)/#REF! -> #REF!
A4: 42278 | B4: 16.5 | C4: 0.0865 | D4: =+D3 -> 0.78 | E4: =+E3 -> 0.00195 | F4: 0.0226 | G4: 0 | H4: 0.04552 | I4: 0 | J4: 0 | K4: =+K3 -> 0.0005 | L4: 0.02 | M4: 0.00174 | N4: 0 | O4: 0 | Q4: =A4 -> 42278 | R4: =+B4 -> 16.5 | S4: =+$V$1*C4 -> 198.95 | T4: =+D4 -> 0.78 | U4: =+$V$1*E4 -> 4.485 | V4: =+F4*(R4+S4+Z4+X4+U4+AC4+AD4+AA4) -> 7.4530958 | W4: =+G4 -> 0 | X4: =+$V$1*H4 -> 104.696 | Y4: =+$V$1*I4 -> 0 | Z4: =+J4*(R4+S4) -> 0 | AA4: =+$V$1*K4 -> 1.15 | AB4: =+L4*(R4+S4+U4+X4+Z4+AA4+AC4+V4) -> 6.7447219 | AC4: =+$V$1*M4 -> 4.002 | AD4: =+$V$1*N4 -> 0 | AE4: =+O4*(R4+S4+U4+X4+Z4+AA4+AC4+V4) -> 0 | AG4: =SUM(R4:AF4) -> 344.76082 | AH4: =+(AG4-AG3)/AG3 -> 0.070306599
A5: 42370 | B5: 16.5 | C5: 0.0865 | D5: =+D4 -> 0.78 | E5: =+Riders!O30 -> 0.00343 | F5: 0.0226 | G5: 0 | H5: 0.04552 | I5: 0 | J5: 0 | K5: =+Riders!K12 -> 0.0005 | L5: 0.02 | M5: 0.001266 | N5: 0 | O5: 0 | Q5: =A5 -> 42370 | R5: =+B5 -> 16.5 | S5: =+$V$1*C5 -> 198.95 | T5: =+D5 -> 0.78 | U5: =+$V$1*E5 -> 7.889 | V5: =+F5*(R5+S5+Z5+X5+U5+AC5+AD5+AA5) -> 7.5053877 | W5: =+G5 -> 0 | X5: =+$V$1*H5 -> 104.696 | Y5: =+$V$1*I5 -> 0 | Z5: =+J5*(R5+S5) -> 0 | AA5: =+$V$1*K5 -> 1.15 | AB5: =+L5*(R5+S5+U5+X5+Z5+AA5+AC5+V5) -> 6.7920438 | AC5: =+$V$1*M5 -> 2.9118 | AD5: =+$V$1*N5 -> 0 | AE5: =+O5*(R5+S5+U5+X5+Z5+AA5+AC5+V5) -> 0 | AG5: =SUM(R5:AF5) -> 347.17423 | AH5: =+(AG5-AG4)/AG4 -> 0.0070002552 | AI5: 246.643 | AJ5: =+(AI5-#REF!)/#REF! -> #REF!
A6: 42401 | B6: 16.5 | C6: 0.0865 | D6: =+D5 -> 0.78 | E6: =+E5 -> 0.00343 | F6: 0.0254 | G6: 0 | H6: 0.04552 | I6: 0 | J6: 0 | K6: =+K5 -> 0.0005 | L6: 0.02 | M6: 0.001266 | N6: 0 | O6: 0 | Q6: =A6 -> 42401 | R6: =+B6 -> 16.5 | S6: =+$V$1*C6 -> 198.95 | T6: =+D6 -> 0.78 | U6: =+$V$1*E6 -> 7.889 | V6: =+F6*(R6+S6+Z6+X6+U6+AC6+AD6+AA6) -> 8.4352587 | W6: =+G6 -> 0 | X6: =+$V$1*H6 -> 104.696 | Y6: =+$V$1*I6 -> 0 | Z6: =+J6*(R6+S6) -> 0 | AA6: =+$V$1*K6 -> 1.15 | AB6: =+L6*(R6+S6+U6+X6+Z6+AA6+AC6+V6) -> 6.8106412 | AC6: =+$V$1*M6 -> 2.9118 | AD6: =+$V$1*N6 -> 0 | AE6: =+O6*(R6+S6+U6+X6+Z6+AA6+AC6+V6) -> 0 | AG6: =SUM(R6:AF6) -> 348.1227 | AH6: =+(AG6-AG5)/AG5 -> 0.0027319668
A7: 42461 | B7: 16.5 | C7: 0.0865 | D7: =+D6 -> 0.78 | E7: =+E6 -> 0.00343 | F7: 0.0254 | G7: 0 | H7: 0.04552 | I7: 0 | J7: 0 | K7: =+K6 -> 0.0005 | L7: 0.02 | M7: 0.001266 | N7: 0 | O7: 0 | Q7: =A7 -> 42461 | R7: =+B7 -> 16.5 | S7: =+$V$1*C7 -> 198.95 | T7: =+D7 -> 0.78 | U7: =+$V$1*E7 -> 7.889 | V7: =+F7*(R7+S7+Z7+X7+U7+AC7+AD7+AA7) -> 8.4352587 | W7: =+G7 -> 0 | X7: =+$V$1*H7 -> 104.696 | Y7: =+$V$1*I7 -> 0 | Z7: =+J7*(R7+S7) -> 0 | AA7: =+$V$1*K7 -> 1.15 | AB7: =+L7*(R7+S7+U7+X7+Z7+AA7+AC7+V7) -> 6.8106412 | AC7: =+$V$1*M7 -> 2.9118 | AD7: =+$V$1*N7 -> 0 | AE7: =+O7*(R7+S7+U7+X7+Z7+AA7+AC7+V7) -> 0 | AG7: =SUM(R7:AF7) -> 348.1227 | AH7: =+(AG7-AG6)/AG6 -> 0
A8: 42552 | B8: 16.5 | C8: 0.0865 | D8: =+D7 -> 0.78 | E8: =+Riders!O35 -> 0.00389 | F8: 0.0318 | G8: 0 | H8: 0.0362 | I8: 0 | J8: 0 | K8: =+K7 -> 0.0005 | L8: 0.02 | M8: 0.001266 | N8: 0 | O8: 0 | Q8: =A8 -> 42552 | R8: =+B8 -> 16.5 | S8: =+$V$1*C8 -> 198.95 | T8: =+D8 -> 0.78 | U8: =+$V$1*E8 -> 8.947 | V8: =+F8*(R8+S8+Z8+X8+U8+AC8+AD8+AA8) -> 9.9126578 | W8: =+G8 -> 0 | X8: =+$V$1*H8 -> 83.26 | Y8: =+$V$1*I8 -> 0 | Z8: =+J8*(R8+S8) -> 0 | AA8: =+$V$1*K8 -> 1.15 | AB8: =+L8*(R8+S8+U8+X8+Z8+AA8+AC8+V8) -> 6.4326292 | AC8: =+$V$1*M8 -> 2.9118 | AD8: =+$V$1*N8 -> 0 | AE8: =+O8*(R8+S8+U8+X8+Z8+AA8+AC8+V8) -> 0 | AG8: =SUM(R8:AF8) -> 328.84409 | AH8: =+(AG8-AG7)/AG7 -> -0.055378787
A9: 42644 | B9: 16.5 | C9: 0.0865 | D9: =+D8 -> 0.78 | E9: =+E8 -> 0.00389 | F9: 0.0318 | G9: 0 | H9: 0.04019 | I9: 0 | J9: 0 | K9: =+K8 -> 0.0005 | L9: 0.02 | M9: 0.001266 | N9: 0 | O9: 0 | Q9: =A9 -> 42644 | R9: =+B9 -> 16.5 | S9: =+$V$1*C9 -> 198.95 | T9: =+D9 -> 0.78 | U9: =+$V$1*E9 -> 8.947 | V9: =+F9*(R9+S9+Z9+X9+U9+AC9+AD9+AA9) -> 10.204486 | W9: =+G9 -> 0 | X9: =+$V$1*H9 -> 92.437 | Y9: =+$V$1*I9 -> 0 | Z9: =+J9*(R9+S9) -> 0 | AA9: =+$V$1*K9 -> 1.15 | AB9: =+L9*(R9+S9+U9+X9+Z9+AA9+AC9+V9) -> 6.6220057 | AC9: =+$V$1*M9 -> 2.9118 | AD9: =+$V$1*N9 -> 0 | AE9: =+O9*(R9+S9+U9+X9+Z9+AA9+AC9+V9) -> 0 | AG9: =SUM(R9:AF9) -> 338.50229 | AH9: =+(AG9-AG8)/AG8 -> 0.029370165
A10: 42736 | B10: 16.5 | C10: 0.0865 | D10: =+D9 -> 0.78 | E10: =+Riders!O40 -> 0 | F10: 0.0318 | G10: 0 | H10: 0.03335 | I10: 0 | J10: 0.023552 | K10: =+Riders!K17 -> 0.00067 | L10: 0.02 | M10: 0.001266 | N10: 0 | O10: 0 | Q10: =A10 -> 42736 | R10: =+B10 -> 16.5 | S10: =+$V$1*C10 -> 198.95 | T10: =+D10 -> 0.78 | U10: =+$V$1*E10 -> 0 | V10: =+F10*(R10+S10+Z10+X10+U10+AC10+AD10+AA10) -> 9.5934901 | W10: =+G10 -> 0 | X10: =+$V$1*H10 -> 76.705 | Y10: =+$V$1*I10 -> 0 | Z10: =+J10*(R10+S10) -> 5.0742784 | AA10: =+$V$1*K10 -> 1.541 | AB10: =+L10*(R10+S10+U10+X10+Z10+AA10+AC10+V10) -> 6.2255114 | AC10: =+$V$1*M10 -> 2.9118 | AD10: =+$V$1*N10 -> 0 | AE10: =+O10*(R10+S10+U10+X10+Z10+AA10+AC10+V10) -> 0 | AG10: =SUM(R10:AF10) -> 318.28108 | AH10: =+(AG10-AG9)/AG9 -> -0.059737298 | AI10: 254.995 | AJ10: =+(AI10-AI5)/AI5 -> 0.033862708
A11: 42767 | B11: 16.5 | C11: 0.0865 | D11: =+D10 -> 0.78 | E11: =+E10 -> 0 | F11: 0.0318 | G11: 0 | H11: 0.03335 | I11: 0 | J11: 0.023552 | K11: =+K10 -> 0.00067 | L11: 0.02 | M11: 0.001266 | N11: 0 | O11: 0 | Q11: =A11 -> 42767 | R11: =+B11 -> 16.5 | S11: =+$V$1*C11 -> 198.95 | T11: =+D11 -> 0.78 | U11: =+$V$1*E11 -> 0 | V11: =+F11*(R11+S11+Z11+X11+U11+AC11+AD11+AA11) -> 9.5934901 | W11: =+G11 -> 0 | X11: =+$V$1*H11 -> 76.705 | Y11: =+$V$1*I11 -> 0 | Z11: =+J11*(R11+S11) -> 5.0742784 | AA11: =+$V$1*K11 -> 1.541 | AB11: =+L11*(R11+S11+U11+X11+Z11+AA11+AC11+V11) -> 6.2255114 | AC11: =+$V$1*M11 -> 2.9118 | AD11: =+$V$1*N11 -> 0 | AE11: =+O11*(R11+S11+U11+X11+Z11+AA11+AC11+V11) -> 0 | AG11: =SUM(R11:AF11) -> 318.28108 | AH11: =+(AG11-AG10)/AG10 -> 0
A12: 42826 | B12: 16.5 | C12: 0.0865 | D12: =+D11 -> 0.78 | E12: =+E11 -> 0 | F12: 0.0318 | G12: 0 | H12: 0.03997 | I12: 0 | J12: 0.023552 | K12: =+K11 -> 0.00067 | L12: 0.02 | M12: 0.001266 | N12: 0 | O12: 0 | Q12: =A12 -> 42826 | R12: =+B12 -> 16.5 | S12: =+$V$1*C12 -> 198.95 | T12: =+D12 -> 0.78 | U12: =+$V$1*E12 -> 0 | V12: =+F12*(R12+S12+Z12+X12+U12+AC12+AD12+AA12) -> 10.077677 | W12: =+G12 -> 0 | X12: =+$V$1*H12 -> 91.931 | Y12: =+$V$1*I12 -> 0 | Z12: =+J12*(R12+S12) -> 5.0742784 | AA12: =+$V$1*K12 -> 1.541 | AB12: =+L12*(R12+S12+U12+X12+Z12+AA12+AC12+V12) -> 6.5397151 | AC12: =+$V$1*M12 -> 2.9118 | AD12: =+$V$1*N12 -> 0 | AE12: =+O12*(R12+S12+U12+X12+Z12+AA12+AC12+V12) -> 0 | AG12: =SUM(R12:AF12) -> 334.30547 | AH12: =+(AG12-AG11)/AG11 -> 0.050346664
A13: 42917 | B13: 16.5 | C13: 0.0865 | D13: =+D12 -> 0.78 | E13: =+Riders!O45 -> 0.00455 | F13: 0.0262 | G13: 0 | H13: 0.03143 | I13: 0 | J13: 0.023552 | K13: =+K12 -> 0.00067 | L13: 0.02 | M13: 0.001722 | N13: 0 | O13: 0 | Q13: =A13 -> 42917 | R13: =+B13 -> 16.5 | S13: =+$V$1*C13 -> 198.95 | T13: =+D13 -> 0.78 | U13: =+$V$1*E13 -> 10.465 | V13: =+F13*(R13+S13+Z13+X13+U13+AC13+AD13+AA13) -> 8.0900328 | W13: =+G13 -> 0 | X13: =+$V$1*H13 -> 72.289 | Y13: =+$V$1*I13 -> 0 | Z13: =+J13*(R13+S13) -> 5.0742784 | AA13: =+$V$1*K13 -> 1.541 | AB13: =+L13*(R13+S13+U13+X13+Z13+AA13+AC13+V13) -> 6.3373982 | AC13: =+$V$1*M13 -> 3.9606 | AD13: =+$V$1*N13 -> 0 | AE13: =+O13*(R13+S13+U13+X13+Z13+AA13+AC13+V13) -> 0 | AG13: =SUM(R13:AF13) -> 323.98731 | AH13: =+(AG13-AG12)/AG12 -> -0.030864469
A14: 43009 | B14: 16.5 | C14: 0.0865 | D14: =+Riders!W21 -> 1 | E14: =+E13 -> 0.00455 | F14: 0.0285 | G14: 0 | H14: 0.04052 | I14: 0 | J14: 0.023552 | K14: =+K13 -> 0.00067 | L14: 0.02 | M14: 0.001722 | N14: 0 | O14: 0 | Q14: =A14 -> 43009 | R14: =+B14 -> 16.5 | S14: =+$V$1*C14 -> 198.95 | T14: =+D14 -> 1 | U14: =+$V$1*E14 -> 10.465 | V14: =+F14*(R14+S14+Z14+X14+U14+AC14+AD14+AA14) -> 9.396076 | W14: =+G14 -> 0 | X14: =+$V$1*H14 -> 93.196 | Y14: =+$V$1*I14 -> 0 | Z14: =+J14*(R14+S14) -> 5.0742784 | AA14: =+$V$1*K14 -> 1.541 | AB14: =+L14*(R14+S14+U14+X14+Z14+AA14+AC14+V14) -> 6.7816591 | AC14: =+$V$1*M14 -> 3.9606 | AD14: =+$V$1*N14 -> 0 | AE14: =+O14*(R14+S14+U14+X14+Z14+AA14+AC14+V14) -> 0 | AG14: =SUM(R14:AF14) -> 346.86461 | AH14: =+(AG14-AG13)/AG13 -> 0.070611729
A15: 43101 | B15: 16.5 | C15: 0.0865 | D15: =+D14 -> 1 | E15: =+Riders!O50 -> 0.00458 | F15: 0.0285 | G15: 0 | H15: 0.0408 | I15: 0 | J15: 0.023552 | K15: =+Riders!K22 -> 0.00053 | L15: 0.02 | M15: 0.003052 | N15: 0 | O15: 0 | Q15: =A15 -> 43101 | R15: =+B15 -> 16.5 | S15: =+$V$1*C15 -> 198.95 | T15: =+D15 -> 1 | U15: =+$V$1*E15 -> 10.534 | V15: =+F15*(R15+S15+Z15+X15+U15+AC15+AD15+AA15) -> 9.494401 | W15: =+G15 -> 0 | X15: =+$V$1*H15 -> 93.84 | Y15: =+$V$1*I15 -> 0 | Z15: =+J15*(R15+S15) -> 5.0742784 | AA15: =+$V$1*K15 -> 1.219 | AB15: =+L15*(R15+S15+U15+X15+Z15+AA15+AC15+V15) -> 6.8526256 | AC15: =+$V$1*M15 -> 7.0196 | AD15: =+$V$1*N15 -> 0 | AE15: =+O15*(R15+S15+U15+X15+Z15+AA15+AC15+V15) -> 0 | AG15: =SUM(R15:AF15) -> 350.48391 | AH15: =+(AG15-AG14)/AG14 -> 0.010434306 | AI15: 261.958 | AJ15: =+(AI15-AI10)/AI10 -> 0.027306418
A16: 43191 | B16: 16.5 | C16: 0.0865 | D16: =+D15 -> 1 | E16: =+E15 -> 0.00458 | F16: 0.0285 | G16: 0 | H16: 0.03484 | I16: 0 | J16: 0.023552 | K16: =+K15 -> 0.00053 | L16: 0.02 | M16: 0.003052 | N16: 0 | O16: 0 | Q16: =A16 -> 43191 | R16: =+B16 -> 16.5 | S16: =+$V$1*C16 -> 198.95 | T16: =+D16 -> 1 | U16: =+$V$1*E16 -> 10.534 | V16: =+F16*(R16+S16+Z16+X16+U16+AC16+AD16+AA16) -> 9.103723 | W16: =+G16 -> 0 | X16: =+$V$1*H16 -> 80.132 | Y16: =+$V$1*I16 -> 0 | Z16: =+J16*(R16+S16) -> 5.0742784 | AA16: =+$V$1*K16 -> 1.219 | AB16: =+L16*(R16+S16+U16+X16+Z16+AA16+AC16+V16) -> 6.570652 | AC16: =+$V$1*M16 -> 7.0196 | AD16: =+$V$1*N16 -> 0 | AE16: =+O16*(R16+S16+U16+X16+Z16+AA16+AC16+V16) -> 0 | AG16: =SUM(R16:AF16) -> 336.10325 | AH16: =+(AG16-AG15)/AG15 -> -0.041030847
A17: 43282 | B17: =+'Base Rates'!G20 -> 11.39 | C17: =+'Base Rates'!K21 -> 0.09034 | D17: =+D16 -> 1 | E17: =+E16 -> 0.00458 | F17: 0.0252 | G17: 0 | H17: 0.02991 | I17: 0 | J17: =+J18 -> -0.037523 | K17: =+K16 -> 0.00053 | L17: 0.02 | M17: 0.003052 | N17: 0 | O17: 0 | Q17: =A17 -> 43282 | R17: =+B17 -> 11.39 | S17: =+$V$1*C17 -> 207.782 | T17: =+D17 -> 1 | U17: =+$V$1*E17 -> 10.534 | V17: =+F17*(R17+S17+Z17+X17+U17+AC17+AD17+AA17) -> 7.5225429 | W17: =+G17 -> 0 | X17: =+$V$1*H17 -> 68.793 | Y17: =+$V$1*I17 -> 0 | Z17: =+J17*(R17+S17) -> -8.223991 | AA17: =+$V$1*K17 -> 1.219 | AB17: =+L17*(R17+S17+U17+X17+Z17+AA17+AC17+V17) -> 6.120723 | AC17: =+$V$1*M17 -> 7.0196 | AD17: =+$V$1*N17 -> 0 | AE17: =+O17*(R17+S17+U17+X17+Z17+AA17+AC17+V17) -> 0 | AG17: =SUM(R17:AF17) -> 313.15688 | AH17: =+(AG17-AG16)/AG16 -> -0.068271813
A18: 43343 | B18: =+B17 -> 11.39 | C18: =+C17 -> 0.09034 | D18: =+D17 -> 1 | E18: =+Riders!O55 -> 0.00376 | F18: 0.0252 | G18: 0 | H18: 0.02991 | I18: 0 | J18: =+J19 -> -0.037523 | K18: =+K17 -> 0.00053 | L18: 0.02 | M18: 0.003052 | N18: 0 | O18: 0 | Q18: =A18 -> 43343 | R18: =+B18 -> 11.39 | S18: =+$V$1*C18 -> 207.782 | T18: =+D18 -> 1 | U18: =+$V$1*E18 -> 8.648 | V18: =+F18*(R18+S18+Z18+X18+U18+AC18+AD18+AA18) -> 7.4750157 | W18: =+G18 -> 0 | X18: =+$V$1*H18 -> 68.793 | Y18: =+$V$1*I18 -> 0 | Z18: =+J18*(R18+S18) -> -8.223991 | AA18: =+$V$1*K18 -> 1.219 | AB18: =+L18*(R18+S18+U18+X18+Z18+AA18+AC18+V18) -> 6.0820525 | AC18: =+$V$1*M18 -> 7.0196 | AD18: =+$V$1*N18 -> 0 | AE18: =+O18*(R18+S18+U18+X18+Z18+AA18+AC18+V18) -> 0 | AG18: =SUM(R18:AF18) -> 311.18468 | AH18: =+(AG18-AG17)/AG17 -> -0.0062977948
A19: 43374 | B19: =+B18 -> 11.39 | C19: =+C18 -> 0.09034 | D19: =+D18 -> 1 | E19: =+E18 -> 0.00376 | F19: 0.0252 | G19: 0 | H19: 0.03426 | I19: 0 | J19: =+J20 -> -0.037523 | K19: =+K18 -> 0.00053 | L19: 0.02 | M19: 0.003052 | N19: 0 | O19: 0 | Q19: =A19 -> 43374 | R19: =+B19 -> 11.39 | S19: =+$V$1*C19 -> 207.782 | T19: =+D19 -> 1 | U19: =+$V$1*E19 -> 8.648 | V19: =+F19*(R19+S19+Z19+X19+U19+AC19+AD19+AA19) -> 7.7271417 | W19: =+G19 -> 0 | X19: =+$V$1*H19 -> 78.798 | Y19: =+$V$1*I19 -> 0 | Z19: =+J19*(R19+S19) -> -8.223991 | AA19: =+$V$1*K19 -> 1.219 | AB19: =+L19*(R19+S19+U19+X19+Z19+AA19+AC19+V19) -> 6.287195 | AC19: =+$V$1*M19 -> 7.0196 | AD19: =+$V$1*N19 -> 0 | AE19: =+O19*(R19+S19+U19+X19+Z19+AA19+AC19+V19) -> 0 | AG19: =SUM(R19:AF19) -> 321.64695 | AH19: =+(AG19-AG18)/AG18 -> 0.03362077
A20: 43466 | B20: =+B19 -> 11.39 | C20: =+C19 -> 0.09034 | D20: =+D19 -> 1 | E20: =+E19 -> 0.00376 | F20: 0.0238 | G20: 0 | H20: 0.03772 | I20: 0 | J20: =+J21 -> -0.037523 | K20: =+Riders!K27 -> 0.00064 | L20: 0.02 | M20: 0.002069 | N20: 0 | O20: 0 | Q20: =A20 -> 43466 | R20: =+B20 -> 11.39 | S20: =+$V$1*C20 -> 207.782 | T20: =+D20 -> 1 | U20: =+$V$1*E20 -> 8.648 | V20: =+F20*(R20+S20+Z20+X20+U20+AC20+AD20+AA20) -> 7.4394685 | W20: =+G20 -> 0 | X20: =+$V$1*H20 -> 86.756 | Y20: =+$V$1*I20 -> 0 | Z20: =+J20*(R20+S20) -> -8.223991 | AA20: =+$V$1*K20 -> 1.472 | AB20: =+L20*(R20+S20+U20+X20+Z20+AA20+AC20+V20) -> 6.4004436 | AC20: =+$V$1*M20 -> 4.7587 | AD20: =+$V$1*N20 -> 0 | AE20: =+O20*(R20+S20+U20+X20+Z20+AA20+AC20+V20) -> 0 | AG20: =SUM(R20:AF20) -> 327.42262 | AH20: =+(AG20-AG19)/AG19 -> 0.017956568 | AI20: 266.999 | AJ20: =+(AI20-AI15)/AI15 -> 0.019243543
A21: 43556 | B21: =+B20 -> 11.39 | C21: =+C20 -> 0.09034 | D21: =+D20 -> 1 | E21: =+E20 -> 0.00376 | F21: 0.0238 | G21: 0 | H21: 0.0381 | I21: 0 | J21: =+J22 -> -0.037523 | K21: =+K20 -> 0.00064 | L21: 0.02 | M21: 0.002069 | N21: 0 | O21: 0 | Q21: =A21 -> 43556 | R21: =+B21 -> 11.39 | S21: =+$V$1*C21 -> 207.782 | T21: =+D21 -> 1 | U21: =+$V$1*E21 -> 8.648 | V21: =+F21*(R21+S21+Z21+X21+U21+AC21+AD21+AA21) -> 7.4602697 | W21: =+G21 -> 0 | X21: =+$V$1*H21 -> 87.63 | Y21: =+$V$1*I21 -> 0 | Z21: =+J21*(R21+S21) -> -8.223991 | AA21: =+$V$1*K21 -> 1.472 | AB21: =+L21*(R21+S21+U21+X21+Z21+AA21+AC21+V21) -> 6.4183396 | AC21: =+$V$1*M21 -> 4.7587 | AD21: =+$V$1*N21 -> 0 | AE21: =+O21*(R21+S21+U21+X21+Z21+AA21+AC21+V21) -> 0 | AG21: =SUM(R21:AF21) -> 328.33532 | AH21: =+(AG21-AG20)/AG20 -> 0.0027875204
A22: 43647 | B22: =+B21 -> 11.39 | C22: =+C21 -> 0.09034 | D22: =+D21 -> 1 | E22: =+E21 -> 0.00376 | F22: 0.0177 | G22: 0 | H22: 0.04099 | I22: 0 | J22: =+J23 -> -0.037523 | K22: =+K21 -> 0.00064 | L22: 0.02 | M22: 0.002069 | N22: 0 | O22: 0 | Q22: =A22 -> 43647 | R22: =+B22 -> 11.39 | S22: =+$V$1*C22 -> 207.782 | T22: =+D22 -> 1 | U22: =+$V$1*E22 -> 8.648 | V22: =+F22*(R22+S22+Z22+X22+U22+AC22+AD22+AA22) -> 5.6658357 | W22: =+G22 -> 0 | X22: =+$V$1*H22 -> 94.277 | Y22: =+$V$1*I22 -> 0 | Z22: =+J22*(R22+S22) -> -8.223991 | AA22: =+$V$1*K22 -> 1.472 | AB22: =+L22*(R22+S22+U22+X22+Z22+AA22+AC22+V22) -> 6.5153909 | AC22: =+$V$1*M22 -> 4.7587 | AD22: =+$V$1*N22 -> 0 | AE22: =+O22*(R22+S22+U22+X22+Z22+AA22+AC22+V22) -> 0 | AG22: =SUM(R22:AF22) -> 333.28494 | AH22: =+(AG22-AG21)/AG21 -> 0.015074885
A23: 43711 | B23: =+B22 -> 11.39 | C23: =+C22 -> 0.09034 | D23: =+D22 -> 1 | E23: =+E22 -> 0.00376 | F23: 0.0177 | G23: 0 | H23: 0.04099 | I23: 0 | J23: -0.037523 | K23: =+K22 -> 0.00064 | L23: 0.02 | M23: 0.002069 | N23: 0 | O23: 0 | Q23: =A23 -> 43711 | R23: =+B23 -> 11.39 | S23: =+$V$1*C23 -> 207.782 | T23: =+D23 -> 1 | U23: =+$V$1*E23 -> 8.648 | V23: =+F23*(R23+S23+Z23+X23+U23+AC23+AD23+AA23) -> 5.6658357 | W23: =+G23 -> 0 | X23: =+$V$1*H23 -> 94.277 | Y23: =+$V$1*I23 -> 0 | Z23: =+J23*(R23+S23) -> -8.223991 | AA23: =+$V$1*K23 -> 1.472 | AB23: =+L23*(R23+S23+U23+X23+Z23+AA23+AC23+V23) -> 6.5153909 | AC23: =+$V$1*M23 -> 4.7587 | AD23: =+$V$1*N23 -> 0 | AE23: =+O23*(R23+S23+U23+X23+Z23+AA23+AC23+V23) -> 0 | AG23: =SUM(R23:AF23) -> 333.28494 | AH23: =+(AG23-AG22)/AG22 -> 0
A24: 43739 | B24: =+B23 -> 11.39 | C24: =+C23 -> 0.09034 | D24: =+D23 -> 1 | E24: =+E23 -> 0.00376 | F24: 0.0177 | G24: 0 | H24: 0.03913 | I24: 0 | J24: -0.037523 | K24: =+K23 -> 0.00064 | L24: 0.02 | M24: 0.002069 | N24: 0 | O24: 0 | Q24: =A24 -> 43739 | R24: =+B24 -> 11.39 | S24: =+$V$1*C24 -> 207.782 | T24: =+D24 -> 1 | U24: =+$V$1*E24 -> 8.648 | V24: =+F24*(R24+S24+Z24+X24+U24+AC24+AD24+AA24) -> 5.5901151 | W24: =+G24 -> 0 | X24: =+$V$1*H24 -> 89.999 | Y24: =+$V$1*I24 -> 0 | Z24: =+J24*(R24+S24) -> -8.223991 | AA24: =+$V$1*K24 -> 1.472 | AB24: =+L24*(R24+S24+U24+X24+Z24+AA24+AC24+V24) -> 6.4283165 | AC24: =+$V$1*M24 -> 4.7587 | AD24: =+$V$1*N24 -> 0 | AE24: =+O24*(R24+S24+U24+X24+Z24+AA24+AC24+V24) -> 0 | AG24: =SUM(R24:AF24) -> 328.84414 | AH24: =+(AG24-AG23)/AG23 -> -0.01332432
A25: 43831 | B25: =+B24 -> 11.39 | C25: =+C24 -> 0.09034 | D25: =+D24 -> 1 | E25: =+E24 -> 0.00376 | F25: 0.0182 | G25: 0 | H25: 0.03674 | I25: 0 | J25: -0.037523 | K25: =+Riders!K32 -> 0.000474 | L25: 0.02 | M25: 0.00286 | N25: 0 | O25: 0 | Q25: =A25 -> 43831 | R25: =+B25 -> 11.39 | S25: =+$V$1*C25 -> 207.782 | T25: =+D25 -> 1 | U25: =+$V$1*E25 -> 8.648 | V25: =+F25*(R25+S25+Z25+X25+U25+AC25+AD25+AA25) -> 5.674145 | W25: =+G25 -> 0 | X25: =+$V$1*H25 -> 84.502 | Y25: =+$V$1*I25 -> 0 | Z25: =+J25*(R25+S25) -> -8.223991 | AA25: =+$V$1*K25 -> 1.0902 | AB25: =+L25*(R25+S25+U25+X25+Z25+AA25+AC25+V25) -> 6.3488071 | AC25: =+$V$1*M25 -> 6.578 | AD25: =+$V$1*N25 -> 0 | AE25: =+O25*(R25+S25+U25+X25+Z25+AA25+AC25+V25) -> 0 | AG25: =SUM(R25:AF25) -> 324.78916 | AH25: =+(AG25-AG24)/AG24 -> -0.012331007 | AI25: 272.207 | AJ25: =+(AI25-AI20)/AI20 -> 0.019505691
A26: 43922 | B26: =+B25 -> 11.39 | C26: =+C25 -> 0.09034 | D26: =+D25 -> 1 | E26: =+E25 -> 0.00376 | F26: 0.0182 | G26: 0 | H26: 0.03714 | I26: 0 | J26: -0.037523 | K26: =+K25 -> 0.000474 | L26: 0.02 | M26: 0.00286 | N26: 0 | O26: 0 | Q26: =A26 -> 43922 | R26: =+B26 -> 11.39 | S26: =+$V$1*C26 -> 207.782 | T26: =+D26 -> 1 | U26: =+$V$1*E26 -> 8.648 | V26: =+F26*(R26+S26+Z26+X26+U26+AC26+AD26+AA26) -> 5.690889 | W26: =+G26 -> 0 | X26: =+$V$1*H26 -> 85.422 | Y26: =+$V$1*I26 -> 0 | Z26: =+J26*(R26+S26) -> -8.223991 | AA26: =+$V$1*K26 -> 1.0902 | AB26: =+L26*(R26+S26+U26+X26+Z26+AA26+AC26+V26) -> 6.367542 | AC26: =+$V$1*M26 -> 6.578 | AD26: =+$V$1*N26 -> 0 | AE26: =+O26*(R26+S26+U26+X26+Z26+AA26+AC26+V26) -> 0 | AG26: =SUM(R26:AF26) -> 325.74464 | AH26: =+(AG26-AG25)/AG25 -> 0.0029418435
A27: 44013 | B27: =+B26 -> 11.39 | C27: =+C26 -> 0.09034 | D27: =+D26 -> 1 | E27: =+E26 -> 0.00376 | F27: 0.0198 | G27: 0 | H27: 0.03452 | I27: 0 | J27: -0.037523 | K27: =+K26 -> 0.000474 | L27: 0.02 | M27: 0.00286 | N27: 0 | O27: 0 | Q27: =A27 -> 44013 | R27: =+B27 -> 11.39 | S27: =+$V$1*C27 -> 207.782 | T27: =+D27 -> 1 | U27: =+$V$1*E27 -> 8.648 | V27: =+F27*(R27+S27+Z27+X27+U27+AC27+AD27+AA27) -> 6.0718721 | W27: =+G27 -> 0 | X27: =+$V$1*H27 -> 79.396 | Y27: =+$V$1*I27 -> 0 | Z27: =+J27*(R27+S27) -> -8.223991 | AA27: =+$V$1*K27 -> 1.0902 | AB27: =+L27*(R27+S27+U27+X27+Z27+AA27+AC27+V27) -> 6.2546416 | AC27: =+$V$1*M27 -> 6.578 | AD27: =+$V$1*N27 -> 0 | AE27: =+O27*(R27+S27+U27+X27+Z27+AA27+AC27+V27) -> 0 | AG27: =SUM(R27:AF27) -> 319.98672 | AH27: =+(AG27-AG26)/AG26 -> -0.017676169
A28: 44105 | B28: =+B27 -> 11.39 | C28: =+C27 -> 0.09034 | D28: =+D27 -> 1 | E28: =+E27 -> 0.00376 | F28: 0.0198 | G28: 0 | H28: 0.03154 | I28: 0 | J28: -0.037523 | K28: =+K27 -> 0.000474 | L28: 0.02 | M28: 0.00286 | N28: 0 | O28: 0 | Q28: =A28 -> 44105 | R28: =+B28 -> 11.39 | S28: =+$V$1*C28 -> 207.782 | T28: =+D28 -> 1 | U28: =+$V$1*E28 -> 8.648 | V28: =+F28*(R28+S28+Z28+X28+U28+AC28+AD28+AA28) -> 5.9361629 | W28: =+G28 -> 0 | X28: =+$V$1*H28 -> 72.542 | Y28: =+$V$1*I28 -> 0 | Z28: =+J28*(R28+S28) -> -8.223991 | AA28: =+$V$1*K28 -> 1.0902 | AB28: =+L28*(R28+S28+U28+X28+Z28+AA28+AC28+V28) -> 6.1148474 | AC28: =+$V$1*M28 -> 6.578 | AD28: =+$V$1*N28 -> 0 | AE28: =+O28*(R28+S28+U28+X28+Z28+AA28+AC28+V28) -> 0 | AG28: =SUM(R28:AF28) -> 312.85722 | AH28: =+(AG28-AG27)/AG27 -> -0.022280623
A29: 44197 | B29: =+B28 -> 11.39 | C29: =+C28 -> 0.09034 | D29: =+D28 -> 1 | E29: =+E28 -> 0.00376 | F29: 0.0195 | G29: 0 | H29: 0.03501 | I29: 0 | J29: -0.037523 | K29: =+Riders!K37 -> 0.001 | L29: 0.02 | M29: 0.003655 | N29: 0 | O29: 0 | Q29: =A29 -> 44197 | R29: =+B29 -> 11.39 | S29: =+$V$1*C29 -> 207.782 | T29: =+D29 -> 1 | U29: =+$V$1*E29 -> 8.648 | V29: =+F29*(R29+S29+Z29+X29+U29+AC29+AD29+AA29) -> 6.0610974 | W29: =+G29 -> 0 | X29: =+$V$1*H29 -> 80.523 | Y29: =+$V$1*I29 -> 0 | Z29: =+J29*(R29+S29) -> -8.223991 | AA29: =+$V$1*K29 -> 2.3 | AB29: =+L29*(R29+S29+U29+X29+Z29+AA29+AC29+V29) -> 6.3377321 | AC29: =+$V$1*M29 -> 8.4065 | AD29: =+$V$1*N29 -> 0 | AE29: =+O29*(R29+S29+U29+X29+Z29+AA29+AC29+V29) -> 0 | AG29: =SUM(R29:AF29) -> 324.22434 | AH29: =+(AG29-AG28)/AG28 -> 0.036333249 | AI29: 281.845 | AJ29: =+(AI29-AI25)/AI25 -> 0.035406878
A30: 44209 | B30: =+B29 -> 11.39 | C30: =+C29 -> 0.09034 | D30: 1.46 | E30: =+E29 -> 0.00376 | F30: 0.0195 | G30: 0 | H30: 0.03501 | I30: 0 | J30: -0.037523 | K30: =+K29 -> 0.001 | L30: 0.02 | M30: 0.003655 | N30: 0 | O30: 0 | Q30: =A30 -> 44209 | R30: =+B30 -> 11.39 | S30: =+$V$1*C30 -> 207.782 | T30: =+D30 -> 1.46 | U30: =+$V$1*E30 -> 8.648 | V30: =+F30*(R30+S30+Z30+X30+U30+AC30+AD30+AA30) -> 6.0610974 | W30: =+G30 -> 0 | X30: =+$V$1*H30 -> 80.523 | Y30: =+$V$1*I30 -> 0 | Z30: =+J30*(R30+S30) -> -8.223991 | AA30: =+$V$1*K30 -> 2.3 | AB30: =+L30*(R30+S30+U30+X30+Z30+AA30+AC30+V30) -> 6.3377321 | AC30: =+$V$1*M30 -> 8.4065 | AD30: =+$V$1*N30 -> 0 | AE30: =+O30*(R30+S30+U30+X30+Z30+AA30+AC30+V30) -> 0 | AG30: =SUM(R30:AF30) -> 324.68434 | AH30: =+(AG30-AG29)/AG29 -> 0.0014187707
A31: 44265 | B31: =+B30 -> 11.39 | C31: =+C30 -> 0.09034 | D31: =+D30 -> 1.46 | E31: =+E30 -> 0.00376 | F31: 0.0195 | G31: 0 | H31: 0.03501 | I31: 0.00579 | J31: -0.037523 | K31: =+K30 -> 0.001 | L31: 0.02 | M31: 0.003655 | N31: 0 | O31: 0 | Q31: =A31 -> 44265 | R31: =+B31 -> 11.39 | S31: =+$V$1*C31 -> 207.782 | T31: =+D31 -> 1.46 | U31: =+$V$1*E31 -> 8.648 | V31: =+F31*(R31+S31+Z31+X31+U31+AC31+AD31+AA31) -> 6.0610974 | W31: =+G31 -> 0 | X31: =+$V$1*H31 -> 80.523 | Y31: =+$V$1*I31 -> 13.317 | Z31: =+J31*(R31+S31) -> -8.223991 | AA31: =+$V$1*K31 -> 2.3 | AB31: =+L31*(R31+S31+U31+X31+Z31+AA31+AC31+V31) -> 6.3377321 | AC31: =+$V$1*M31 -> 8.4065 | AD31: =+$V$1*N31 -> 0 | AE31: =+O31*(R31+S31+U31+X31+Z31+AA31+AC31+V31) -> 0 | AG31: =SUM(R31:AF31) -> 338.00134 | AH31: =+(AG31-AG30)/AG30 -> 0.041015221
A32: 44287 | B32: =+B31 -> 11.39 | C32: =+C31 -> 0.09034 | D32: =+D31 -> 1.46 | E32: =+E31 -> 0.00376 | F32: 0.0195 | G32: 0 | H32: 0.03555 | I32: 0.00579 | J32: -0.037523 | K32: =+K31 -> 0.001 | L32: 0.02 | M32: 0.003655 | N32: 0 | O32: 0 | Q32: =A32 -> 44287 | R32: =+B32 -> 11.39 | S32: =+$V$1*C32 -> 207.782 | T32: =+D32 -> 1.46 | U32: =+$V$1*E32 -> 8.648 | V32: =+F32*(R32+S32+Z32+X32+U32+AC32+AD32+AA32) -> 6.0853164 | W32: =+G32 -> 0 | X32: =+$V$1*H32 -> 81.765 | Y32: =+$V$1*I32 -> 13.317 | Z32: =+J32*(R32+S32) -> -8.223991 | AA32: =+$V$1*K32 -> 2.3 | AB32: =+L32*(R32+S32+U32+X32+Z32+AA32+AC32+V32) -> 6.3630565 | AC32: =+$V$1*M32 -> 8.4065 | AD32: =+$V$1*N32 -> 0 | AE32: =+O32*(R32+S32+U32+X32+Z32+AA32+AC32+V32) -> 0 | AG32: =SUM(R32:AF32) -> 339.29288 | AH32: =+(AG32-AG31)/AG31 -> 0.0038211191
A33: 44378 | B33: =+B32 -> 11.39 | C33: =+C32 -> 0.09034 | D33: =+D32 -> 1.46 | E33: =+E32 -> 0.00376 | F33: 0.0275 | G33: 0 | H33: 0.03854 | I33: 0.00579 | J33: -0.037523 | K33: =+K32 -> 0.001 | L33: 0.02 | M33: 0.003655 | N33: 0 | O33: 0 | Q33: =A33 -> 44378 | R33: =+B33 -> 11.39 | S33: =+$V$1*C33 -> 207.782 | T33: =+D33 -> 1.46 | U33: =+$V$1*E33 -> 8.648 | V33: =+F33*(R33+S33+Z33+X33+U33+AC33+AD33+AA33) -> 8.770974 | W33: =+G33 -> 0 | X33: =+$V$1*H33 -> 88.642 | Y33: =+$V$1*I33 -> 13.317 | Z33: =+J33*(R33+S33) -> -8.223991 | AA33: =+$V$1*K33 -> 2.3 | AB33: =+L33*(R33+S33+U33+X33+Z33+AA33+AC33+V33) -> 6.5543097 | AC33: =+$V$1*M33 -> 8.4065 | AD33: =+$V$1*N33 -> 0 | AE33: =+O33*(R33+S33+U33+X33+Z33+AA33+AC33+V33) -> 0 | AG33: =SUM(R33:AF33) -> 349.04679 | AH33: =+(AG33-AG32)/AG32 -> 0.028747761
A34: 44470 | B34: =+B33 -> 11.39 | C34: =+C33 -> 0.09034 | D34: =+D33 -> 1.46 | E34: =+E33 -> 0.00376 | F34: 0.0275 | G34: 0.5 | H34: 0.0472 | I34: 0.00579 | J34: -0.037523 | K34: =+K33 -> 0.001 | L34: 0.02 | M34: 0.003655 | N34: 0 | O34: 0 | Q34: =A34 -> 44470 | R34: =+B34 -> 11.39 | S34: =+$V$1*C34 -> 207.782 | T34: =+D34 -> 1.46 | U34: =+$V$1*E34 -> 8.648 | V34: =+F34*(R34+S34+Z34+X34+U34+AC34+AD34+AA34) -> 9.318719 | W34: =+G34 -> 0.5 | X34: =+$V$1*H34 -> 108.56 | Y34: =+$V$1*I34 -> 13.317 | Z34: =+J34*(R34+S34) -> -8.223991 | AA34: =+$V$1*K34 -> 2.3 | AB34: =+L34*(R34+S34+U34+X34+Z34+AA34+AC34+V34) -> 6.9636246 | AC34: =+$V$1*M34 -> 8.4065 | AD34: =+$V$1*N34 -> 0 | AE34: =+O34*(R34+S34+U34+X34+Z34+AA34+AC34+V34) -> 0 | AG34: =SUM(R34:AF34) -> 370.42185 | AH34: =+(AG34-AG33)/AG33 -> 0.061238379
A35: 44562 | B35: =+B34 -> 11.39 | C35: =+C34 -> 0.09034 | D35: =+D34 -> 1.46 | E35: =+E34 -> 0.00376 | F35: 0.0275 | G35: 0.5 | H35: 0.04424 | I35: 0.00579 | J35: -0.037523 | K35: =+Riders!K42 -> 0.0013 | L35: 0.02 | M35: 0.005072 | N35: 0 | O35: 0 | Q35: =A35 -> 44562 | R35: =+B35 -> 11.39 | S35: =+$V$1*C35 -> 207.782 | T35: =+D35 -> 1.46 | U35: =+$V$1*E35 -> 8.648 | V35: =+F35*(R35+S35+Z35+X35+U35+AC35+AD35+AA35) -> 9.2400992 | W35: =+G35 -> 0.5 | X35: =+$V$1*H35 -> 101.752 | Y35: =+$V$1*I35 -> 13.317 | Z35: =+J35*(R35+S35) -> -8.223991 | AA35: =+$V$1*K35 -> 2.99 | AB35: =+L35*(R35+S35+U35+X35+Z35+AA35+AC35+V35) -> 6.9048742 | AC35: =+$V$1*M35 -> 11.6656 | AD35: =+$V$1*N35 -> 0 | AE35: =+O35*(R35+S35+U35+X35+Z35+AA35+AC35+V35) -> 0 | AG35: =SUM(R35:AF35) -> 367.42558 | AH35: =+(AG35-AG34)/AG34 -> -0.008088805 | AI35: 304.424 | AJ35: =+(AI35-AI29)/AI29 -> 0.080111409
A36: 44652 | B36: =+B35 -> 11.39 | C36: =+C35 -> 0.09034 | D36: =+D35 -> 1.46 | E36: =+E35 -> 0.00376 | F36: 0.0275 | G36: 0.5 | H36: 0.05101 | I36: 0.00579 | J36: -0.037523 | K36: =+K35 -> 0.0013 | L36: 0.02 | M36: 0.005072 | N36: 0 | O36: 0 | Q36: =A36 -> 44652 | R36: =+B36 -> 11.39 | S36: =+$V$1*C36 -> 207.782 | T36: =+D36 -> 1.46 | U36: =+$V$1*E36 -> 8.648 | V36: =+F36*(R36+S36+Z36+X36+U36+AC36+AD36+AA36) -> 9.6683017 | W36: =+G36 -> 0.5 | X36: =+$V$1*H36 -> 117.323 | Y36: =+$V$1*I36 -> 13.317 | Z36: =+J36*(R36+S36) -> -8.223991 | AA36: =+$V$1*K36 -> 2.99 | AB36: =+L36*(R36+S36+U36+X36+Z36+AA36+AC36+V36) -> 7.2248582 | AC36: =+$V$1*M36 -> 11.6656 | AD36: =+$V$1*N36 -> 0 | AE36: =+O36*(R36+S36+U36+X36+Z36+AA36+AC36+V36) -> 0 | AG36: =SUM(R36:AF36) -> 383.74477 | AH36: =+(AG36-AG35)/AG35 -> 0.044414944
A37: 44743 | B37: =+B36 -> 11.39 | C37: =+C36 -> 0.09034 | D37: =+D36 -> 1.46 | E37: =+E36 -> 0.00376 | F37: 0.0226 | G37: 0.5 | H37: 0.06088 | I37: 0.00579 | J37: -0.037523 | K37: =+K36 -> 0.0013 | L37: 0.02 | M37: 0.005072 | N37: 0 | O37: 0 | Q37: =A37 -> 44743 | R37: =+B37 -> 11.39 | S37: =+$V$1*C37 -> 207.782 | T37: =+D37 -> 1.46 | U37: =+$V$1*E37 -> 8.648 | V37: =+F37*(R37+S37+Z37+X37+U37+AC37+AD37+AA37) -> 8.4586288 | W37: =+G37 -> 0.5 | X37: =+$V$1*H37 -> 140.024 | Y37: =+$V$1*I37 -> 13.317 | Z37: =+J37*(R37+S37) -> -8.223991 | AA37: =+$V$1*K37 -> 2.99 | AB37: =+L37*(R37+S37+U37+X37+Z37+AA37+AC37+V37) -> 7.6546848 | AC37: =+$V$1*M37 -> 11.6656 | AD37: =+$V$1*N37 -> 0 | AE37: =+O37*(R37+S37+U37+X37+Z37+AA37+AC37+V37) -> 0 | AG37: =SUM(R37:AF37) -> 405.66592 | AH37: =+(AG37-AG36)/AG36 -> 0.057124306
A38: 44835 | B38: =+B37 -> 11.39 | C38: =+C37 -> 0.09034 | D38: =+D37 -> 1.46 | E38: =+E37 -> 0.00376 | F38: 0.0226 | G38: 0.75 | H38: 0.06044 | I38: 0.00579 | J38: -0.037523 | K38: =+K37 -> 0.0013 | L38: 0.02 | M38: 0.005072 | N38: 0 | O38: 0 | Q38: =A38 -> 44835 | R38: =+B38 -> 11.39 | S38: =+$V$1*C38 -> 207.782 | T38: =+D38 -> 1.46 | U38: =+$V$1*E38 -> 8.648 | V38: =+F38*(R38+S38+Z38+X38+U38+AC38+AD38+AA38) -> 8.4357576 | W38: =+G38 -> 0.75 | X38: =+$V$1*H38 -> 139.012 | Y38: =+$V$1*I38 -> 13.317 | Z38: =+J38*(R38+S38) -> -8.223991 | AA38: =+$V$1*K38 -> 2.99 | AB38: =+L38*(R38+S38+U38+X38+Z38+AA38+AC38+V38) -> 7.6339873 | AC38: =+$V$1*M38 -> 11.6656 | AD38: =+$V$1*N38 -> 0 | AE38: =+O38*(R38+S38+U38+X38+Z38+AA38+AC38+V38) -> 0 | AG38: =SUM(R38:AF38) -> 404.86035 | AH38: =+(AG38-AG37)/AG37 -> -0.0019857932
A39: 44927 | B39: =+B38 -> 11.39 | C39: =+C38 -> 0.09034 | D39: =+D38 -> 1.46 | E39: =+E38 -> 0.00376 | F39: 0.0243 | G39: 0.75 | H39: 0.06365 | I39: 0.00579 | J39: -0.037523 | K39: =+Riders!K47 -> 0.00149 | L39: 0.02 | M39: 0.005072 | N39: 0 | O39: 0 | Q39: =A39 -> 44927 | R39: =+B39 -> 11.39 | S39: =+$V$1*C39 -> 207.782 | T39: =+D39 -> 1.46 | U39: =+$V$1*E39 -> 8.648 | V39: =+F39*(R39+S39+Z39+X39+U39+AC39+AD39+AA39) -> 9.2603317 | W39: =+G39 -> 0.75 | X39: =+$V$1*H39 -> 146.395 | Y39: =+$V$1*I39 -> 13.317 | Z39: =+J39*(R39+S39) -> -8.223991 | AA39: =+$V$1*K39 -> 3.427 | AB39: =+L39*(R39+S39+U39+X39+Z39+AA39+AC39+V39) -> 7.8068788 | AC39: =+$V$1*M39 -> 11.6656 | AD39: =+$V$1*N39 -> 0 | AE39: =+O39*(R39+S39+U39+X39+Z39+AA39+AC39+V39) -> 0 | AG39: =SUM(R39:AF39) -> 413.67782 | AH39: =+(AG39-AG38)/AG38 -> 0.02177903
A40: 45017 | B40: =+B39 -> 11.39 | C40: =+C39 -> 0.09034 | D40: =+D39 -> 1.46 | E40: =+E39 -> 0.00376 | F40: 0.0243 | G40: 0.75 | H40: 0.06036 | I40: 0.00579 | J40: -0.037523 | K40: =+K39 -> 0.00149 | L40: 0.02 | M40: 0.005072 | N40: 0 | O40: 0 | Q40: =A40 -> 45017 | R40: =+B40 -> 11.39 | S40: =+$V$1*C40 -> 207.782 | T40: =+D40 -> 1.46 | U40: =+$V$1*E40 -> 8.648 | V40: =+F40*(R40+S40+Z40+X40+U40+AC40+AD40+AA40) -> 9.0764536 | W40: =+G40 -> 0.75 | X40: =+$V$1*H40 -> 138.828 | Y40: =+$V$1*I40 -> 13.317 | Z40: =+J40*(R40+S40) -> -8.223991 | AA40: =+$V$1*K40 -> 3.427 | AB40: =+L40*(R40+S40+U40+X40+Z40+AA40+AC40+V40) -> 7.6518613 | AC40: =+$V$1*M40 -> 11.6656 | AD40: =+$V$1*N40 -> 0 | AE40: =+O40*(R40+S40+U40+X40+Z40+AA40+AC40+V40) -> 0 | AG40: =SUM(R40:AF40) -> 405.77192 | AH40: =+(AG40-AG39)/AG39 -> -0.019111239
A41: 45078 | B41: =+B40 -> 11.39 | C41: =+C40 -> 0.09034 | D41: =+D40 -> 1.46 | E41: =+E40 -> 0.00376 | F41: 0.0243 | G41: 0.75 | H41: 0.06036 | I41: 0.00579 | J41: -0.037523 | K41: =+K40 -> 0.00149 | L41: 0.02 | M41: 0.005072 | N41: 0.00017 | O41: 0 | Q41: =A41 -> 45078 | R41: =+B41 -> 11.39 | S41: =+$V$1*C41 -> 207.782 | T41: =+D41 -> 1.46 | U41: =+$V$1*E41 -> 8.648 | V41: =+F41*(R41+S41+Z41+X41+U41+AC41+AD41+AA41) -> 9.0859549 | W41: =+G41 -> 0.75 | X41: =+$V$1*H41 -> 138.828 | Y41: =+$V$1*I41 -> 13.317 | Z41: =+J41*(R41+S41) -> -8.223991 | AA41: =+$V$1*K41 -> 3.427 | AB41: =+L41*(R41+S41+U41+X41+Z41+AA41+AC41+V41) -> 7.6520513 | AC41: =+$V$1*M41 -> 11.6656 | AD41: =+$V$1*N41 -> 0.391 | AE41: =+O41*(R41+S41+U41+X41+Z41+AA41+AC41+V41) -> 0 | AG41: =SUM(R41:AF41) -> 406.17262 | AH41: =+(AG41-AG40)/AG40 -> 0.00098747918
A42: 45108 | B42: =+B41 -> 11.39 | C42: =+C41 -> 0.09034 | D42: =+D41 -> 1.46 | E42: =+E41 -> 0.00376 | F42: 0.021 | G42: 0.75 | H42: 0.05158 | I42: 0.00579 | J42: -0.037523 | K42: =+K41 -> 0.00149 | L42: 0.02 | M42: 0.005072 | N42: =+N41 -> 0.00017 | O42: 0 | Q42: =A42 -> 45108 | R42: =+B42 -> 11.39 | S42: =+$V$1*C42 -> 207.782 | T42: =+D42 -> 1.46 | U42: =+$V$1*E42 -> 8.648 | V42: =+F42*(R42+S42+Z42+X42+U42+AC42+AD42+AA42) -> 7.4279858 | W42: =+G42 -> 0.75 | X42: =+$V$1*H42 -> 118.634 | Y42: =+$V$1*I42 -> 13.317 | Z42: =+J42*(R42+S42) -> -8.223991 | AA42: =+$V$1*K42 -> 3.427 | AB42: =+L42*(R42+S42+U42+X42+Z42+AA42+AC42+V42) -> 7.2150119 | AC42: =+$V$1*M42 -> 11.6656 | AD42: =+$V$1*N42 -> 0.391 | AE42: =+O42*(R42+S42+U42+X42+Z42+AA42+AC42+V42) -> 0 | AG42: =SUM(R42:AF42) -> 383.88361 | AH42: =+(AG42-AG41)/AG41 -> -0.054875705
A43: 45109 | B43: =+B42 -> 11.39 | C43: =+C42 -> 0.09034 | D43: =+D42 -> 1.46 | E43: =+E42 -> 0.00376 | F43: 0.0215 | G43: 0.75 | H43: 0.05158 | I43: 0.00579 | J43: -0.037523 | K43: =+K42 -> 0.00149 | L43: 0.02 | M43: 0.005072 | N43: =+N42 -> 0.00017 | O43: 0 | Q43: =A43 -> 45109 | R43: =+B43 -> 11.39 | S43: =+$V$1*C43 -> 207.782 | T43: =+D43 -> 1.46 | U43: =+$V$1*E43 -> 8.648 | V43: =+F43*(R43+S43+Z43+X43+U43+AC43+AD43+AA43) -> 7.6048426 | W43: =+G43 -> 0.75 | X43: =+$V$1*H43 -> 118.634 | Y43: =+$V$1*I43 -> 13.317 | Z43: =+J43*(R43+S43) -> -8.223991 | AA43: =+$V$1*K43 -> 3.427 | AB43: =+L43*(R43+S43+U43+X43+Z43+AA43+AC43+V43) -> 7.218549 | AC43: =+$V$1*M43 -> 11.6656 | AD43: =+$V$1*N43 -> 0.391 | AE43: =+O43*(R43+S43+U43+X43+Z43+AA43+AC43+V43) -> 0 | AG43: =SUM(R43:AF43) -> 384.064 | AH43: =+(AG43-AG42)/AG42 -> 0.00046991832
A44: 45177 | B44: =+B43 -> 11.39 | C44: =+C43 -> 0.09034 | D44: =+D43 -> 1.46 | E44: =+E43 -> 0.00376 | F44: =+F43 -> 0.0215 | G44: =+G43 -> 0.75 | H44: =+H43 -> 0.05158 | I44: =+I43 -> 0.00579 | ... L44: =+L43 -> 0.02 | M44: =+Riders!O14 -> 0.008722 | N44: =+N43 -> 0.00017 | O44: 0 | Q44: =A44 -> 45177 | R44: =+B44 -> 11.39 | S44: =+$V$1*C44 -> 207.782 | T44: =+D44 -> 1.46 | U44: =+$V$1*E44 -> 8.648 | V44: =+F44*(R44+S44+Z44+X44+U44+AC44+AD44+AA44) -> 7.7853351 | W44: =+G44 -> 0.75 | X44: =+$V$1*H44 -> 118.634 | Y44: =+$V$1*I44 -> 13.317 | Z44: =+J44*(R44+S44) -> -8.223991 | AA44: =+$V$1*K44 -> 3.427 | AB44: =+L44*(R44+S44+U44+X44+Z44+AA44+AC44+V44) -> 7.3900589 | AC44: =+$V$1*M44 -> 20.0606 | AD44: =+$V$1*N44 -> 0.391 | AE44: =+O44*(R44+S44+U44+X44+Z44+AA44+AC44+V44) -> 0 | AG44: =SUM(R44:AF44) -> 392.811 | AH44: =+(AG44-AG43)/AG43 -> 0.022774856
A45: 45200 | B45: =+B44 -> 11.39 | C45: =+C44 -> 0.09034 | D45: =+D44 -> 1.46 | E45: =+E44 -> 0.00376 | F45: =+F44 -> 0.0215 | G45: 0.79 | H45: =+H44 -> 0.05158 | I45: =+I44 -> 0.00579 | J45: =+J44 -> -0.037523 | K45: =+K44 -> 0.00149 | L45: =+L44 -> 0.02 | M45: =+M44 -> 0.008722 | N45: =+N44 -> 0.00017 | O45: 0 | Q45: =A45 -> 45200 | R45: =+B45 -> 11.39 | S45: =+$V$1*C45 -> 207.782 | T45: =+D45 -> 1.46 | U45: =+$V$1*E45 -> 8.648 | V45: =+F45*(R45+S45+Z45+X45+U45+AC45+AD45+AA45) -> 7.7853351 | W45: =+G45 -> 0.79 | X45: =+$V$1*H45 -> 118.634 | Y45: =+$V$1*I45 -> 13.317 | Z45: =+J45*(R45+S45) -> -8.223991 | AA45: =+$V$1*K45 -> 3.427 | AB45: =+L45*(R45+S45+U45+X45+Z45+AA45+AC45+V45) -> 7.3900589 | AC45: =+$V$1*M45 -> 20.0606 | AD45: =+$V$1*N45 -> 0.391 | AE45: =+O45*(R45+S45+U45+X45+Z45+AA45+AC45+V45) -> 0 | AG45: =SUM(R45:AF45) -> 392.851 | AH45: =+(AG45-AG44)/AG44 -> 0.00010183014
A46: 45292 | B46: =+B45 -> 11.39 | C46: =+C45 -> 0.09034 | D46: =+D45 -> 1.46 | E46: =+E45 -> 0.00376 | F46: 0.0228 | G46: =+G45 -> 0.79 | H46: =+Riders!G39 -> 0.04559 | I46: =+I45 -> 0.00579 | J46: =+J45 -> -0.037523 | K46: =+Riders!K52 -> 0.00165 | L46: =+L45 -> 0.02 | M46: =+M45 -> 0.008722 | N46: =+N45 -> 0.00017 | O46: 0 | Q46: =A46 -> 45292 | R46: =+B46 -> 11.39 | S46: =+$V$1*C46 -> 207.782 | T46: =+D46 -> 1.46 | U46: =+$V$1*E46 -> 8.648 | V46: =+F46*(R46+S46+Z46+X46+U46+AC46+AD46+AA46) -> 7.9503511 | W46: =+G46 -> 0.79 | X46: =+$V$1*H46 -> 104.857 | Y46: =+$V$1*I46 -> 13.317 | Z46: =+J46*(R46+S46) -> -8.223991 | AA46: =+$V$1*K46 -> 3.795 | AB46: =+L46*(R46+S46+U46+X46+Z46+AA46+AC46+V46) -> 7.1251792 | AC46: =+$V$1*M46 -> 20.0606 | AD46: =+$V$1*N46 -> 0.391 | AE46: =+O46*(R46+S46+U46+X46+Z46+AA46+AC46+V46) -> 0 | AG46: =SUM(R46:AF46) -> 379.34214 | AH46: =+(AG46-AG45)/AG45 -> -0.034386736
A47: 45323 | B47: =+B46 -> 11.39 | C47: =+C46 -> 0.09034 | D47: =+D46 -> 1.46 | E47: =+E46 -> 0.00376 | F47: 0.0228 | G47: =+G46 -> 0.79 | H47: =+H46 -> 0.04559 | I47: =+I46 -> 0.00579 | J47: =+J46 -> -0.037523 | K47: =+K46 -> 0.00165 | L47: =+L46 -> 0.02 | M47: =+Riders!O15 -> 0.008315 | N47: =+N46 -> 0.00017 | O47: 0 | Q47: =A47 -> 45323 | R47: =+B47 -> 11.39 | S47: =+$V$1*C47 -> 207.782 | T47: =+D47 -> 1.46 | U47: =+$V$1*E47 -> 8.648 | V47: =+F47*(R47+S47+Z47+X47+U47+AC47+AD47+AA47) -> 7.929008 | W47: =+G47 -> 0.79 | X47: =+$V$1*H47 -> 104.857 | Y47: =+$V$1*I47 -> 13.317 | Z47: =+J47*(R47+S47) -> -8.223991 | AA47: =+$V$1*K47 -> 3.795 | AB47: =+L47*(R47+S47+U47+X47+Z47+AA47+AC47+V47) -> 7.1060303 | AC47: =+$V$1*M47 -> 19.1245 | AD47: =+$V$1*N47 -> 0.391 | AE47: =+O47*(R47+S47+U47+X47+Z47+AA47+AC47+V47) -> 0 | AG47: =SUM(R47:AF47) -> 378.36555 | AH47: =+(AG47-AG46)/AG46 -> -0.0025744357
A48: 45383 | B48: =+B46 -> 11.39 | C48: =+C46 -> 0.09034 | D48: =+D46 -> 1.46 | E48: =+E46 -> 0.00376 | F48: =+F46 -> 0.0228 | G48: =+G46 -> 0.79 | H48: 0.04308 | I48: =+I46 -> 0.00579 | J48: =+J46 -> -0.037523 | K48: =+K46 -> 0.00165 | L48: =+L46 -> 0.02 | M48: =+M47 -> 0.008315 | N48: =+N46 -> 0.00017 | O48: 0 | Q48: =A48 -> 45383 | R48: =+R46 -> 11.39 | S48: =+$V$1*C48 -> 207.782 | T48: =+D48 -> 1.46 | U48: =+$V$1*E48 -> 8.648 | V48: =+F48*(R48+S48+Z48+X48+U48+AC48+AD48+AA48) -> 7.7973836 | W48: =+G48 -> 0.79 | X48: =+$V$1*H48 -> 99.084 | Y48: =+$V$1*I48 -> 13.317 | Z48: =+J48*(R48+S48) -> -8.223991 | AA48: =+$V$1*K48 -> 3.795 | AB48: =+L48*(R48+S48+U48+X48+Z48+AA48+AC48+V48) -> 6.9879379 | AC48: =+$V$1*M48 -> 19.1245 | AD48: =+$V$1*N48 -> 0.391 | AE48: =+O48*(R48+S48+U48+X48+Z48+AA48+AC48+V48) -> 0 | AG48: =SUM(R48:AF48) -> 372.34283 | AH48: =+(AG48-AG46)/AG46 -> -0.018451177
A49: 45392 | B49: =+B48 -> 11.39 | C49: =+C48 -> 0.09034 | D49: 5.36 | E49: =+E48 -> 0.00376 | F49: =+F46 -> 0.0228 | G49: =+G48 -> 0.79 | H49: =+H48 -> 0.04308 | I49: 0 | J49: =+J48 -> -0.037523 | K49: =+K48 -> 0.00165 | L49: =+L48 -> 0.02 | M49: =+M48 -> 0.008315 | N49: =+N48 -> 0.00017 | O49: 0 | Q49: =A49 -> 45392 | R49: =+R48 -> 11.39 | S49: =+$V$1*C49 -> 207.782 | T49: =+D49 -> 5.36 | U49: =+$V$1*E49 -> 8.648 | V49: =+F49*(R49+S49+Z49+X49+U49+AC49+AD49+AA49) -> 7.7973836 | W49: =+G49 -> 0.79 | X49: =+$V$1*H49 -> 99.084 | Y49: =+$V$1*I49 -> 0 | Z49: =+J49*(R49+S49) -> -8.223991 | AA49: =+$V$1*K49 -> 3.795 | AB49: =+L49*(R49+S49+U49+X49+Z49+AA49+AC49+V49) -> 6.9879379 | AC49: =+$V$1*M49 -> 19.1245 | AD49: =+$V$1*N49 -> 0.391 | AE49: =+O49*(R49+S49+U49+X49+Z49+AA49+AC49+V49) -> 0 | AG49: =SUM(R49:AF49) -> 362.92583 | AH49: =+(AG49-AG48)/AG48 -> -0.025291208
A50: 45474 | B50: =+B49 -> 11.39 | C50: =+C49 -> 0.09034 | D50: =+D49 -> 5.36 | E50: =+E49 -> 0.00376 | F50: =+Riders!B28 -> 0.0303 | G50: =+G49 -> 0.79 | H50: =+Riders!G41 -> 0.03749 | I50: =+I49 -> 0 | J50: =+J49 -> -0.037523 | K50: =+K49 -> 0.00165 | L50: =+L49 -> 0.02 | M50: =+M49 -> 0.008315 | N50: =+N49 -> 0.00017 | O50: 0 | Q50: =A50 -> 45474 | R50: =+R49 -> 11.39 | S50: =+$V$1*C50 -> 207.782 | T50: =+D50 -> 5.36 | U50: =+$V$1*E50 -> 8.648 | V50: =+F50*(R50+S50+Z50+X50+U50+AC50+AD50+AA50) -> 9.9727453 | W50: =+G50 -> 0.79 | X50: =+$V$1*H50 -> 86.227 | Y50: =+$V$1*I50 -> 0 | Z50: =+J50*(R50+S50) -> -8.223991 | AA50: =+$V$1*K50 -> 3.795 | AB50: =+L50*(R50+S50+U50+X50+Z50+AA50+AC50+V50) -> 6.7743051 | AC50: =+$V$1*M50 -> 19.1245 | AD50: =+$V$1*N50 -> 0.391 | AE50: =+O50*(R50+S50+U50+X50+Z50+AA50+AC50+V50) -> 0 | AG50: =SUM(R50:AF50) -> 352.03056 | AH50: =+(AG50-AG49)/AG49 -> -0.030020655
A51: 45566 | B51: =+B50 -> 11.39 | C51: =+C50 -> 0.09034 | D51: =+D50 -> 5.36 | E51: =+E50 -> 0.00376 | F51: =+F50 -> 0.0303 | G51: =Riders!B78 -> 0.81 | H51: =+Riders!G42 -> 0.0354 | I51: =+I50 -> 0 | J51: =+J50 -> -0.037523 | K51: =+K50 -> 0.00165 | L51: =+L50 -> 0.02 | M51: =+M50 -> 0.008315 | N51: =+N50 -> 0.00017 | O51: 0 | Q51: =A51 -> 45566 | R51: =+R50 -> 11.39 | S51: =+$V$1*C51 -> 207.782 | T51: =+D51 -> 5.36 | U51: =+$V$1*E51 -> 8.648 | V51: =+F51*(R51+S51+Z51+X51+U51+AC51+AD51+AA51) -> 9.8270932 | W51: =+G51 -> 0.81 | X51: =+$V$1*H51 -> 81.42 | Y51: =+$V$1*I51 -> 0 | Z51: =+J51*(R51+S51) -> -8.223991 | AA51: =+$V$1*K51 -> 3.795 | AB51: =+L51*(R51+S51+U51+X51+Z51+AA51+AC51+V51) -> 6.675252 | AC51: =+$V$1*M51 -> 19.1245 | AD51: =+$V$1*N51 -> 0.391 | AE51: =+O51*(R51+S51+U51+X51+Z51+AA51+AC51+V51) -> 0 | AG51: =SUM(R51:AF51) -> 346.99885 | AH51: =+(AG51-AG50)/AG50 -> -0.014293376
A52: 45658 | B52: =+B51 -> 11.39 | C52: =+C51 -> 0.09034 | D52: =+D51 -> 5.36 | E52: =+E51 -> 0.00376 | F52: 0.0302 | G52: =G51 -> 0.81 | H52: 0.03714 | I52: =+I51 -> 0 | J52: =+J51 -> -0.037523 | K52: 0.00049 | L52: =Riders!B85 -> 0.015 | M52: =+M51 -> 0.008315 | N52: =+N51 -> 0.00017 | O52: =Riders!O65 -> 0.015 | Q52: =A52 -> 45658 | R52: =+R51 -> 11.39 | S52: =+$V$1*C52 -> 207.782 | T52: =+D52 -> 5.36 | U52: =+$V$1*E52 -> 8.648 | V52: =+F52*(R52+S52+Z52+X52+U52+AC52+AD52+AA52) -> 9.8349474 | W52: =+G52 -> 0.81 | X52: =+$V$1*H52 -> 85.422 | Y52: =+$V$1*I52 -> 0 | Z52: =+J52*(R52+S52) -> -8.223991 | AA52: =+$V$1*K52 -> 1.127 | AB52: =+L52*(R52+S52+U52+X52+Z52+AA52+AC52+V52) -> 5.0265668 | AC52: =+$V$1*M52 -> 19.1245 | AD52: =+$V$1*N52 -> 0.391 | AE52: =+O52*(R52+S52+U52+X52+Z52+AA52+AC52+V52) -> 5.0265668 | AG52: =SUM(R52:AF52) -> 351.71859 | AH52: =+(AG52-AG51)/AG51 -> 0.013601589
A53: 45748 | B53: =+B52 -> 11.39 | C53: =+'Base Rates'!G21 -> 0.11108 | D53: =+D52 -> 5.36 | E53: 0 | F53: 0.0289 | G53: =G52 -> 0.81 | H53: =+Riders!G44 -> 0.04154 | I53: =+I52 -> 0 | J53: 0 | K53: 0 | L53: =+L52 -> 0.015 | M53: 0 | N53: =+N52 -> 0.00017 | O53: =+O52 -> 0.015 | Q53: =A53 -> 45748 | R53: =+R52 -> 11.39 | S53: =+$V$1*C53 -> 255.484 | T53: =+D53 -> 5.36 | U53: =+$V$1*E53 -> 0 | V53: =+F53*(R53+S53+Z53+X53+U53+AC53+AD53+AA53) -> 10.485122 | W53: =+G53 -> 0.81 | X53: =+$V$1*H53 -> 95.542 | Y53: =+$V$1*I53 -> 0 | Z53: =+J53*(R53+S53) -> 0 | AA53: =+$V$1*K53 -> 0 | AB53: =+L53*(R53+S53+U53+X53+Z53+AA53+AC53+V53) -> 5.5935168 | AC53: =+$V$1*M53 -> 0 | AD53: =+$V$1*N53 -> 0.391 | AE53: =+O53*(R53+S53+U53+X53+Z53+AA53+AC53+V53) -> 5.5935168 | AG53: =SUM(R53:AF53) -> 390.64916 | AH53: =+(AG53-AG52)/AG52 -> 0.11068669
A54: 45778 | B54: =+B53 -> 11.39 | C54: =+C53 -> 0.11108 | D54: =+D53 -> 5.36 | E54: =+E53 -> 0 | F54: =+F53 -> 0.0289 | G54: =G53 -> 0.81 | H54: =+H53 -> 0.04154 | I54: =+I53 -> 0 | J54: =+J53 -> 0 | K54: =+K53 -> 0 | L54: =+L53 -> 0.015 | M54: =Riders!$O$18 -> 0.001082 | N54: =+N53 -> 0.00017 | O54: =+O53 -> 0.015 | Q54: =A54 -> 45778 | R54: =+R53 -> 11.39 | S54: =+$V$1*C54 -> 255.484 | T54: =+D54 -> 5.36 | U54: =+$V$1*E54 -> 0 | V54: =+F54*(R54+S54+Z54+X54+U54+AC54+AD54+AA54) -> 10.557043 | W54: =+G54 -> 0.81 | X54: =+$V$1*H54 -> 95.542 | Y54: =+$V$1*I54 -> 0 | Z54: =+J54*(R54+S54) -> 0 | AA54: =+$V$1*K54 -> 0 | AB54: =+L54*(R54+S54+U54+X54+Z54+AA54+AC54+V54) -> 5.6319246 | AC54: =+$V$1*M54 -> 2.4886 | AD54: =+$V$1*N54 -> 0.391 | AE54: =+O54*(R54+S54+U54+X54+Z54+AA54+AC54+V54) -> 5.6319246 | AG54: =SUM(R54:AF54) -> 393.28649 | AH54: =+(AG54-AG53)/AG53 -> 0.0067511631
A55: 45809 | B55: =+B54 -> 11.39 | C55: =+'Base Rates'!C19 -> 0.11141 | D55: =+D54 -> 5.36 | E55: =+E54 -> 0 | F55: =+F54 -> 0.0289 | G55: =G54 -> 0.81 | H55: =+H54 -> 0.04154 | I55: =+I54 -> 0 | J55: =+J54 -> 0 | K55: =+K54 -> 0 | L55: =+L54 -> 0.015 | M55: =M54 -> 0.001082 | N55: 0.00147 | O55: =+O54 -> 0.015 | Q55: =A55 -> 45809 | R55: =+R54 -> 11.39 | S55: =+$V$1*C55 -> 256.243 | T55: =+D55 -> 5.36 | U55: =+$V$1*E55 -> 0 | V55: =+F55*(R55+S55+Z55+X55+U55+AC55+AD55+AA55) -> 10.665389 | W55: =+G55 -> 0.81 | X55: =+$V$1*H55 -> 95.542 | Y55: =+$V$1*I55 -> 0 | Z55: =+J55*(R55+S55) -> 0 | AA55: =+$V$1*K55 -> 0 | AB55: =+L55*(R55+S55+U55+X55+Z55+AA55+AC55+V55) -> 5.6449348 | AC55: =+$V$1*M55 -> 2.4886 | AD55: =+$V$1*N55 -> 3.381 | AE55: =+O55*(R55+S55+U55+X55+Z55+AA55+AC55+V55) -> 5.6449348 | AG55: =SUM(R55:AF55) -> 397.16986 | AH55: =+(AG55-AG54)/AG54 -> 0.0098741415
A56: 45839 | B56: =+B55 -> 11.39 | C56: =+C55 -> 0.11141 | D56: =+D55 -> 5.36 | E56: =+E55 -> 0 | F56: =Riders!B31 -> 0.0293 | G56: =G55 -> 0.81 | H56: =Riders!G45 -> 0.04867 | I56: =+I55 -> 0 | J56: =+J55 -> 0 | K56: =+K55 -> 0 | L56: =+L55 -> 0.015 | M56: =M55 -> 0.001082 | N56: 0.00147 | O56: =+O55 -> 0.015 | Q56: =A56 -> 45839 | R56: =+R55 -> 11.39 | S56: =+$V$1*C56 -> 256.243 | T56: =+D56 -> 5.36 | U56: =+$V$1*E56 -> 0 | V56: =+F56*(R56+S56+Z56+X56+U56+AC56+AD56+AA56) -> 11.293497 | W56: =+G56 -> 0.81 | X56: =+$V$1*H56 -> 111.941 | Y56: =+$V$1*I56 -> 0 | Z56: =+J56*(R56+S56) -> 0 | AA56: =+$V$1*K56 -> 0 | AB56: =+L56*(R56+S56+U56+X56+Z56+AA56+AC56+V56) -> 5.9003415 | AC56: =+$V$1*M56 -> 2.4886 | AD56: =+$V$1*N56 -> 3.381 | AE56: =+O56*(R56+S56+U56+X56+Z56+AA56+AC56+V56) -> 5.9003415 | AG56: =SUM(R56:AF56) -> 414.70778 | AH56: =+(AG56-AG55)/AG55 -> 0.044157233
A57: 45854 | B57: =+B56 -> 11.39 | C57: =+C56 -> 0.11141 | D57: =+Riders!W46 -> 7.79 | E57: =+E56 -> 0 | F57: =+F56 -> 0.0293 | G57: =G56 -> 0.81 | H57: =+H56 -> 0.04867 | I57: =+I56 -> 0 | J57: =+J56 -> 0 | K57: =+K56 -> 0 | L57: =+L56 -> 0.015 | M57: =M56 -> 0.001082 | N57: =+N56 -> 0.00147 | O57: =+O56 -> 0.015 | Q57: =A57 -> 45854 | R57: =+R56 -> 11.39 | S57: =+$V$1*C57 -> 256.243 | T57: =+D57 -> 7.79 | U57: =+$V$1*E57 -> 0 | V57: =+F57*(R57+S57+Z57+X57+U57+AC57+AD57+AA57) -> 11.293497 | W57: =+G57 -> 0.81 | X57: =+$V$1*H57 -> 111.941 | Y57: =+$V$1*I57 -> 0 | Z57: =+J57*(R57+S57) -> 0 | AA57: =+$V$1*K57 -> 0 | AB57: =+L57*(R57+S57+U57+X57+Z57+AA57+AC57+V57) -> 5.9003415 | AC57: =+$V$1*M57 -> 2.4886 | AD57: =+$V$1*N57 -> 3.381 | AE57: =+O57*(R57+S57+U57+X57+Z57+AA57+AC57+V57) -> 5.9003415 | AG57: =SUM(R57:AF57) -> 417.13778 | AH57: =+(AG57-AG56)/AG56 -> 0.0058595476
A58: 45931 | B58: =+B57 -> 11.39 | C58: =+C57 -> 0.11141 | D58: =+D57 -> 7.79 | E58: =+E57 -> 0 | F58: =+F57 -> 0.0293 | G58: =Riders!B79 -> 0.83 | H58: =+Riders!G49 -> 0.04928 | I58: =+I57 -> 0 | J58: =+J57 -> 0 | K58: =+K57 -> 0 | L58: =+L57 -> 0.015 | M58: =M57 -> 0.001082 | N58: =+N57 -> 0.00147 | O58: =+O57 -> 0.015 | Q58: =A58 -> 45931 | R58: =+R57 -> 11.39 | S58: =+$V$1*C58 -> 256.243 | T58: =+D58 -> 7.79 | U58: =+$V$1*E58 -> 0 | V58: =+F58*(R58+S58+Z58+X58+U58+AC58+AD58+AA58) -> 11.334605 | W58: =+G58 -> 0.83 | X58: =+$V$1*H58 -> 113.344 | Y58: =+$V$1*I58 -> 0 | Z58: =+J58*(R58+S58) -> 0 | AA58: =+$V$1*K58 -> 0 | AB58: =+L58*(R58+S58+U58+X58+Z58+AA58+AC58+V58) -> 5.9220031 | AC58: =+$V$1*M58 -> 2.4886 | AD58: =+$V$1*N58 -> 3.381 | AE58: =+O58*(R58+S58+U58+X58+Z58+AA58+AC58+V58) -> 5.9220031 | AG58: =SUM(R58:AF58) -> 418.64521 | AH58: =+(AG58-AG57)/AG57 -> 0.0036137488
A59: 46023 | B59: =+B58 -> 11.39 | C59: =+C58 -> 0.11141 | D59: =+D58 -> 7.79 | E59: =+E58 -> 0 | F59: =Riders!B32 -> 0.0318 | G59: =G58 -> 0.83 | H59: =+Riders!G53 -> 0.04778 | I59: =+I58 -> 0 | J59: =+J58 -> 0 | K59: =Riders!K69 -> -0.00186 | L59: =+L58 -> 0.015 | M59: =Riders!$O$19 -> 0.001287 | N59: =+N58 -> 0.00147 | O59: =+O58 -> 0.015 | Q59: =A59 -> 46023 | R59: =+R58 -> 11.39 | S59: =+$V$1*C59 -> 256.243 | T59: =+D59 -> 7.79 | U59: =+$V$1*E59 -> 0 | V59: =+F59*(R59+S59+Z59+X59+U59+AC59+AD59+AA59) -> 12.070965 | W59: =+G59 -> 0.83 | X59: =+$V$1*H59 -> 109.894 | Y59: =+$V$1*I59 -> 0 | Z59: =+J59*(R59+S59) -> 0 | AA59: =+$V$1*K59 -> -4.278 | AB59: =+L59*(R59+S59+U59+X59+Z59+AA59+AC59+V59) -> 5.824201 | AC59: =+$V$1*M59 -> 2.9601 | AD59: =+$V$1*N59 -> 3.381 | AE59: =+O59*(R59+S59+U59+X59+Z59+AA59+AC59+V59) -> 5.824201 | AG59: =SUM(R59:AF59) -> 411.92947 | AH59: =+(AG59-AG58)/AG58 -> -0.016041613
A60: 46113 | B60: =+B59 -> 11.39 | C60: =+C59 -> 0.11141 | D60: =+D59 -> 7.79 | E60: =+E59 -> 0 | F60: =Riders!B32 -> 0.0318 | G60: =G59 -> 0.83 | H60: =+Riders!G57 -> 0.04954 | I60: =+I59 -> 0 | J60: =+J59 -> 0 | K60: =Riders!K69 -> -0.00186 | L60: =+L59 -> 0.015 | M60: =Riders!$O$19 -> 0.001287 | N60: =+N59 -> 0.00147 | O60: =+O59 -> 0.015 | Q60: =A60 -> 46113 | R60: =+R59 -> 11.39 | S60: =+$V$1*C60 -> 256.243 | T60: =+D60 -> 7.79 | U60: =+$V$1*E60 -> 0 | V60: =+F60*(R60+S60+Z60+X60+U60+AC60+AD60+AA60) -> 12.199692 | W60: =+G60 -> 0.83 | X60: =+$V$1*H60 -> 113.942 | Y60: =+$V$1*I60 -> 0 | Z60: =+J60*(R60+S60) -> 0 | AA60: =+$V$1*K60 -> -4.278 | AB60: =+L60*(R60+S60+U60+X60+Z60+AA60+AC60+V60) -> 5.8868519 | AC60: =+$V$1*M60 -> 2.9601 | AD60: =+$V$1*N60 -> 3.381 | AE60: =+O60*(R60+S60+U60+X60+Z60+AA60+AC60+V60) -> 5.8868519 | AG60: =SUM(R60:AF60) -> 416.2315 | AH60: =+(AG60-AG59)/AG59 -> 0.010443604 | AI60: =+AI59 -> 0
A61: 46174 | B61: =+B60 -> 11.39 | C61: =+C60 -> 0.11141 | D61: =+D60 -> 7.79 | E61: =+E60 -> 0 | F61: =+F60 -> 0.0318 | G61: =G60 -> 0.83 | H61: =+H60 -> 0.04954 | I61: =+I60 -> 0 | J61: =+J60 -> 0 | K61: =+K60 -> -0.00186 | L61: =+L60 -> 0.015 | M61: =Riders!$O$19 -> 0.001287 | N61: 0.0005 | O61: =+O60 -> 0.015 | Q61: =A61 -> 46174 | R61: =+R60 -> 11.39 | S61: =+$V$1*C61 -> 256.243 | T61: =+D61 -> 7.79 | U61: =+$V$1*E61 -> 0 | V61: =+F61*(R61+S61+Z61+X61+U61+AC61+AD61+AA61) -> 12.128746 | W61: =+G61 -> 0.83 | X61: =+$V$1*H61 -> 113.942 | Y61: =+$V$1*I61 -> 0 | Z61: =+J61*(R61+S61) -> 0 | AA61: =+$V$1*K61 -> -4.278 | AB61: =+L61*(R61+S61+U61+X61+Z61+AA61+AC61+V61) -> 5.8857877 | AC61: =+$V$1*M61 -> 2.9601 | AD61: =+$V$1*N61 -> 1.15 | AE61: =+O61*(R61+S61+U61+X61+Z61+AA61+AC61+V61) -> 5.8857877 | AG61: =SUM(R61:AF61) -> 413.92742 | AH61: =+(AG61-AG60)/AG60 -> -0.0055355594
A62: 46204 | B62: =+B61 -> 11.39 | C62: =+C61 -> 0.11141 | D62: =+D61 -> 7.79 | E62: =+E61 -> 0 | F62: =Riders!B33 -> 0.0215 | G62: =G61 -> 0.83 | H62: =+Riders!G61 -> 0.04468 | I62: =+I61 -> 0 | J62: =+J61 -> 0 | K62: =+K61 -> -0.00186 | L62: =+L61 -> 0.015 | M62: =Riders!$O$19 -> 0.001287 | N62: 0.0005 | O62: =+O61 -> 0.015 | Q62: =A62 -> 46204 | R62: =+R61 -> 11.39 | S62: =+$V$1*C62 -> 256.243 | T62: =+D62 -> 7.79 | U62: =+$V$1*E62 -> 0 | V62: =+F62*(R62+S62+Z62+X62+U62+AC62+AD62+AA62) -> 7.9599256 | W62: =+G62 -> 0.83 | X62: =+$V$1*H62 -> 102.764 | Y62: =+$V$1*I62 -> 0 | Z62: =+J62*(R62+S62) -> 0 | AA62: =+$V$1*K62 -> -4.278 | AB62: =+L62*(R62+S62+U62+X62+Z62+AA62+AC62+V62) -> 5.6555854 | AC62: =+$V$1*M62 -> 2.9601 | AD62: =+$V$1*N62 -> 1.15 | AE62: =+O62*(R62+S62+U62+X62+Z62+AA62+AC62+V62) -> 5.6555854 | AG62: =SUM(R62:AF62) -> 398.1202 | AH62: =+(AG62-AG61)/AG61 -> -0.038188397

Sheet Base Rates
B1: Current Base Rates | F1: Previous Base Rates | J1: Previous Base Rates
B2: R-1 | C2: C25-0351 | D2: 45796 | F2: R-1 | G2: C25-0183 | H2: 45738 | J2: R-1 | K2: C18-0445 | L2: 43282
B3: Cust Charge | C3: 8.77 | F3: Cust Charge | G3: 8.77 | J3: Cust Charge | K3: 8.77
B4: first 500 kWh | C4: 0.12159 | F4: first 500 kWh | G4: 0.12122 | J4: first 500 kWh | K4: 0.09999
B5: Above | C5: 0.15807 | F5: Above | G5: 0.15759 | J5: Above | K5: 0.13004
B6: Med Exempt | C6: 0.13509 | F6: Med Exempt | G6: 0.13468 | J6: Med Exempt | K6: 0.11094
B8: RS-2 | C8: C25-0351 | D8: 45796 | F8: RS-2 | G8: C25-0183 | H8: 45738 | J8: RS-2 | K8: C18-0445 | L8: 43282
B9: Cust Charge | C9: 6.69 | F9: Cust Charge | G9: 6.69 | J9: Cust Charge | K9: 6.69
B10: Energy | C10: 0.06715 | F10: Energy | G10: 0.06691 | J10: Energy | K10: 0.468
B12: R TOU | C12: C25-0351 | D12: 45796 | F12: RS-TOU | G12: C25-0183 | H12: 45738 | J12: RS-EV | K12: C21-0651 | L12: 44594
B13: Cust Charge | C13: 8.77 | F13: Cust Charge | G13: 8.77 | J13: Cust Charge | K13: 8.77
B14: On Peak | C14: 0.24266 | F14: Sum On Peak | G14: 0.24034 | J14: Sum On Peak | K14: 0.26481
B15: Off Peak | C15: 0.12133 | F15: Sum Off Peak | G15: 0.12017 | J15: Su Off Peak | K15: 0.08827
F16: Non Sum On | G16: 0.24034 | J16: Non Sum On | K16: 0.17654
B17: SGS | C17: C25-0351 | D17: 45796 | F17: Non Sum Off | G17: 0.12017 | J17: Non Sum Off | K17: 0.08827
B18: Cust Charge | C18: 11.39
B19: Energy | C19: 0.11141 | F19: SGS | G19: C25-0183 | H19: 45738 | J19: SGS-N | K19: C18-0445 | L19: 43282
F20: Cust Charge | G20: 11.39 | J20: Cust Charge | K20: 11.39
B21: SGS-TOU | C21: C25-0351 | D21: 45796 | F21: Energy | G21: 0.11108 | J21: Energy | K21: 0.09034
B22: Cust Charge | C22: 11.39
B23: On | C23: 0.20294 | F23: SGS TOU | G23: C25-0183 | H23: 45738 | J23: SGS-D | K23: C18-0445 | L23: 43282
B24: Off | C24: 0.10147 | F24: Cust Charge | G24: 11.39 | J24: Cust Charge | K24: 11.39
F25: On | G25: 0.20234 | J25: Energy | K25: 0.09034
B26: LGS -Secondary | C26: C25-0351 | D26: 45796 | F26: Off | G26: 0.10117
B27: Cust | C27: 64 | J27: SGS TOU | K27: C18-0445 | L27: 43282
B28: Demand | C28: 28 | F28: LGS -Secondary | G28: C25-0183 | H28: 45738 | J28: Cust Charge | K28: 11.39
B29: All kWh | C29: 0.01205 | F29: Cust | G29: 64 | J29: On | K29: 0.13562
F30: Demand | G30: 28 | J30: Off | K30: 0.085
B31: LGS Sec TOU | C31: C25-0351 | D31: 45796 | F31: All kWh | G31: 0.01179
B32: Cust | C32: 64 | J32: SGS EV | K32: C21-0651 | L32: 44594
B33: Demand | C33: 28 | F33: LGS Sec TOU | G33: C25-0183 | H33: 45738 | J33: Cust Charge | K33: 11.39
B34: Non Sum On | C34: 0.022 | F34: Cust | G34: 64 | J34: Sum On Peak | K34: 0.209
B35: Non Sum Off | C35: 0.011 | F35: Demand | G35: 28 | J35: Su Off Peak | K35: 0.06943
F36: Non Sum On | G36: 0.02152 | J36: Non Sum On | K36: 0.14096
B37: LGS -Sec EV | C37: C25-0351 | D37: 45796 | F37: Non Sum Off | G37: 0.01076 | J37: Non Sum Off | K37: 0.06943
B38: Cust | C38: 64 | F38: Sum On | G38: 0.0361
B39: Demand | C39: 7.62 | F39: Sum Off | G39: 0.01165 | J39: LGS -Sec | K39: C18-0445 | L39: 43282
B40: Non Sum On | C40: 0.52744 | J40: Cust | K40: 64
B41: Non Sum Off | C41: 0.26372 | F41: LGS -Sec EV | G41: C25-0183 | H41: 45738 | J41: Demand | K41: 23.33
B42: Sum On | C42: 0.79116 | F42: Cust | G42: 64 | J42: 1st 200 kWh | K42: 0.011
B43: Sum Off | C43: 0.26372 | F43: Demand | G43: 7.62 | J43: excess kWh | K43: 0.00442
F44: Non Sum On | G44: 0.527
B45: LGS Sec Non EV | C45: C25-0351 | D45: 45796 | F45: Non Sum Off | G45: 0.2635 | J45: LGS Sec TOU | K45: C18-0445 | L45: 43282
B46: Cust | C46: 64 | F46: Sum On | G46: 0.7905 | J46: Cust | K46: 64
B47: Demand | C47: 0 | F47: Sum Off | G47: 0.2635 | J47: Demand | K47: 23.33
B48: Non Sum On | C48: 0.7167 | J48: Winter kWh | K48: 0.01165
B49: Non Sum Off | C49: 0.35835 | F49: LGS Sec Non EV | G49: C25-0183 | H49: 45738 | J49: Sum On | K49: 0.0361
B50: Sum On | C50: 1.07505 | F50: Cust | G50: 64 | J50: Sum Off | K50: 0.01165
B51: Sum Off Peak | C51: 0.35835 | F51: Demand | G51: 0
F52: Non Sum On | G52: 0.71626 | J52: LGS -Prim | K52: C18-0445 | L52: 43282
B53: LGS Primary | C53: C25-0351 | D53: 45796 | F53: Non Sum Off | G53: 0.35813 | J53: Cust | K53: 64
B54: Cust Charge | C54: 64 | F54: Sum On | G54: 1.07439 | J54: Demand | K54: 18.14
B55: Demand | C55: 24 | F55: Sum Off Peak | G55: 0.35813 | J55: 1st 200 kWh | K55: 0.0071
B56: All kWh | C56: 0.0068 | J56: excess kWh | K56: 0.00304
F57: LGS Primary | G57: C25-0183 | H57: 45738
B58: LGS Prim TOU | C58: C25-0351 | D58: 45796 | F58: Cust Charge | G58: 64 | J58: LGS Prim TOU | K58: C18-0445 | L58: 43282
B59: Cust | C59: 64 | F59: Demand | G59: 24 | J59: Cust | K59: 64
B60: Demand | C60: 24 | F60: All kWh | G60: 0.00662 | J60: Demand | K60: 18.14
B61: On Peak | C61: 0.01252 | J61: Winter kWh | K61: 0.01107
B62: Off Peak | C62: 0.00626 | F62: LGS Prim TOU | G62: C25-0183 | H62: 45738 | J62: Sum On | K62: 0.0343
F63: Cust | G63: 64 | J63: Sum Off | K63: 0.01107
B64: LPS Secondary | C64: C25-0351 | D64: 45796 | F64: Demand | G64: 24
B65: Cust | C65: 438 | F65: On Peak | G65: 0.0122 | J65: LGS Sec EVTOD | K65: C21-0651 | L65: 44594
B66: Demand | C66: 24 | F66: Off Peak | G66: 0.0061 | J66: Cust Charge | K66: 64
B67: All kWh | C67: 0.01946 | J67: Demand | K67: 6.35
F68: LPS Secondary | G68: C25-0183 | H68: 45738 | J68: Sum On Peak | K68: 0.38879
B69: LPS Sec TOU | C69: C25-0351 | D69: 45796 | F69: Cust | G69: 438 | J69: Sum Off Peak | K69: 0.1301
B70: Cust | C70: 438 | F70: Demand | G70: 24 | J70: Non Sum On | K70: 0.26101
B71: Demand | C71: 24 | F71: All kWh | G71: 0.01897 | J71: Non Sum Off | K71: 0.1301
B72: On Peak | C72: 0.03574
B73: Off Peak | C73: 0.01787 | F73: LPS Sec TOU | G73: C25-0183 | H73: 45738 | J73: LPS Sec | K73: C18-0445 | L73: 43282
F74: Cust | G74: 438 | J74: Cust | K74: 438
B75: LPS Primary | C75: C25-0351 | D75: 45796 | F75: Demand | G75: 24 | J75: Demand | K75: 21.24
B76: Cust | C76: 888 | F76: On Peak | G76: 0.03484 | J76: 1st 200 kWh | K76: 0.0158
B77: Demand | C77: 23 | F77: Off Peak | G77: 0.01742 | J77: excess kWh | K77: 0.0081
B78: All kWh | C78: 0.02046
F79: LPS Primary | G79: C25-0183 | H79: 45738 | J79: LPS Sec TOU | K79: C18-0445 | L79: 43282
B80: LPS Prim TOU | C80: C25-0351 | D80: 45796 | F80: Cust | G80: 888 | J80: Cust | K80: 438
B81: Cust | C81: 888 | F81: Demand | G81: 23 | J81: Demand | K81: 21.24
B82: Demand | C82: 23 | F82: All kWh | G82: 0.02028 | J82: Winter kWh | K82: 0.0081
B83: On Peak | C83: 0.03656 | J83: Sum On | K83: 0.0158
B84: Off Peak | C84: 0.01828 | F84: LPS Prim TOU | G84: C25-0183 | H84: 45738 | J84: Sum Off | K84: 0.0081
F85: Cust | G85: 888
B86: LPS Transmission | C86: C25-0183 | D86: 45738 | F86: Demand | G86: 23 | J86: LPS Prim | K86: C18-0445 | L86: 43282
B87: Cust | C87: 1842 | F87: On Peak | G87: 0.03624 | J87: Cust | K87: 888
B88: Demand | C88: 18.8 | F88: Off Peak | G88: 0.01812 | J88: Demand | K88: 19.94
B89: All kWh | C89: 0.01518 | J89: 1st 200 kWh | K89: 0.01509
F90: LPS Transmission | G90: C25-0183 | H90: 45738 | J90: excess kWh | K90: 0.0079
B91: LPS Trans TOU | C91: C25-0183 | D91: 45738 | F91: Cust | G91: 1842
B92: Cust | C92: 1842 | F92: Demand | G92: 18.8 | J92: LPS Prim TOU | K92: C18-0445 | L92: 43282
B93: Demand | C93: 18.8 | F93: All kWh | G93: 0.01518 | J93: Cust | K93: 888
B94: On Peak | C94: 0.03418 | J94: Demand | K94: 19.94
B95: Off Peak | C95: 0.01709 | F95: LPS Trans TOU | G95: C25-0183 | H95: 45738 | J95: Winter kWh | K95: 0.0079
F96: Cust | G96: 1842 | J96: Sum On | K96: 0.01509
B97: GSS-T Trans Elec | C97: C25-0183 | D97: 45738 | F97: Demand | G97: 18.8 | J97: Sum Off | K97: 0.0079
B98: Cust | C98: 1842 | F98: On Peak | G98: 0.03418
B99: Demand On | C99: 7.85912 | F99: Off Peak | G99: 0.01709 | J99: LPS Trans | K99: C18-0445 | L99: 43282
B100: Demand Off | C100: 0.69921 | J100: Cust | K100: 1842
B101: All kWh | C101: 0.01518 | F101: GSS-T Trans Elec | G101: C25-0183 | H101: 45738 | J101: Demand | K101: 18.8
F102: Cust | G102: 1842 | J102: 1st 200 kWh | K102: 0.00927
...

Sheet Riders
B2: DSMCA | C2: R09-0542 | G2: ECA | H2: R13-0562 | K2: PCCA | L2: 09AL-837E C10-1119 | O2: TCA | P2: 14A-1214E, C10-023 | S2: GRSA | W2: BHEAP | X2: C12-0693
B3: (% of Bill) | G3: ($/kWh) | K3: Energy and SC. $/kWh, LGS and LPS $/kW | O3: ($/kWh) | S3: 42736 | T3: 16AL-0326E | W3: Monthly Charge (except LPS)
B4: Rate | C4: Effective date | D4: Proceeding | G4: Rate | H4: Effective date | I4: Proceeding | K4: Rate | L4: Effective date | O4: Rate | P4: Effective date | S4: 2.3552 | T4: Percent increase | W4: 41091 | X4: 12AL-138E
G5: 0.03608 | H5: 42186 | I5: 15AL-0415E | L5: 42036 | M5: 14AL-1210E | T5: on base rates | W5: 0.25 | X5: Res
G6: 0.04552 | H6: 42278 | I6: 15AL-0721E | K6: 0.00045 | L6: Energy Only | O6: 0.00174 | P6: 42036 | Q6: 14AL-1214E | W6: 0.78 | X6: SG
G7: 0.04552 | H7: 42370 | I7: 15AL-0936E | K7: 0.00074 | L7: Small Com Serv | O7: 0.001266 | P7: 42370 | Q7: 15AL-0861E | W7: 20.39 | X7: LGS
G8: 0.04552 | H8: 42461 | I8: 16AL-0129E | K8: 0.18856 | L8: LGS | O8: 0.001722 | P8: 42767 | Q8: 16AL-0990E | W8: 0.0004 | X8: LPS (/kWh)
B9: 0.0216 | C9: 41640 | D9: 13AL-1051E | G9: 0.0362 | H9: 42552 | I9: 16AL-0408E | K9: 0.13408 | L9: LPS | O9: 0.003052 | P9: 43101 | Q9: 17AL-0727E | W9: 0.34 | X9: Lighting
B10: 0.0226 | C10: 42186 | D10: 15AL-0214E | G10: 0.04019 | H10: 42644 | I10: 16AL-0664E | L10: 42370 | M10: 15AL-0894E | O10: 0.002069 | P10: 43466 | Q10: 18AL-0764E | S10: 43711 | T10: C18-0508 | W10: 0.78 | X10: Irrig
B11: 0.0254 | C11: 42401 | D11: 15AL-1009E | G11: 0.03335 | H11: 42736 | I11: 16AL-0919E | K11: 0.0004 | L11: Energy Only | O11: 0.00286 | P11: 43831 | Q11: 19AL-0615E | S11: -3.7523 | T11: Percent increase | W11: 41487 | X11: 13AL-0770E
B12: 0.0318 | C12: 42552 | D12: 16AL-0235E | G12: 0.03997 | H12: 42826 | I12: 17AL-0130E | K12: 0.0005 | L12: Small Com Serv | O12: 0.003655 | P12: 44197 | Q12: 20AL-0472E | T12: on base rates | W12: 0.28 | X12: Res
B13: 0.0262 | C13: 42917 | D13: 17AL-0203E | G13: 0.03143 | H13: 42917 | I13: 17AL-0354E | K13: 0.15553 | L13: LGS | O13: 0.005072 | P13: 44593 | Q13: 21AL-0516E | S13: 43748 | T13: CACJA | W13: 0.9 | X13: SG
B14: 0.0285 | C14: 43101 | D14: 17AL-0645E | G14: 0.04052 | H14: 43009 | I14: 17AL-0590E | K14: 0.08859 | L14: LPS | O14: 0.008722 | P14: 45177 | Q14: 23AL-0450E | S14: One time credit | T14: 19AL-0171E | W14: 23.5 | X14: LGS
B15: 0.0252 | C15: 43282 | D15: 18AL-0200E | G15: 0.0408 | H15: 43101 | I15: 17AL-0804E | L15: 42736 | M15: 16AL-0991E | O15: 0.008315 | P15: 45323 | Q15: 23AL-0542E | S15: -16.79 | T15: Res | W15: 0.00045 | X15: LPS (/kWh)
B16: 0.0238 | C16: 43466 | D16: 18AL-0684E | G16: 0.03484 | H16: 43191 | I16: 18AL-0131E | K16: 0.00057 | L16: Energy Only | O16: 0.010181 | P16: 45658 | Q16: 24AL-0481E | S16: -34.38 | T16: SG | W16: 0.39 | X16: Lighting
B17: 0.0177 | C17: 43647 | D17: 19AL-0172E | G17: 0.02991 | H17: 43282 | I17: 18AL-0358E | K17: 0.00067 | L17: Small Com Serv | O17: 0 | P17: 45738 | Q17: 24AL-0481E | S17: -910.29 | T17: LGS | W17: 0.9 | X17: Irrig
B18: 0.0182 | C18: 43831 | D18: 19AL-0521E | G18: 0.03426 | H18: 43374 | I18: 18AL-0604E | K18: 0.2264 | L18: LGS | O18: 0.001082 | P18: 45778 | Q18: 24AL-0481E | S18: -32229.75 | T18: LPS
B19: 0.0198 | C19: 44013 | D19: 20AL-0135E | G19: 0.03772 | H19: 43466 | I19: 18AL-0840E | K19: 0.12978 | L19: LPS | O19: 0.001287 | P19: 46023 | Q19: 25AL-0463E | S19: -11.4 | T19: Lighting | W19: 43009 | X19: 17AL-0543E
B20: 0.0195 | C20: 44197 | D20: 20AL-0399E | G20: 0.0381 | H20: 43556 | I20: 19AL-0116E | L20: 43101 | M20: 17AL-0769E | S20: -32.02 | T20: Irrig | W20: 0.31 | X20: Res
B21: 0.0275 | C21: 44378 | D21: 21AL-0147E | G21: 0.04099 | H21: 43647 | I21: 19AL-0310E | K21: 0.00068 | L21: Energy Only | O21: CACJA | P21: C14-1504 | W21: 1 | X21: SG
B22: 0.0275 | C22: 44562 | D22: 21AL-0463E | G22: 0.03913 | H22: 43739 | I22: 19AL-0473E | K22: 0.00053 | L22: Small Com Serv | O22: Rate | P22: Effective Date | S22: 44166 | T22: TCJA | W22: 26.09 | X22: LGS
B23: 0.0226 | C23: 44743 | D23: 22AL-0149E | G23: 0.03674 | H23: 43831 | I23: 19AL-0673E | K23: 0.15089 | L23: LGS | O23: 42186 | P23: 15AL-0302E | S23: One time credit | T23: R20-0924 | W23: 0.0005 | X23: LPS
B24: 0.0243 | C24: 44927 | D24: 22AL-0418E | G24: 0.03714 | H24: 43922 | I24: 20AL-0073E | K24: 0.18095 | L24: LPS | O24: 0.00159 | P24: $/kWh Energy Only | S24: -39.3 | T24: Res | W24: 0.00045 | X24: LPS (/kWh)
B25: 0.021 | C25: 45108 | D25: 23AL-0140E | G25: 0.03452 | H25: 44013 | I25: 20AL-0229E | L25: 43466 | M25: 18AL-0798E | O25: 0.00195 | P25: $/kWh SGS | S25: -79.44 | T25: SG | W25: 0.43 | X25: Lighting
B26: 0.0215 | C26: 45109 | D26: 23AL-0240E | G26: 0.03154 | H26: 44105 | I26: 20AL-0362E | K26: 0.00077 | L26: Energy Only | O26: 0.63 | P26: $/kW LGS | S26: -2018.79 | T26: LGS | W26: 1 | X26: Irrig
B27: 0.0228 | C27: 45292 | D27: 23AL-0505E | G27: 0.03501 | H27: 44197 | I27: 20AL-0526E | K27: 0.00064 | L27: Small Com Serv | O27: 0.42 | P27: $/kW LPS | S27: -67398.18 | T27: LPS
B28: 0.0303 | C28: 45474 | D28: 24AL-0155E | G28: 0.03555 | H28: 44287 | I28: 21AL-0092E | K28: 0.12445 | L28: LGS | O28: 42370 | P28: 15AL-0866E | S28: -23.91 | T28: Lighting | W28: 44209 | X28: 21AL-0032E
B29: 0.0302 | C29: 45658 | D29: 24AL-0419E | G29: 0.03854 | H29: 44378 | I29: 21AL-0225E | K29: 0.23012 | L29: LPS | O29: 0.0028 | P29: $/kWh Energy Only | S29: -69.4 | T29: Irrig | W29: 0.51 | X29: Res
B30: 0.0289 | C30: 45738 | D30: 24AL-0275E | G30: 0.0472 | H30: 44470 | I30: 21AL-0406E | L30: 43831 | M30: 19AL-0638E | O30: 0.00343 | P30: $/kWh SGS | W30: 1.46 | X30: SG
B31: 0.0293 | C31: 45839 | D31: 25AL-0141E | G31: 0.04424 | H31: 44562 | I31: 21AL-0584E | K31: 0.00082 | L31: Energy Only | O31: 1.06 | P31: $/kW LGS | S31: 44235 | T31: TCJA | W31: 37.88 | X31: LGS
B32: 0.0318 | C32: 46023 | D32: 25AL-0404E | G32: 0.05101 | H32: 44652 | I32: 22AL-0095E | K32: 0.000474 | L32: Small Com Serv | O32: 0.67 | P32: $/kW LPS | S32: One time credit | T32: R20-0924 | W32: 0.000517 | X32: LPS (/kWh)
B33: 0.0215 | C33: 46204 | D33: 26AL-0130E | G33: 0.06088 | H33: 44743 | I33: 22AL-0134E | K33: 0.18641 | L33: LGS | O33: 42552 | P33: 16AL-0320E | S33: -11.02 | T33: Res | W33: 0.57 | X33: Lighting
G34: 0.06044 | H34: 44835 | I34: 22AL0380E | K34: 0.26166 | L34: LPS | O34: 0.00323 | P34: $/kWh Energy Only | S34: -22.27 | T34: SG | W34: 1.41 | X34: Irrig
B35: TEPR | C35: C21-0651 | D35: 20AL-0195E | G35: 0.06365 | H35: 44927 | I35: 22AL-0533E | L35: 44197 | M35: 20AL-0512E | O35: 0.00389 | P35: $/kWh SGS | S35: -565.84 | T35: LGS
B36: Rate | C36: Effective Date | G36: 0.06036 | H36: 45017 | I36: 23AL-0097E | K36: 0.00108 | L36: Energy Only | O36: 1.34 | P36: $/kW LGS | S36: -18890.7 | T36: LPS | W36: 45332 | X36: 24AL-0105E
C37: 45078 | G37: 0.05158 | H37: 45108 | I37: 23AL-0281E | K37: 0.001 | L37: Small Com Serv | O37: 0.77 | P37: $/kW LPS | S37: -6.7 | T37: Lighting | W37: 1 | X37: Res
B38: RES | C38: $0.00022/kWh | G38: 0.04987 | H38: 45200 | I38: 23AL-0442E | K38: 0.3661 | L38: LGS | O38: 42736 | P38: 16AL-0826E | S38: -19.45 | T38: Irrig | W38: 5.36 | X38: SG
B39: SG | C39: $0.00017/kWh | G39: 0.04559 | H39: 45292 | I39: 23A-0581E | K39: 0.35296 | L39: LPS | O39: 0 | P39: $/kWh Energy Only | W39: 138.95 | X39: LGS
B40: LGS | C40: $0.04612/kW | G40: 0.04308 | H40: 45383 | I40: 24AL-0099E | L40: 44562 | M40: 21AL-0543E | O40: 0 | P40: $/kWh SGS | S40: 45738 | T40: 24AL-0275E | W40: 0.001896 | X40: LPS (/kWh)
B41: LPS | C41: $0.04934/kW | G41: 0.03749 | H41: 45474 | I41: 24AL-0255E | K41: 0.00145 | L41: Energy Only | O41: 0 | P41: $/kW LGS | S41: 0.0% for all classes | W41: 2.09 | X41: Lighting
B42: Lighting | C42: $0.00021/kWh | G42: 0.0354 | H42: 45566 | I42: 24AL-0373E | K42: 0.0013 | L42: Small Com Serv | O42: 0 | P42: $/kW LPS | W42: 5.17 | X42: Irrig
B43: Irrig | C43: $0.00026/kWh | G43: 0.03714 | H43: 45658 | I43: 24AL-0521E | K43: 0.36983 | L43: LGS | O43: 42917 | P43: 17AL-0355E
C44: Effecitive 6/1/24 | G44: 0.04154 | H44: 45748 | I44: 25AL-0088E | K44: 0.4467 | L44: LPS | O44: 0.00373 | P44: $/kWh Energy Only | W44: 45854 | X44: 25AL-0263E
B45: RES | C45: 0.00020/kWh | F45: SV | G45: 0.04867 | H45: 45839 | I45: 25AL-0237E | L45: 44927 | M45: 22AL-0505E | O45: 0.00455 | P45: $/kWh SGS | W45: 1.45 | X45: Res
B46: SG | C46: 0.00016/kWh | F46: PV | G46: 0.04786 | K46: 0.00175 | L46: Energy Only | O46: 1.07 | P46: $/kW LGS | W46: 7.79 | X46: SG
B47: LGS | C47: 0.04339/kW | F47: T | G47: 0.04715 | K47: 0.00149 | L47: Small Com Serv | O47: 0.91 | P47: $/kW LPS | W47: 201.96 | X47: LGS
B48: LPS | C48: 0.04642/kW | K48: 0.41431 | L48: LGS | O48: 43101 | P48: 17AL-0806 | W48: 0.002756 | X48: LPS (/kWh)
B49: Lighting | C49: 0.00019/kWh | F49: SV | G49: 0.04928 | H49: 45931 | I49: 25AL-0360E | K49: 0.63463 | L49: LPS | O49: 0.00376 | P49: $/kWh Energy Only | W49: 3.04 | X49: Lighting
B50: Irrig | C50: 0.00024/kWh | F50: PV | G50: 0.04846 | L50: 1/1/2024 23AL-0562E | O50: 0.00458 | P50: $/kWh SGS | W50: 7.51 | X50: Irrig
C51: Effecitive 6/1/25 | F51: T | G51: 0.04774 | K51: 0.00196 | L51: Energy Only | O51: 1.08 | P51: $/kW LGS
B52: RES | C52: 0.00020/kWh | K52: 0.00165 | L52: Small Com Serv | O52: 0.92 | P52: $/kW LPS
B53: SG | C53: 0.00147/kWh | F53: SV | G53: 0.04778 | H53: 46023 | I53: 25AL-0505E | K53: 0.4561 | L53: LGS | O53: 43343 | P53: 18AL-0528E
B54: LGS | C54: 0.01699/kW | F54: PV | G54: 0.04699 | K54: 0.74256 | L54: LPS | O54: 0.00444 | P54: $/kWh Energy Only
B55: LPS | C55: 0.00000/kW | F55: T | G55: 0.04629 | L55: 1/1/2025 24AL-0495E | O55: 0.00376 | P55: $/kWh SGS
B56: Lighting | C56: 0.00000/kW | K56: 0.00114 | L56: Energy Only | O56: 0.78 | P56: $/kW LGS
B57: Irrig | C57: 0.00000/kW | F57: SV | G57: 0.04954 | H57: 46113 | I57: 26AL-0079E | K57: 0.00049 | L57: Small Com Serv | O57: 1.2 | P57: $/kW LPS
C58: Effecitive 6/1/26 | F58: PV | G58: 0.04978 | K58: 0.25926 | L58: LGS
B59: RES | C59: 0.00054/kWh | F59: T | G59: 0.04904 | K59: 0.43743 | L59: LPS | O59: 45738 | P59: 24AL-0275E
B60: SG | C60: 0.00050/kWh | O60: Rate Removed for all classes
B61: LGS | C61: 0.11665/kW | F61: SV | G61: 0.04468 | H61: 46204 | I61: 26AL-XXXXE | K61: 45738 | L61: 24AL-0275E
B62: LPS | C62: 0.00000/kW | F62: PV | G62: 0.04394 | K62: 0 | L62: Energy Only | O62: CEPR
B63: Lighting | C63: 0.00000/kW | F63: T | G63: 0.04329 | K63: 0 | L63: Small Com Serv | O63: (% of Bill)
B64: Irrig | C64: 0.00000/kW | K64: 0 | L64: LGS | O64: Rate | P64: Effective date | Q64: Proceeding
K65: 0 | L65: LPS | O65: 0.015 | P65: 45658 | Q65: 22A-0230E
B66: EGCRR | C66: R22-0043
B67: ($/kWh) | K67: 46023 | L67: 25AL-0490E
B68: Rate | C68: Effective Date | K68: -0.00248 | L68: Energy Only
B69: 0.00579 | C69: 44630 | K69: -0.00186 | L69: Small Com Serv
B70: 0 | C70: 45392 | K70: -0.52336 | L70: LGS
K71: -0.44778 | L71: LPS
B72: EASBC | C72: 21AL-0400E (OL)
B73: Rate | C73: Effective Date
B74: Monthly Charge
B75: 0.5 | C75: 44470
B76: 0.75 | C76: 44835
B77: 0.79 | C77: 45200
B78: 0.81 | C78: 45566
B79: 0.83 | C79: 45931
B81: RESA | C81: 09AL-471E (OL)
B82: (% of Bill)
B83: Rate | C83: Effective date | D83: Proceeding
B84: 0.02 | C84: 40026
B85: 0.015 | C85: 45658 | D85: 22A-0230E
