Workbook
Name CE: 'Act Att-H'!$G$57
Name DA: 1
Name GP: 'Act Att-H'!$G$50
Name NA: 0
Name NP: 'Act Att-H'!$G$66
Name TE: 'Act Att-H'!$I$184
Name TP: 'Act Att-H'!$I$175
Name WCLTD: 'Act Att-H'!$I$203
Name WS: 'Act Att-H'!$I$192

Sheet Table of Contents
A1: Black Hills Colorado Electric, LLC
A2: Transmission Formula Rate Template
A4: Table of Contents
E5: Page 1 of 1
A6: Overview
A7: The formula is calculated in two steps. The first step is to fill out the A tabs, and the Actual Attachment H tab with data from the previous year's Form No. 1 information or other data sources as noted. This information is used to update the formulas in the Actual Attachment H tab to calculate the Actual Revenue Requirement (Actual ATRR) for the previous year. The results of this calculation are presented to the customers for review in June of each year.
A9: The TU (True-up) tab uses the revenue requirement from the Actual Attachment H tab and compares it to the revenue requirement from the Projected Attachment H tab that customers were billed for the same period.
A11: The projected O&M and plant balances are calculated on the P Tabs. These sheets feed into the Projected Attachment H tab for determining the Projected Annual Transmission Revenue Requirement. The tariff rates are calculated based on the revenue requirements and the specific point-to-point charges are shown on the same tab. The projected rates are posted to the customers for review in September of each year.
B12: Cells highlighted in yellow are data input cells, however, some cells may reference the results from other worksheets in the formula. Such cell references may change from year to year requiring manual adjustment of the reference or the direct entry of the proper value.
B13: Cells highlighted in green signify that the data is sourced from other worksheets in the formula and that the reference is static.
A16: Tab | B16: Schedule/Worksheet Designation | C16: Description | D16: Date to be Posted
A20: Act Att-H | B20: Actual Attachment H | C20: Actual Annual Transmission Revenue Requirements for most recent calendar year | D20: June
A22: A1-RevCred | B22: Worksheet A1 | C22: Actual revenue credits | D22: June
A24: A2-A&G | B24: Worksheet A2 | C24: Actual A&G Expense supporting data | D24: June
A26: A3-ADIT | B26: Worksheet A3 | C26: Actual Accumulated Deferred Income Tax data | D26: June
A28: A-3.1 EDIT-DDIT | B28: Worksheet A3.1 | C28: Annual Excess and Deficient Accumulated Deferred Income Tax | D28: June
A30: A-3.2 EDIT-DDIT.dtl | B30: Worksheet A3.2 | C30: Excess and Deficient Accumulated Deferred Income Tax Remeasurement | D30: June, Sep
A32: A4-Rate Base | B32: Worksheet A4 | C32: Actual Rate Base data | D32: June
A34: A5-Depr | B34: Worksheet A5 | C34: Actual Depreciation Rates | D34: June
A36: A6-Divisor | B36: Worksheet A6 | C36: Actual Transmission Load Data for Calculating Rate Divisors | D36: June
A38: A7-IncentPlant | B38: Worksheet A7 | C38: Actual Incentive Plant | D38: June
A40: A8-Prepmts | B40: Worksheet A8 | C40: Prepayments | D40: June
... A56: Schedule 1 | B56: Schedule 1 | C56: Ancillary Services, Schedule No. 1 - Scheduling System Control and Dispatch Service | D56: June, Sep

Sheet Act Att-H
I1: Actual Attachment H
J2: Page 1
B4: Formula Rate - Non-Levelized | C4: Rate Formula Template | K4: Actuals - For the 12 months ended 12/31/2023
C5: Utilizing FERC Form 1 Data
C7: Black Hills Colorado Electric, LLC
A8: Line | I8: Allocated
A9: No. | I9: Amount
A10: 1 | B10: GROSS REVENUE REQUIREMENT (page 3, line 29) | I10: ='Act Att-H'!I156 -> 30980413
B12: REVENUE CREDITS | C12: (Note S) | D12: Total | F12: Allocator
A13: 2 | B13: Account No. 454 | C13: (Worksheet A1, line 6) | D13: ='A1-RevCred'!J14 -> 661.59457 | F13: DA | G13: 1 | I13: =+G13*D13 -> 661.59457
A14: 3 | B14: Account No. 456.1 | C14: (Worksheet A1, line 42, col (b) ) | D14: ='A1-RevCred'!F50 -> 908954 | F14: DA | G14: 1 | I14: =+G14*D14 -> 908954
A15: 4 | B15: Held for Future Use
A16: 5 | B16: Held for Future Use
A17: 6 | B17: TOTAL REVENUE CREDITS (sum lines 2-5) | I17: =SUM(I13:I16) -> 909615.59
A19: 7 | B19: NET REVENUE REQUIREMENT | C19: (line 1 minus line 6) | I19: =I10-I17 -> 30070798
B21: DIVISOR
A22: 8 | B22: Divisor (kW) | C22: (Worksheet A6, Line 14) | I22: ='A6-Divisor'!E21 -> 377500
A23: 9
A24: 10 | B24: RATES
A25: 11 | B25: Annual | D25: =ROUND(I19/I22,2) -> 79.66 | E25: /kW-year
A26: 12 | B26: Monthly | C26: 12 months/year | D26: =ROUND(D25/12,2) -> 6.64 | E26: /kW-month
A27: 13 | B27: Weekly | C27: 52 weeks/year | D27: =ROUND(D25/52,2) -> 1.53 | E27: /kW-week
A28: 14 | B28: Daily On-Peak | C28: 6 days/week | D28: =+D27/6 -> 0.255 | E28: /kW-day
A29: 15 | B29: Daily Off-Peak | C29: 7 days/week | D29: =+D27/7 -> 0.21857143 | E29: /kW-day
A30: 16 | B30: Hourly On-Peak | C30: 16 hours/day | D30: =+D28/16*1000 -> 15.9375 | E30: /MW-hour
A31: 17 | B31: Hourly Off-Peak | C31: 24 hours/day | D31: =+D29/24*1000 -> 9.1071429 | E31: /MW-hour
I32: =I1 -> Actual Attachment H
J33: Page 2
B35: Formula Rate - Non-Levelized | C35: Rate Formula Template | K35: =K4 -> Actuals - For the 12 months ended 12/31/2023
C36: Utilizing FERC Form 1 Data
C38: =C7 -> Black Hills Colorado Electric, LLC
B40: (1) | C40: (2) | D40: (3) | G40: (4) | I40: (5)
C41: Form No. 1 | I41: Transmission
A42: Line | C42: Page, Line, Col. | D42: Company Total | F42: Allocator | I42: (Col 3 times Col 4)
A43: No. | B43: RATE BASE: (Note A, V)
B44: GROSS PLANT IN SERVICE (Note A)
A45: 1 | B45: Production | C45: Worksheet A4, Page 1, Line 14, Col. (b) | D45: ='A4-Rate Base'!C23 -> 4.2587652e+08 | F45: NA | I45: 0
A46: 2 | B46: Transmission | C46: Worksheet A4, Page 1, Line 14, Col. (c) | D46: ='A4-Rate Base'!D23 -> 3.0665867e+08 | F46: TP | G46: =$I$175 -> 0.92887971 | I46: =+G46*D46 -> 2.8484902e+08
A47: 3 | B47: Distribution | C47: Worksheet A4, Page 1, Line 14, Col. (d) | D47: ='A4-Rate Base'!E23 -> 4.2687828e+08 | F47: NA | I47: 0
A48: 4 | B48: General & Intangible | C48: Worksheet A4, Page 1, Line 14, Col. (e ) | D48: ='A4-Rate Base'!F23 -> 45067031 | F48: W/S | G48: =$I$192 -> 0.13228055 | I48: =+G48*D48 -> 5961491.6
...

Sheet A1-RevCred
A1: Worksheet A1
A2: Revenue Credits
A3: ='Act Att-H'!C7 -> Black Hills Colorado Electric, LLC
J4: Page 1 of 1
A5: Line # | B5: ACCOUNT 454 (RENT FROM ELECTRIC PROPERTY) (Note A)
A7: 1 | B7: FERC Acct | C7: Description | E7: Total | F7: Adjustments | G7: Adjd Total | H7: Allocator | J7: Total
A8: =A7+1 -> 2 | E8: (a) | F8: (b) | G8: (c) | H8: (d) | J8: (e )
A9: =A8+1 -> 3 | B9: 454- Rent From Electric Property
A10: =A9+1 -> 4 | B10: 45400 | C10: Rental Income on Transmission Facilities | E10: 712.25 | F10: 0 | G10: =SUM(E10:F10) -> 712.25 | H10: TP | I10: ='Act Att-H'!I175 -> 0.92887971 | J10: =G10*I10 -> 661.59457
A11: =A10+1 -> 5 | B11: 45400 | C11: Rental Income on Other Facilities | E11: 1763875.9 | F11: =-E11 -> -1763875.9 | G11: =SUM(E11:F11) -> 0 | H11: NA | J11: =G11*I11 -> 0
A12: 5a | B12: 45400 | C12: Rental Income - General | D12: (Note C) | F12: 0 | G12: =SUM(E12:F12) -> 0 | H12: W/S | I12: ='Act Att-H'!G48 -> 0.13228055 | J12: =G12*I12 -> 0
A13: 5b | B13: 45400 | C13: Rental Income - Other | D13: (Note C) | E13: 0 | F13: 0 | G13: =SUM(E13:F13) -> 0 | H13: OE | I13: ='Act Att-H'!G49 -> 0.12947946 | J13: =G13*I13 -> 0
A14: =A11+1 -> 6 | B14: Total 454 - FERC Form No. 1 300.19.b | E14: =SUM(E10:E13) -> 1764588.2 | F14: =SUM(F10:F13) -> -1763875.9 | G14: =SUM(G10:G13) -> 712.25 | J14: =SUM(J10:J13) -> 661.59457
A15: =A14+1 -> 7
A16: =A15+1 -> 8
A17: =A16+1 -> 9 | B17: ACCOUNT 456.1 (OTHER ELECTRIC REVENUES) (Note B)
A18: =A17+1 -> 10
A19: =A18+1 -> 11
A20: =A19+1 -> 12
A21: =A20+1 -> 13
A22: =A21+1 -> 14 | D22: Service | F22: PTP | G22: Network | H22: Ancillary
A23: =A22+1 -> 15 | B23: Type | C23: Description | D23: Type | E23: KW | F23: Trans | G23: Transm | H23: Services | I23: Other | J23: Total
A24: =A23+1 -> 16 | E24: (a) | F24: (b) | G24: (c) | H24: (d) | I24: (e) | J24: (f)
A25: =A24+1 -> 17
A26: =A25+1 -> 18 | B26: Divisor | C26: Long-Term Firm Point to Point Transmission Service | D26: LFP | F26: 4629863 | J26: =SUM(F26:I26) -> 4629863
A27: =A26+1 -> 19 | B27: Divisor | C27: Firm Network Service for Others | D27: FNO | G27: 1214961 | J27: =SUM(F27:I27) -> 1214961
A28: =A27+1 -> 20 | B28: Credit | C28: Short-Term Firm Point to Point Transmission Reservation | D28: SFP | F28: 0 | J28: =SUM(F28:I28) -> 0
A29: =A28+1 -> 21 | B29: Credit | C29: Non-Firm Transmission Service | D29: NF | F29: 908954 | J29: =SUM(F29:I29) -> 908954
A30: =A29+1 -> 22 | B30: Ancillary | C30: Firm Network Service for Others | D30: FNO | H30: 29392 | J30: =SUM(F30:I30) -> 29392
A31: =A30+1 -> 23 | B31: Ancillary | C31: Long-Term Firm Point to Point Transmission Service | D31: LFP | H31: 168966 | J31: =SUM(F31:I31) -> 168966
A32: =A31+1 -> 24 | B32: Ancillary | C32: Short-Term Firm Point to Point Transmission Reservation | D32: SFP | H32: 0 | J32: =SUM(F32:I32) -> 0
A33: =A32+1 -> 25 | B33: Ancillary | C33: Non-Firm Transmission Service | D33: NF | H33: 330297.43 | J33: =SUM(F33:I33) -> 330297.43
A34: =A33+1 -> 26
A35: =A34+1 -> 27
A36: =A35+1 -> 28
A37: =A36+1 -> 29
A38: =A37+1 -> 30
A39: =A38+1 -> 31
A40: =A39+1 -> 32
A41: =A40+1 -> 33
...

Sheet A2-A&G
A1: Worksheet A2
A2: Administrative and General Expenses
A3: ='Act Att-H'!C7 -> Black Hills Colorado Electric, LLC
D4: Page 1 of 1
A6: Line | C6: Form No. 1
A7: No. | B7: Item | C7: Page, Line, Col. | D7: Company Total
A8: 1 | B8: EPRI Annual Membership Dues | C8: 335.1.b | D8: 13899
A9: 2 | B9: Regulatory Commission Expenses | C9: 323.189.b | D9: 1199425
A10: 3 | B10: Account No. 930.1 | C10: 323.191.b | D10: 213181
A11: 4 | B11: Less Safety Related Advertising | C11: Company Records (Note A) | D11: 0
A12: 4a | B12: Lobbying Expense | C12: Company Records | D12: 0
A13: 4b | B13: Penalties | C13: Company Records | D13: 0
A14: 5 | B14: EPRI & Reg. Comm. Exp. & Non-safety Ad. | C14: (Sum of Lines 1-3, 4a, 4b) less Line 4) | D14: =SUM(D8:D10,D12:D13)-D11 -> 1426505
A15: 6
A16: 7
A17: 8 | B17: Transmission Related Regulatory Expense
A18: 9
A19: 10 | B19: Reserved for use in the event of transmission rate filings | C19: Company Records (Note C) | D19: 0
A20: 11 | B20: FERC annual charges - transmission only | C20: 350.1b | D20: 92495
A21: 12
A22: 13
A23: 14 | B23: Total | D23: =SUM(D19:D22) -> 92495
A24: 15
A25: 16 | B25: Transmission Related Regulatory Expense | D25: =+D23 -> 92495
A26: 17
A27: 18
A28: 19 | B28: PBOP Net Periodic expense
A29: 20 | B29: Account No. 920 | C29: Company Records (Note B) | D29: 0
A30: 21 | B30: Account No. 926 | C30: Company Records (Note B) | D30: 294214.92
A31: 22 | B31: PBOP Net Periodic expense | C31: (Note D) | D31: =SUM(D29:D30) -> 294214.92
A33: Notes
A34: A | B34: For FERC account no. 930.1, the Company reviews all entries and identifies those that are safety related advertising.
A35: B | B35: For FERC account nos. 920 and 926, the Company reviews all entries and identifies the PBOP Net Periodic expenses to be removed from A&G.
A36: C | B36: Limited to Transmission-related regulatory expenses itemized from total amounts on FERC Form No. 1 page 351.
A37: D | B37: The amount is the net periodic expense and not the actual cash outlay.

Sheet A3-ADIT
A1: Worksheet A3
A2: Accumulated Deferred Income Taxes
A3: ='Act Att-H'!C7 -> Black Hills Colorado Electric, LLC
F4: Page 1 of 1
D7: BOY Balance | E7: EOY Balance
D8: (Note A) | E8: (Note B)
A9: Line | B9: Item | C9: Ref | D9: 44896 | E9: 45261 | F9: Average Balance
A10: No. | B10: (a) | C10: (b) | D10: (c) | E10: (d) | F10: (e)
A11: 1
A12: =+A11+1 -> 2 | B12: Account No. 281 (enter negative) | C12: 272.2.b & 273.2.k | D12: 0 | E12: 0 | F12: =(D12+E12)/2 -> 0
A13: =+A12+1 -> 3 | B13: Account No. 282 (enter negative) | C13: 274.2.b & 275.2.k | D13: -132909277 | E13: -137999967 | F13: =(D13+E13)/2 -> -135454622
A14: =+A13+1 -> 4 | B14: Account No. 283 (enter negative) | C14: 276.9.b & 277.9.k | D14: -70683636 | E14: -61775900 | F14: =(D14+E14)/2 -> -66229768
A15: =+A14+1 -> 5 | B15: Account No. 190 | C15: 234.8.b&c | D15: 73130366 | E15: 75736193 | F15: =(D15+E15)/2 -> 74433280
A16: 6
A17: 7 | B17: FAS 109 (Note E)
A18: 8 | B18: FAS 109 Adjustment to ADIT
A19: =A18+1 -> 9 | B19: Alternative Fuel Vehicle Tax Credit | C19: Company Records | D19: -7860 | E19: -7860 | F19: =(D19+E19)/2 -> -7860
A20: =A19+1 -> 10 | B20: Asset Retirement Obligation | C20: Company Records | D20: 11193378 | E20: 9524255 | F20: =(D20+E20)/2 -> 10358816
A21: =A20+1 -> 11 | B21: Bad Debt Reserve | C21: Company Records | D21: -2255250 | E21: -1760828.5 | F21: =(D21+E21)/2 -> -2008039.3
A22: =A21+1 -> 12 | B22: CWIP | C22: Company Records | D22: -132 | E22: 5233 | F22: =(D22+E22)/2 -> 2550.5
A23: =A22+1 -> 13 | B23: Deferred Regulatory | C23: Company Records | D23: 3118390 | E23: -3458426 | F23: =(D23+E23)/2 -> -170018
A24: =A23+1 -> 14 | B24: Deferred Tax Asset - Other | C24: Company Records | D24: -158205 | E24: 0 | F24: =(D24+E24)/2 -> -79102.5
A25: =A24+1 -> 15 | B25: Deferred Tax Liability Other | C25: Company Records | D25: 898706 | E25: 1105899 | F25: =(D25+E25)/2 -> 1002302.5
A26: =A25+1 -> 16 | B26: EDIT Exclude | C26: Company Records | D26: 0 | E26: 0 | F26: =(D26+E26)/2 -> 0
A27: =A26+1 -> 17 | B27: Energy Cost Adjusment | C27: Company Records | D27: 0 | E27: 0 | F27: =(D27+E27)/2 -> 0
A28: =A27+1 -> 18 | B28: Equity AFUDC | C28: Company Records | D28: 229515 | E28: 220606 | F28: =(D28+E28)/2 -> 225060.5
A29: =A28+1 -> 19 | B29: Federal Research and Development Tax Credits | C29: Company Records | D29: -2191580 | E29: -2434648.1 | F29: =(D29+E29)/2 -> -2313114.1
A30: =A29+1 -> 20 | B30: Goodwill | C30: Company Records | D30: 39997885 | E30: 41311783 | F30: =(D30+E30)/2 -> 40654834
... A46: =A45+1 -> 36 | B46: Winter Storm Uri | C46: Company Records | D46: 2999955 | E46: 870070 | F46: =(D46+E46)/2 -> 1935012.5
A47: =A46+1 -> 37 | B47: … | C47: Company Records | F47: =(D47+E47)/2 -> 0
A48: 200 | B48: FAS 109 Adjustment to ADIT for Attachment H | F48: =SUM(F19:F47) -> 7178090.1
A52: Notes:
A53: A | B53: Beginning of Year ("BOY") balance is end of previous year balance per FERC Form No. 1.
A54: B | B54: End of Year ("EOY") balance is end of current year balance per FERC Form No. 1.
A55: C | B55: Reserved. Will not be populated absent approval by FERC.
A56: D | B56: Reserved. Will not be populated absent approval by FERC.
A57: E | B57: The effect of the FAS 109 Adjustment to ADIT is to remove deferred taxes included in accounts 190, 282 and 283 that are non-ratemaking in nature.

Sheet A3.1-EDIT-DDIT
A1: Worksheet A3.1
A2: Accumulated Excess / Deficient Deferred Income Taxes ("EDIT"/"DDIT") (Note A, H)
A3: ='Act Att-H'!C7 -> Black Hills Colorado Electric, LLC
A4: ='Act Att-H'!K4 -> Actuals - For the 12 months ended 12/31/2023
F7: 44896 | G7: 2023 | H7: 2023 | I7: 45261 | L7: =+F7 -> 44896 | M7: =+G7 -> 2023 | N7: =H7 -> 2023 | O7: =I7 -> 45261
A8: No. | B8: (a) | C8: (a1) | D8: (a2) | E8: (a3) | F8: (b) | G8: (c) | H8: (d) | I8: (e) | J8: (f) | L8: (g) | M8: (h) | N8: (i) | O8: (j) | P8: (k) | Q8: (l)
A10: Line No. | B10: Item (Note A1) | C10: Vintage | D10: Account | E10: Form No. 1 Page (Note I) | F10: BOY Balance (Note B) | G10: Current Period Amortization (Note C) | H10: Current Period Other Activity (Note D) | I10: EOY Balance (Note E) | J10: Allocator (Note F) | L10: BOY Allocated Amount | M10: Current Amortization Allocated | N10: Current Period Other Activity Allocated | O10: EOY Allocated Amount | P10: Prorated (Yes/No) (Note G) | Q10: Amort Period or Method
A12: 1 | B12: NON PLANT DDIT/(EDIT)
A13: =A12+1 -> 2 | B13: Total Non-Protected Non-Property - DDIT (Note K) | C13: 2017 TCJA | D13: 182.3 | F13: 0 | G13: 0 | H13: 0 | I13: 1e-09 | J13: 2017 NP | K13: 0.22680815 | L13: =F13*$K13 -> 0 | M13: =G13*$K13 -> 0 | N13: =H13*$K13 -> 0 | O13: =I13*$K13 -> 2.2680815e-10 | P13: Yes | Q13: One-Time Refund
A14: =A13+1 -> 3 | B14: … | L14: =F14*$K14 -> 0 | M14: =G14*$K14 -> 0 | N14: =H14*$K14 -> 0 | O14: =I14*$K14 -> 0
A15: 50 | B15: Total Non Plant Non-Protected DDIT/(EDIT) | F15: =SUM(F13:F14) -> 0 | G15: =SUM(G13:G14) -> 0 | H15: =SUM(H13:H14) -> 0 | I15: =SUM(I13:I14) -> 1e-09 | L15: =SUM(L13:L14) -> 0 | M15: =SUM(M13:M14) -> 0 | N15: =SUM(N13:N14) -> 0 | O15: =SUM(O13:O14) -> 2.2680815e-10
A17: 51 | B17: Deferred Tax Liability Non Plant (Note K) | C17: 2017 TCJA | D17: 283 | F17: 0 | G17: 0 | H17: 0 | I17: 0 | J17: 2017 NP | K17: 0.22680815 | L17: =F17*$K17 -> 0 | M17: =G17*$K17 -> 0 | N17: =H17*$K17 -> 0 | O17: =I17*$K17 -> 0
A18: 52 | B18: … | L18: =F18*$K18 -> 0 | M18: =G18*$K18 -> 0 | N18: =H18*$K18 -> 0 | O18: =I18*$K18 -> 0
A19: 150 | B19: Total Deferred Tax Offset Non Plant | F19: =SUM(F17:F18) -> 0 | G19: =SUM(G17:G18) -> 0 | H19: =SUM(H17:H18) -> 0 | I19: =SUM(I17:I18) -> 0 | L19: =SUM(L17:L18) -> 0 | M19: =SUM(M17:M18) -> 0 | N19: =SUM(N17:N18) -> 0 | O19: =SUM(O17:O18) -> 0
A20: 151
A21: 152 | B21: Total Non Plant Non-Protected DDIT/(EDIT) (Net of Tax Gross Up) | F21: =F15+F19 -> 0 | G21: =G15+G19 -> 0 | H21: =H15+H19 -> 0 | I21: =I15+I19 -> 1e-09 | L21: =L15+L19 -> 0 | M21: =M15+M19 -> 0 | N21: =N15+N19 -> 0 | O21: =O15+O19 -> 2.2680815e-10
A23: 200 | B23: PLANT DDIT/(EDIT)
A24: =A23+1 -> 201 | B24: Total Protected Property - EDIT | C24: 2017 TCJA | D24: 254 | F24: -71391714 | G24: 2455249.2 | H24: -831919.17 | I24: -69768384 | J24: 2017 NP | K24: 0.22680815 | L24: =F24*$K24 -> -16192223 | M24: =G24*$K24 -> 556870.52 | N24: =H24*$K24 -> -188686.05 | O24: =I24*$K24 -> -15824038 | P24: Yes | Q24: ARAM
A25: =A24+1 -> 202 | B25: Total Non-Protected Property - EDIT (Note K) | C25: 2017 TCJA | D25: 254 | F25: 0 | H25: 0 | I25: 0 | J25: 2017 NP | K25: 0.22680815 | L25: =F25*$K25 -> 0 | M25: =G25*$K25 -> 0 | N25: =H25*$K25 -> 0 | O25: =I25*$K25 -> 0 | P25: Yes | Q25: One-Time Refund
A26: =A25+1 -> 203 | B26: Total Protected Property - DDIT-NOL | C26: 2017 TCJA | D26: 182.3 | F26: 31165737 | G26: -1030090.3 | H26: 195379.34 | I26: 30331026 | J26: 2017 NP | K26: 0.22680815 | L26: =F26*$K26 -> 7068643.1 | M26: =G26*$K26 -> -233632.88 | N26: =H26*$K26 -> 44313.627 | O26: =I26*$K26 -> 6879323.9 | P26: Yes | Q26: ARAM
A27: =A26+1 -> 204 | B27: … | L27: =F27*$K27 -> 0 | M27: =G27*$K27 -> 0 | N27: =H27*$K27 -> 0 | O27: =I27*$K27 -> 0
A28: 299 | B28: Total Plant DDIT/(EDIT) | F28: =SUM(F24:F27) -> -40225977 | G28: =SUM(G24:G27) -> 1425158.8 | H28: =SUM(H24:H27) -> -636539.82 | I28: =SUM(I24:I27) -> -39437358 | L28: =SUM(L24:L27) -> -9123579.4 | M28: =SUM(M24:M27) -> 323237.63 | N28: =SUM(N24:N27) -> -144372.42 | O28: =SUM(O24:O27) -> -8944714.2
A30: 300 | B30: Deferred Tax Asset Plant | C30: 2017 TCJA | D30: 190 | F30: 17561674 | G30: -600946.79 | H30: 203620.54 | I30: 17164348 | J30: 2017 NP | K30: 0.22680815 | L30: =F30*$K30 -> 3983130.9 | M30: =G30*$K30 -> -136299.63 | N30: =H30*$K30 -> 46182.797 | O30: =I30*$K30 -> 3893014
A31: =A30+1 -> 301 | B31: Deferred Tax Liability Plant | C31: 2017 TCJA | D31: 283 | F31: -7666835 | G31: 252124.91 | H31: -47821.048 | I31: -7462531.1 | J31: 2017 NP | K31: 0.22680815 | L31: =F31*$K31 -> -1738900.7 | M31: =G31*$K31 -> 57183.985 | N31: =H31*$K31 -> -10846.203 | O31: =I31*$K31 -> -1692562.9
A32: =A31+1 -> 302 | B32: … | L32: =F32*$K32 -> 0 | M32: =G32*$K32 -> 0 | N32: =H32*$K32 -> 0 | O32: =I32*$K32 -> 0
A33: 350 | B33: Total Deferred Tax Offset Plant | F33: =SUM(F30:F32) -> 9894839.5 | G33: =SUM(G30:G32) -> -348821.87 | H33: =SUM(H30:H32) -> 155799.49 | I33: =SUM(I30:I32) -> 9701817.1 | L33: =SUM(L30:L32) -> 2244230.2 | M33: =SUM(M30:M32) -> -79115.644 | N33: =SUM(N30:N32) -> 35336.593 | O33: =SUM(O30:O32) -> 2200451.2
A34: =A33+1 -> 351
A35: =A34+1 -> 352 | B35: Total Plant DDIT/(EDIT) (Net of Tax Gross Up) | F35: =F28+F33 -> -30331138 | G35: =G28+G33 -> 1076336.9 | H35: =H28+H33 -> -480740.34 | I35: =I28+I33 -> -29735541 | L35: =L28+L33 -> -6879349.2 | M35: =M28+M33 -> 244121.99 | N35: =N28+N33 -> -109035.83 | O35: =O28+O33 -> -6744263
A37: 353 | B37: TOTALS
A38: =A37+1 -> 354
A39: =A38+1 -> 355 | B39: Total Excess/Deficient Deferred Income Taxes (Note I) | F39: =+F15+F28 -> -40225977 | G39: =+G15+G28 -> 1425158.8 | H39: =+H15+H28 -> -636539.82 | I39: =+I15+I28 -> -39437358 | L39: =+L15+L28 -> -9123579.4 | M39: =+M15+M28 -> 323237.63 | N39: =+N15+N28 -> -144372.42 | O39: =+O15+O28 -> -8944714.2
A40: =A39+1 -> 356 | B40: Total Deferred Tax Offset | F40: =F19+F33 -> 9894839.5 | G40: =G19+G33 -> -348821.87 | H40: =H19+H33 -> 155799.49 | I40: =I19+I33 -> 9701817.1 | L40: =L19+L33 -> 2244230.2 | M40: =M19+M33 -> -79115.644 | N40: =N19+N33 -> 35336.593 | O40: =O19+O33 -> 2200451.2
A41: =A40+1 -> 357 | B41: Total Excess/Deficient Deferred Income Taxes (Net of Tax Gross Up) (Note J) | F41: =SUM(F39:F40) -> -30331138 | G41: =SUM(G39:G40) -> 1076336.9 | H41: =SUM(H39:H40) -> -480740.34 | I41: =SUM(I39:I40) -> -29735541 | L41: =SUM(L39:L40) -> -6879349.2 | M41: =SUM(M39:M40) -> 244121.99 | N41: =SUM(N39:N40) -> -109035.83 | O41: =SUM(O39:O40) -> -6744263
A42: =A41+1 -> 358 | B42: Total Excess/Deficient Deferred Income Taxes Annual Average | I42: =(I39+F39)/2 -> -39831668 | O42: =(O39+L39)/2 -> -9034146.8
A43: =A42+1 -> 359 | B43: Weighted Average EDIT/DDIT Net Plant Allocator | O43: =O41/I41 -> 0.22680815
A45: Notes:
A46: A | B46: Upon a tax rate change, the Company remeasures its deferred tax assets and liabilities to the new applicable corporate tax rate. The result of this remeasurement is a change in the deferred taxes recorded in accounts 190, 282, and 283 with a corresponding change in regulatory assets or liabilities to reflect the impact to customers. The remeasurement is effectuated mathematically by taking the ADIT balance before the tax rate change and dividing by the prior tax rate to arrive at gross timing differences. Next, the new tax rate is applied against the balance of gross timing differences. The difference in the two results is reclassified from ADIT to regulatory assets/liabilities for deficient/excess ADIT. Accounts 182.3 Regulatory Asset for deficient ADIT and 254 Regulatory Liability for excess ADIT are presented grossed-up for tax purposes as is the amortization. Black Hills Colorado Electric, LLC would follow the process described above to remeasure ADIT balance (increase or decrease) due to any future income tax rate change. See Wkpr A3.2-EDIT-DDIT.dtl for detailed derivation. The FERC Form No. 1 reference in column (a3) will be populated beginning for the twelve months ended December 31, 2021 (2021 FERC Form 1).
A47: A1 | B47: The determination of an item as "Protected" versus "Non-Protected" has been and will be made in accordance with applicable tax code and regulations.
A48: B | B48: Beginning of Year ("BOY") balance is end of Prior Year balance reflected on FERC Form No. 1 p.232/278
A49: C | B49: DDIT or EDIT is reduced in the current period under the prescribed amortization method to account 410.1, Provision for Deferred Income Taxes, Utility Operating Income and 411.1, Provision for Deferred Income Taxes—Credit, Utility Operating Income, respectively.
...

Sheet A3.2-EDIT-DDIT.dtl
A1: Worksheet A3.2
A2: (Excess)/Deficient Deferred Income Taxes - FERC Order 864 Worksheet -- Tax Rate Change
A3: Black Hills Colorado Electric, LLC
A4: ='Act Att-H'!K4 -> Actuals - For the 12 months ended 12/31/2023
H5: Prior Year: | I5: 2017
H6: New Tax Rate? | I6: Yes
H7: New Rate: | I7: 0.203805
H8: Tax Gross Up Factor: | I8: 1.3272757
H9: Vintage Name: | I9: 2017 TCJA
B10: (Col 1) | C10: (Col 2) | D10: (Col 3) | E10: (Col 4) | F10: (Col 5) | G10: (Col 6) | H10: (Col 7) | I10: (Col 8)
D11: New Tax Rate Adjustment Calculation
D12: Company Records | E12: Company Records | F12: (C3) x New Rate | G12: = (C4) - (C5) | H12: = (C6) * Tax Gross Up Factor | I12: = (C6) - (C7)
A13: Line | C13: FERC Acct | D13: Accumulated (Taxable) / Deductible Book-to-Tax Differences | E13: Accumulated DIT Balances at Prior Tax Rate | F13: Accumulated DIT Balance at New Tax Rate | G13: (Excess) Deficient Def. Taxes at New Tax Rate | H13: (Excess) Deficient Def. Taxes with Tax Gross Up 182.3 / 254 Acct (Note A) | I13: Deferred Tax Offset (Note B)
A14: 1 | B14: Protected - Property
A15: 2 | B15: Method/Life | C15: 282 | D15: -4.5888965e+08 | E15: -1.5587334e+08 | F15: =+D15*$I$7 -> -93524006 | G15: =+E15-F15 -> -62349337 | H15: =+G15*$I$8 -> -82754757 | I15: =+G15-H15 -> 20405420
A16: 3 | B16: Cost of Removal | C16: 282 | D16: 12501555 | E16: 4246465.9 | F16: =+D16*$I$7 -> 2547879.5 | G16: =+E16-F16 -> 1698586.3 | H16: =+G16*$I$8 -> 2254492.3 | I16: =+G16-H16 -> -555905.95
A17: 4 | B17: Federal NOL | C17: 190 | D17: 1.9581664e+08 | E17: 66514018 | F17: =+D17*$I$7 -> 39908411 | G17: =+E17-F17 -> 26605607 | H17: =+G17*$I$8 -> 35312975 | I17: =+G17-H17 -> -8707367.4
A18: 5 | B18: … | F18: =+D18*$I$7 -> 0 | G18: =+E18-F18 -> 0 | H18: =+G18*$I$8 -> 0 | I18: =+G18-H18 -> 0
A19: 99 | D19: =SUM(D15:D18) -> -2.5057145e+08 | E19: =SUM(E15:E18) -> -85112859 | F19: =SUM(F15:F18) -> -51067715 | G19: =SUM(G15:G18) -> -34045143 | H19: =SUM(H15:H18) -> -45187290 | I19: =SUM(I15:I18) -> 11142146
A21: 100 | B21: Non-Protected - Property
A22: 101 | B22: 1603 Grant | C22: 282 | D22: 3480140.7 | E22: 1182116.8 | F22: =+D22*$I$7 -> 709270.08 | G22: =+E22-F22 -> 472846.72 | H22: =+G22*$I$8 -> 627597.94 | I22: =+G22-H22 -> -154751.22
A23: 102 | B23: 162 Ordinary & Necessary Business Deductions | C23: 282 | D23: -1367948.3 | E23: -464657.83 | F23: =+D23*$I$7 -> -278794.7 | G23: =+E23-F23 -> -185863.13 | H23: =+G23*$I$8 -> -246691.61 | I23: =+G23-H23 -> 60828.478
A24: 103 | B24: 174 Development & Engineering Costs | C24: 282 | D24: -18147933 | E24: -6164399.3 | F24: =+D24*$I$7 -> -3698639.6 | G24: =+E24-F24 -> -2465759.7 | H24: =+G24*$I$8 -> -3272742.8 | I24: =+G24-H24 -> 806983.11
A25: 104 | B25: Construction Work in Progress | C25: 282 | D25: 1890375.3 | E25: 642113.23 | F25: =+D25*$I$7 -> 385267.94 | G25: =+E25-F25 -> 256845.29 | H25: =+G25*$I$8 -> 340904.5 | I25: =+G25-H25 -> -84059.21
A26: 105 | B26: Construction Period Interest | C26: 282 | D26: 252398.56 | E26: 85733.481 | F26: =+D26*$I$7 -> 51440.089 | G26: =+E26-F26 -> 34293.392 | H26: =+G26*$I$8 -> 45516.785 | I26: =+G26-H26 -> -11223.392
A27: 106 | B27: Contribution in Aid of Construction | C27: 282 | D27: 22703548 | E27: 7711827.6 | F27: =+D27*$I$7 -> 4627096.6 | G27: =+E27-F27 -> 3084731.1 | H27: =+G27*$I$8 -> 4094288.4 | I27: =+G27-H27 -> -1009557.4
A28: =A27+1 -> 107 | B28: Tax Repairs Deduction | C28: 282 | D28: -35693416 | E28: -12124161 | F28: =+D28*$I$7 -> -7274496.6 | G28: =+E28-F28 -> -4849664.4 | H28: =+G28*$I$8 -> -6436841.5 | I28: =+G28-H28 -> 1587177.1
A29: =A28+1 -> 108 | B29: Capitalization of Overhead | C29: 282 | D29: -21027219 | E29: -7142420.7 | F29: =+D29*$I$7 -> -4285452.4 | G29: =+E29-F29 -> -2856968.3 | H29: =+G29*$I$8 -> -3791984.5 | I29: =+G29-H29 -> 935016.16
A30: =A29+1 -> 109 | B30: … | F30: =+D30*$I$7 -> 0 | G30: =+E30-F30 -> 0 | H30: =+G30*$I$8 -> 0 | I30: =+G30-H30 -> 0
A31: 199 | D31: =SUM(D22:D30) -> -47910054 | E31: =SUM(E22:E30) -> -16273848 | F31: =SUM(F22:F30) -> -9764308.6 | G31: =SUM(G22:G30) -> -6509539.1 | H31: =SUM(H22:H30) -> -8639952.7 | I31: =SUM(I22:I30) -> 2130413.6
A33: 200 | B33: Total Property Related (= L99 + L199) | D33: =+D19+D31 -> -2.9848151e+08 | E33: =+E19+E31 -> -1.0138671e+08 | F33: =+F19+F31 -> -60832024 | G33: =+G19+G31 -> -40554682 | H33: =+H19+H31 -> -53827243 | I33: =+I19+I31 -> 13272560
A35: 300 | B35: Non-Protected - Non-Property
A36: 301 | B36: Accrued Vacation | C36: 190 | D36: 186258.31 | E36: 63267.291 | F36: =+D36*$I$7 -> 37960.375 | G36: =+E36-F36 -> 25306.917 | H36: =+G36*$I$8 -> 33589.254 | I36: =+G36-H36 -> -8282.3376
A37: 302 | B37: Bad Debt Reserve | C37: 190 | D37: 7766143.4 | E37: 2637964.7 | F37: =+D37*$I$7 -> 1582778.8 | G37: =+E37-F37 -> 1055185.9 | H37: =+G37*$I$8 -> 1400522.5 | I37: =+G37-H37 -> -345336.65
A38: 303 | B38: Deferred Rate Case | C38: 283 | D38: -378023.27 | E38: -128405.05 | F38: =+D38*$I$7 -> -77043.033 | G38: =+E38-F38 -> -51362.022 | H38: =+G38*$I$8 -> -68171.561 | I38: =+G38-H38 -> 16809.539
A39: 304 | B39: Employee Compensation | C39: 190 | D39: 530487.2 | E39: 180193.24 | F39: =+D39*$I$7 -> 108115.94 | G39: =+E39-F39 -> 72077.296 | H39: =+G39*$I$8 -> 95666.44 | I39: =+G39-H39 -> -23589.144
A40: 305 | B40: Employee Group Insurance | C40: 190 | D40: 128516.5 | E40: 43653.842 | F40: =+D40*$I$7 -> 26192.305 | G40: =+E40-F40 -> 17461.537 | H40: =+G40*$I$8 -> 23176.273 | I40: =+G40-H40 -> -5714.7358
A41: 306 | B41: Insurance Reserve | C41: 190 | D41: 20319.93 | E41: 6902.1722 | F41: =+D41*$I$7 -> 4141.3033 | G41: =+E41-F41 -> 2760.8689 | H41: =+G41*$I$8 -> 3664.434 | I41: =+G41-H41 -> -903.56516
A42: 307 | B42: Line Extension Deposits | C42: 190 | D42: 2992922.6 | E42: 1016621 | F42: =+D42*$I$7 -> 609972.58 | G42: =+E42-F42 -> 406648.39 | H42: =+G42*$I$8 -> 539734.5 | I42: =+G42-H42 -> -133086.12
A43: 308 | B43: Pension | C43: 283 | D43: -9890835.7 | E43: -3359669.6 | F43: =+D43*$I$7 -> -2015801.8 | G43: =+E43-F43 -> -1343867.9 | H43: =+G43*$I$8 -> -1783683.1 | I43: =+G43-H43 -> 439815.22
...

Sheet A4-Rate Base
E1: Worksheet A4
E2: Rate Base Worksheet
E3: ='Act Att-H'!C7 -> Black Hills Colorado Electric, LLC | I3: Page 1 of 3
C5: Gross Plant In Service | H5: CWIP | I5: LHFFU
A7: Line No | B7: Month | C7: Production | D7: Transmission | E7: Distribution | F7: General & Intangible | G7: Other | H7: CWIP (Note C) | I7: Land Held for Future Use
B8: (a) | C8: (b) | D8: (c) | E8: (d) | F8: (e) | G8: (f) | H8: (g) | I8: (h)
B9: FN1 Reference for Dec | C9: 205.46.g (Note K) Excluding ARO | D9: 207.58.g (Note K) Excluding ARO | E9: 207.75.g (Note K) Excluding ARO | F9: 208.8.e, 205.5.g & 207.99.g (Note K) Excluding ARO | G9: 201.8.e,f,g,h (Note K) Excluding ARO | H9: 216.x.b | I9: 216.x.d
A10: 1 | B10: December Prior Year | C10: 4.2492926e+08 | D10: 2.6430396e+08 | E10: 4.1097829e+08 | F10: 44375264 | G10: 22745275 | H10: 0 | I10: 0
A11: 2 | B11: January | C11: 4.2500676e+08 | D11: 2.6439592e+08 | E11: 4.1367044e+08 | F11: 44421460 | G11: 23309909 | H11: 0 | I11: 0
A12: 3 | B12: February | C12: 4.2621507e+08 | D12: 3.1238759e+08 | E12: 4.1937865e+08 | F12: 44222580 | G12: 23328150 | H12: 0 | I12: 0
A13: 4 | B13: March | C13: 4.2514347e+08 | D13: 3.1207875e+08 | E13: 4.2071391e+08 | F13: 44620658 | G13: 23646037 | H13: 0 | I13: 0
A14: 5 | B14: April | C14: 4.2690225e+08 | D14: 3.1169762e+08 | E14: 4.2258805e+08 | F14: 44722279 | G14: 23709406 | H14: 0 | I14: 0
A15: 6 | B15: May | C15: 4.2692286e+08 | D15: 3.113804e+08 | E15: 4.2653616e+08 | F15: 44460075 | G15: 23516789 | H15: 0 | I15: 0
A16: 7 | B16: June | C16: 4.2509587e+08 | D16: 3.1098861e+08 | E16: 4.2770305e+08 | F16: 45345628 | G16: 23523377 | H16: 0 | I16: 0
A17: 8 | B17: July | C17: 4.2509587e+08 | D17: 3.0996406e+08 | E17: 4.3050729e+08 | F17: 45888407 | G17: 23657228 | H17: 0 | I17: 0
A18: 9 | B18: August | C18: 4.2509587e+08 | D18: 3.1729502e+08 | E18: 4.3313749e+08 | F18: 46148082 | G18: 23120890 | H18: 0 | I18: 0
A19: 10 | B19: September | C19: 4.2529773e+08 | D19: 3.1742969e+08 | E19: 4.3338007e+08 | F19: 45375135 | G19: 23103995 | H19: 0 | I19: 0
A20: 11 | B20: October | C20: 4.2529773e+08 | D20: 3.179617e+08 | E20: 4.358899e+08 | F20: 45504156 | G20: 23375641 | H20: 0 | I20: 0
A21: 12 | B21: November | C21: 4.277079e+08 | D21: 3.1851693e+08 | E21: 4.3712129e+08 | F21: 45132401 | G21: 23437679 | H21: 0 | I21: 0
A22: 13 | B22: December | C22: 4.2768409e+08 | D22: 3.1816252e+08 | E22: 4.3781305e+08 | F22: 45655275 | G22: 26045763 | H22: 0 | I22: 0
A23: 14 | B23: Average of the 13 Monthly Balances | C23: =SUM(C10:C22)/13 -> 4.2587652e+08 | D23: =SUM(D10:D22)/13 -> 3.0665867e+08 | E23: =SUM(E10:E22)/13 -> 4.2687828e+08 | F23: =SUM(F10:F22)/13 -> 45067031 | G23: =SUM(G10:G22)/13 -> 23578472 | H23: =SUM(H10:H22)/13 -> 0 | I23: =SUM(I10:I22)/13 -> 0
E28: Accumulated Depreciation
A30: Line No | B30: Month | C30: reserved | D30: reserved | E30: Production | F30: Transmission | G30: Distribution | H30: General & Intangible | I30: Other
B31: (a) | C31: (b) | D31: (c) | E31: (d) | F31: (e) | G31: (f) | H31: (g) | I31: (h)
B32: FN1 Reference for Dec | E32: 219.20-24.c Excluding ARO | F32: 219.25.c Excluding ARO | G32: 219.26.c Excluding ARO | H32: 201.14.e, 219.28.c & 200.21.c Excluding ARO | I32: 201.14.e,f,g,h (Note K) Excluding ARO
A33: 15 | B33: December Prior Year | E33: 1.27509e+08 | F33: 48570088 | G33: 1.5633446e+08 | H33: 22582172 | I33: 6269229
A34: 16 | B34: January | E34: 1.2940045e+08 | F34: 47906452 | G34: 1.5781844e+08 | H34: 22952556 | I34: 6768124
A35: 17 | B35: February | E35: 1.306591e+08 | F35: 48315675 | G35: 1.5846182e+08 | H35: 22981962 | I35: 7049551
A36: 18 | B36: March | E36: 1.3083291e+08 | F36: 48627860 | G36: 1.5893436e+08 | H36: 23131636 | I36: 7331509
A37: 19 | B37: April | E37: 1.3302213e+08 | F37: 49084878 | G37: 1.5955725e+08 | H37: 23481533 | I37: 7514878
A38: 20 | B38: May | E38: 1.3428455e+08 | F38: 49505932 | G38: 1.597033e+08 | H38: 23457186 | I38: 7564282
A39: 21 | B39: June | E39: 1.3458915e+08 | F39: 49891891 | G39: 1.5995635e+08 | H39: 23816782 | I39: 7833304
A40: 22 | B40: July | E40: 1.3584576e+08 | F40: 50291725 | G40: 1.6137328e+08 | H40: 24253357 | I40: 8099351
A41: 23 | B41: August | E41: 1.3710291e+08 | F41: 50743715 | G41: 1.6218295e+08 | H41: 24354357 | I41: 8246955
A42: 24 | B42: September | E42: 1.3836036e+08 | F42: 50686923 | G42: 1.6202276e+08 | H42: 23558596 | I42: 8442168
A43: 25 | B43: October | E43: 1.3961776e+08 | F43: 51651378 | G43: 1.6359918e+08 | H43: 23792970 | I43: 8712248
A44: 26 | B44: November | E44: 1.4087843e+08 | F44: 52084739 | G44: 1.6422881e+08 | H44: 23551434 | I44: 8962477
A45: 27 | B45: December | E45: 1.4214256e+08 | F45: 51935611 | G45: 1.6393325e+08 | H45: 23667929 | I45: 9226628
A46: 28 | B46: Average of the 13 Monthly Balances | E46: =SUM(E33:E45)/13 -> 1.3494193e+08 | F46: =SUM(F33:F45)/13 -> 49945913 | G46: =SUM(G33:G45)/13 -> 1.6062355e+08 | H46: =SUM(H33:H45)/13 -> 23506344 | I46: =SUM(I33:I45)/13 -> 7847746.5
B50: Month | C50: Plant in Service ARO | D50: Accumulated Depreciation - ARO | E50: Finance Lease Asset | F50: Accum. Depreciation - Finance Lease | G50: Right of Use Asset Operating Lease | H50: Accum Amortization - Right of Use Asset | I50: Unamortized Regulatory Liability
...

Sheet A5-Depr
A1: Worksheet A5
A2: Depreciation Rates
A3: ='Act Att-H'!C7 -> Black Hills Colorado Electric, LLC
H4: Page 1 of 1
B6: Line
B7: No. | D7: Plant Type | H7: Rates
B8: 1
B9: =B8+1 -> 2 | D9: Transmission Plant (Note A)
B10: =B9+1 -> 3 | E10: 352 | F10: STRUCTURES AND IMPROVEMENTS | H10: 0.0143
B11: =B10+1 -> 4 | E11: 352.59 | F11: STRUCTURES AND IMPROVEMENTS - AMORTIZED | H11: 0.0117
B12: =B11+1 -> 5 | E12: 353 | F12: STATION EQUIPMENT | H12: 0.0145
B13: =B12+1 -> 6 | E13: 353.59 | F13: STATION EQUIPMENT - AMORTIZED | H13: 0.0117
B14: =B13+1 -> 7 | E14: 355 | F14: POLES AND FIXTURES | H14: 0.0208
B15: =B14+1 -> 8 | E15: 356 | F15: OVERHEAD CONDUCTORS AND DEVICES | H15: 0.0203
B16: =B15+1 -> 9 | E16: 357 | F16: UNDERGROUND CONDUIT | H16: 0.0222
B17: =B16+1 -> 10 | E17: 358 | F17: UNDERGROUND CONDUCTORS AND DEVICES | H17: 0.0217
B18: =B17+1 -> 11 | F18: TOTAL TRANSMISSION PLANT | H18: 0.0165
B19: =B18+1 -> 12
B20: =B19+1 -> 13 | D20: General Plant
B21: =B20+1 -> 14 | E21: 390.01 | F21: STRUCTURES AND IMPROVEMENTS - OWNED | H21: 0.0312
B22: =B21+1 -> 15 | E22: 391.01 | F22: OFFICE FURNITURE AND EQUIPMENT | H22: 0.0698
B23: =B22+1 -> 16 | E23: 391.03 | F23: COMPUTER HARDWARE | H23: 0.3628
B24: =B23+1 -> 17 | E24: 391.04 | F24: SOFTWARE | H24: 0.1843
B25: =B24+1 -> 18 | E25: 391.05 | F25: SYSTEM DEVELOPMENT | H25: 0.1372
B26: =B25+1 -> 19 | E26: 392 | F26: TRANSPORTATION EQUIPMENT | H26: 0.0902
B27: =B26+1 -> 20 | E27: 393 | F27: STORES EQUIPMENT | H27: 0.0609
B28: =B27+1 -> 21 | E28: 394 | F28: TOOLS, SHOP AND GARAGE EQUIPMENT | H28: 0.021
B29: =B28+1 -> 22 | E29: 395 | F29: LABORATORY EQUIPMENT | H29: 0.0126
B30: =B29+1 -> 23 | E30: 396 | F30: POWER OPERATED EQUIPMENT | H30: 0.0563
B31: =B30+1 -> 24 | E31: 397 | F31: COMMUNICATION EQUIPMENT | H31: 0.0863
B32: =B31+1 -> 25 | E32: 398 | F32: MISCELLANEOUS EQUIPMENT | H32: 0.0584
B33: =B32+1 -> 26 | F33: TOTAL GENERAL PLANT | H33: 0.0832
B34: =B33+1 -> 27
B35: =B34+1 -> 28 | D35: Intangible Plant
B36: =B35+1 -> 29 | E36: 301 | F36: ORGANIZATION | H36: 0
B37: =B36+1 -> 30 | E37: 303 | F37: MISCELLANEOUS INTANGIBLE PLANT | H37: 0
B38: =B37+1 -> 31 | F38: TOTAL INTANGIBLE PLANT | H38: 0
B39: =B38+1 -> 32
B40: =B39+1 -> 33 | D40: Black Hills Service Company Plant
B41: =B40+1 -> 34 | E41: General Plant - Electric
...

Sheet A6-Divisor
A1: Worksheet A6
A2: Actual Divisor
A3: ='Act Att-H'!C7 -> Black Hills Colorado Electric, LLC
G4: Page 1 of 1
B6: Line | C6: Month | D6: Year | E6: Transmission System Monthly Loads (kW) (Note A) | F6: Transmission System Load for Jan-Aug (kW) | G6: Percentage of Avg. Jan -Aug Load (Note B)
C7: (a) | D7: (b) | E7: (c) | F7: (d) | G7: (e)
B8: 1 | C8: January | D8: 2023 | E8: =(279+15+58)*1000 -> 352000 | F8: =E8 -> 352000
B9: 2 | C9: February | D9: =D8 -> 2023 | E9: =(282+15+58)*1000 -> 355000 | F9: =E9 -> 355000
B10: 3 | C10: March | D10: =D9 -> 2023 | E10: =(256+12+58)*1000 -> 326000 | F10: =E10 -> 326000
B11: 4 | C11: April | D11: =D10 -> 2023 | E11: =(240+10+58)*1000 -> 308000 | F11: =E11 -> 308000
B12: 5 | C12: May | D12: =D11 -> 2023 | E12: =(268+10+58)*1000 -> 336000 | F12: =E12 -> 336000
B13: 6 | C13: June | D13: =D12 -> 2023 | E13: =(361+14+58)*1000 -> 433000 | F13: =E13 -> 433000
B14: 7 | C14: July | D14: =D13 -> 2023 | E14: =(396+15+57)*1000 -> 468000 | F14: =E14 -> 468000
B15: 8 | C15: August | D15: =D14 -> 2023 | E15: =(402+15+58)*1000 -> 475000 | F15: =E15 -> 475000
B16: 9 | C16: September | D16: =D15 -> 2023 | E16: =(346+13+59)*1000 -> 418000 | G16: =E16/F22 -> 1.0953161
B17: 10 | C17: October | D17: =D16 -> 2023 | E17: =(299+11+58)*1000 -> 368000 | G17: =E17/F22 -> 0.96429741
B18: 11 | C18: November | D18: =D17 -> 2023 | E18: =(271+13+58)*1000 -> 342000 | G18: =E18/F22 -> 0.8961677
B19: 12 | C19: December | D19: =D18 -> 2023 | E19: =(278+13+58)*1000 -> 349000 | G19: =E19/F22 -> 0.91451032
B20: 13 | C20: Total | E20: =SUM(E8:E19) -> 4530000
B21: 14 | C21: Divisor | E21: =E20/12 -> 377500
B22: 15 | C22: Average | F22: =AVERAGE(F8:F19) -> 381625
B24: Notes
B25: A | C25: Source: Form 1 page 400, lines 1-15, columns e, f, g and h
B26: B | C26: Carried forward for use in Worksheet P3, Column b.

Sheet A7-IncentPlant
A1: Worksheet A7
A2: Incentive Plant Worksheet
A3: ='Act Att-H'!C7 -> Black Hills Colorado Electric, LLC
O4: Page 1 of 1
A6: Line | H6: Incentive Projects | I6: Note C
A7: 1 | H7: Project: | I7: Project 1 | L7: Project: | M7: Project 2
A8: =A7+1 -> 2 | H8: Proj. ID | I8: n/a | L8: Proj. ID | M8: n/a
A9: =A8+1 -> 3 | H9: Deprec. Rate: | I9: 0 | J9: (Note A) | L9: Deprec. Rate: | M9: 0 | N9: (Note A)
A10: =A9+1 -> 4 | H10: ROE Adder | I10: 0 | J10: (Note B) | L10: ROE Adder | M10: 0 | N10: (Note B)
A11: =A10+1 -> 5 | H11: Weighted ROE Adder: | I11: =I10*'Act Att-H'!E204 -> 0 | L11: Weighted ROE Adder: | M11: =M10*'Act Att-H'!E204 -> 0
A12: =A11+1 -> 6 | H12: Beginning Year: | L12: Beginning Year:
A13: =A12+1 -> 7
A14: =A13+1 -> 8 | C14: Total
K15: Note D | O15: Note D
B16: Year | C16: Beginning Amt | D16: Depreciation | E16: Net Plant | F16: Incentive Ret | H16: Beginning Amt | I16: Accumulated Depreciation | J16: Net Plant | K16: Incentive Ret (Net Plant * Weighted ROE Adder) | L16: Beginning Amt | M16: Accumulated Depreciation | N16: Net Plant
B17: (a) | C17: (b) | D17: (c) | E17: (d) | F17: (e) | H17: (f) | I17: (g) | J17: (h) | K17: (i) | L17: (j) | M17: (k) | N17: (l) | O17: (m)
A19: =A14+1 -> 9 | B19: yyyy | C19: =+H19+L19 -> 0 | D19: =+I19+M19 -> 0 | E19: =+J19+N19 -> 0 | F19: =+K19+O19 -> 0 | H19: 0 | I19: 0 | J19: =+H19-I19 -> 0 | K19: =ROUND(J19*I$11,2) -> 0 | L19: 0 | M19: 0 | N19: =+L19-M19 -> 0 | O19: =ROUND(N19*M$11,2) -> 0
A20: =A19+1 -> 10 | B20: yyyy | C20: =+H20+L20 -> 0 | D20: =+I20+M20 -> 0 | E20: =+J20+N20 -> 0 | F20: =+K20+O20 -> 0 | H20: 0 | I20: =(H20*$I$9)+I19 -> 0 | J20: =+H20-I20 -> 0 | K20: =ROUND(J20*I$11,2) -> 0 | L20: 0 | M20: =(L20*$M$9)+M19 -> 0 | N20: =+L20-M20 -> 0 | O20: =ROUND(N20*M$11,2) -> 0
A21: =A20+1 -> 11 | B21: yyyy | C21: =+H21+L21 -> 0 | D21: =+I21+M21 -> 0 | E21: =+J21+N21 -> 0 | F21: =+K21+O21 -> 0 | H21: 0 | I21: =(H21*$I$9)+I20 -> 0 | J21: =+H21-I21 -> 0 | K21: =ROUND(J21*I$11,2) -> 0 | L21: 0 | M21: =(L21*$M$9)+M20 -> 0 | N21: =+L21-M21 -> 0 | O21: =ROUND(N21*M$11,2) -> 0
A22: =A21+1 -> 12 | B22: yyyy | C22: =+H22+L22 -> 0 | D22: =+I22+M22 -> 0 | E22: =+J22+N22 -> 0 | F22: =+K22+O22 -> 0 | H22: 0 | I22: =(H22*$I$9)+I21 -> 0 | J22: =+H22-I22 -> 0 | K22: =ROUND(J22*I$11,2) -> 0 | L22: 0 | M22: =(L22*$M$9)+M21 -> 0 | N22: =+L22-M22 -> 0 | O22: =ROUND(N22*M$11,2) -> 0
A23: =A22+1 -> 13 | B23: yyyy | C23: =+H23+L23 -> 0 | D23: =+I23+M23 -> 0 | E23: =+J23+N23 -> 0 | F23: =+K23+O23 -> 0 | H23: 0 | I23: =(H23*$I$9)+I22 -> 0 | J23: =+H23-I23 -> 0 | K23: =ROUND(J23*I$11,2) -> 0 | L23: 0 | M23: =(L23*$M$9)+M22 -> 0 | N23: =+L23-M23 -> 0 | O23: =ROUND(N23*M$11,2) -> 0
A24: =A23+1 -> 14 | B24: yyyy | C24: =+H24+L24 -> 0 | D24: =+I24+M24 -> 0 | E24: =+J24+N24 -> 0 | F24: =+K24+O24 -> 0 | H24: 0 | I24: =(H24*$I$9)+I23 -> 0 | J24: =+H24-I24 -> 0 | K24: =ROUND(J24*I$11,2) -> 0 | L24: 0 | M24: =(L24*$M$9)+M23 -> 0 | N24: =+L24-M24 -> 0 | O24: =ROUND(N24*M$11,2) -> 0
A25: =A24+1 -> 15 | B25: yyyy | C25: =+H25+L25 -> 0 | D25: =+I25+M25 -> 0 | E25: =+J25+N25 -> 0 | F25: =+K25+O25 -> 0 | H25: 0 | I25: =(H25*$I$9)+I24 -> 0 | J25: =+H25-I25 -> 0 | K25: =ROUND(J25*I$11,2) -> 0 | L25: 0 | M25: =(L25*$M$9)+M24 -> 0 | N25: =+L25-M25 -> 0 | O25: =ROUND(N25*M$11,2) -> 0
A26: =A25+1 -> 16 | B26: yyyy | C26: =+H26+L26 -> 0 | D26: =+I26+M26 -> 0 | E26: =+J26+N26 -> 0 | F26: =+K26+O26 -> 0 | H26: 0 | I26: =(H26*$I$9)+I25 -> 0 | J26: =+H26-I26 -> 0 | K26: =ROUND(J26*I$11,2) -> 0 | L26: 0 | M26: =(L26*$M$9)+M25 -> 0 | N26: =+L26-M26 -> 0 | O26: =ROUND(N26*M$11,2) -> 0
A27: =A26+1 -> 17 | B27: yyyy | C27: =+H27+L27 -> 0 | D27: =+I27+M27 -> 0 | E27: =+J27+N27 -> 0 | F27: =+K27+O27 -> 0 | H27: 0 | I27: =(H27*$I$9)+I26 -> 0 | J27: =+H27-I27 -> 0 | K27: =ROUND(J27*I$11,2) -> 0 | L27: 0 | M27: =(L27*$M$9)+M26 -> 0 | N27: =+L27-M27 -> 0 | O27: =ROUND(N27*M$11,2) -> 0
A28: =A27+1 -> 18 | B28: yyyy | C28: =+H28+L28 -> 0 | D28: =+I28+M28 -> 0 | E28: =+J28+N28 -> 0 | F28: =+K28+O28 -> 0 | H28: 0 | I28: =(H28*$I$9)+I27 -> 0 | J28: =+H28-I28 -> 0 | K28: =ROUND(J28*I$11,2) -> 0 | L28: 0 | M28: =(L28*$M$9)+M27 -> 0 | N28: =+L28-M28 -> 0 | O28: =ROUND(N28*M$11,2) -> 0
A29: =A28+1 -> 19 | B29: yyyy | C29: =+H29+L29 -> 0 | D29: =+I29+M29 -> 0 | E29: =+J29+N29 -> 0 | F29: =+K29+O29 -> 0 | H29: 0 | I29: =(H29*$I$9)+I28 -> 0 | J29: =+H29-I29 -> 0 | K29: =ROUND(J29*I$11,2) -> 0 | L29: 0 | M29: =(L29*$M$9)+M28 -> 0 | N29: =+L29-M29 -> 0 | O29: =ROUND(N29*M$11,2) -> 0
A30: =A29+1 -> 20 | B30: yyyy | C30: =+H30+L30 -> 0 | D30: =+I30+M30 -> 0 | E30: =+J30+N30 -> 0 | F30: =+K30+O30 -> 0 | H30: 0 | I30: =(H30*$I$9)+I29 -> 0 | J30: =+H30-I30 -> 0 | K30: =ROUND(J30*I$11,2) -> 0 | L30: 0 | M30: =(L30*$M$9)+M29 -> 0 | N30: =+L30-M30 -> 0 | O30: =ROUND(N30*M$11,2) -> 0
A31: =A30+1 -> 21 | B31: yyyy | C31: =+H31+L31 -> 0 | D31: =+I31+M31 -> 0 | E31: =+J31+N31 -> 0 | F31: =+K31+O31 -> 0 | H31: 0 | I31: =(H31*$I$9)+I30 -> 0 | J31: =+H31-I31 -> 0 | K31: =ROUND(J31*I$11,2) -> 0 | L31: 0 | M31: =(L31*$M$9)+M30 -> 0 | N31: =+L31-M31 -> 0 | O31: =ROUND(N31*M$11,2) -> 0
... A42: =A41+1 -> 32 | B42: yyyy | C42: =+H42+L42 -> 0 | D42: =+I42+M42 -> 0 | E42: =+J42+N42 -> 0 | F42: =+K42+O42 -> 0 | H42: 0 | I42: =(H42*$I$9)+I41 -> 0 | J42: =+H42-I42 -> 0 | K42: =ROUND(J42*I$11,2) -> 0 | L42: 0 | M42: =(L42*$M$9)+M41 -> 0 | N42: =+L42-M42 -> 0 | O42: =ROUND(N42*M$11,2) -> 0
A44: Notes
A45: A | B45: Special depreciation rates may be utilized for specific incentive transmission projects if approved by the FERC.
A46: B | B46: Incentive ROE requires authorization by the Commission
A47: C | B47: Applies only to projects authorized by the Commission. The source of the information is the Company Records. To the extent applicable, Black Hills Colorado will include initial input values and workpapers tied to Company Records in any Commission filing.
A48: D | B48: The Accumulated Depreciation for Year 1 will reflect the prorated amount of depreciation for the months that the project is in service.

Sheet A8-Prepmts
A1: Worksheet A8
A2: Prepayments
A3: ='Act Att-H'!C7 -> Black Hills Colorado Electric, LLC
H4: Page 1 of 1
B6: Line | C6: Prepaid Item | D6: Description | E6: 13 Month Average Balance (Note B) | F6: Allocator | G6: Allocation Factor | H6: Allocated Amount
C7: (a) | D7: (b) | E7: (c) | F7: (d) | G7: (e) | H7: (f)
B8: 1 | C8: Direct Assigned Prepaids | D8: Prepaid Items (directly assigned to Transmission) | E8: 0 | F8: DA | G8: ='Act Att-H'!$G$116 -> 1 | H8: =G8*E8 -> 0
B9: 2 | C9: Transmission Plant-Related Prepaid Items | D9: Prepaid Items (allocated by Transmission Plant) | E9: 184710.95 | F9: TP | G9: ='Act Att-H'!$I$175 -> 0.92887971 | H9: =G9*E9 -> 171574.25
B10: 3 | C10: Transmission Expense-Related Prepaid Items | D10: Prepaid Items (allocated by Transmission Expense) | E10: 0 | F10: TE | G10: ='Act Att-H'!$I$184 -> 0.92887971 | H10: =G10*E10 -> 0
B11: 4 | C11: Other Plant-Related Prepaid Items | D11: Prepaid Items (allocated by Other Plant Allocator) | E11: 0 | F11: OE | G11: ='Act Att-H'!$K$196 -> 0.12947946 | H11: =G11*E11 -> 0
B12: 5 | C12: Wage & Salary-Related Prepaid Items | D12: Prepaid Items (allocated by Wages & Salaries) | E12: 392069.72 | F12: W/S | G12: ='Act Att-H'!$I$192 -> 0.13228055 | H12: =G12*E12 -> 51863.198
B13: 6 | C13: General Plant-Related Prepaid Items | D13: Leases and Prepaid Items (allocated by Gross Plant Allocator) | E13: 0 | F13: GP | G13: ='Act Att-H'!$G$50 -> 0.23929098 | H13: =G13*E13 -> 0
B14: 7 | C14: Net Plant-Related Prepaid Items | D14: Prepaid Items (allocated by Net Plant Allocator) | E14: 0 | F14: NP | G14: ='Act Att-H'!$G$66 -> 0.28588581 | H14: =G14*E14 -> 0
B15: 8 | C15: Prepaid Items Not Allocated | D15: Prepaid Items Not Allocated (including but not limited to Insurance for Generation assets, Prepaid Generation maintenance, Land Easements and Leases for Generation and Distribution, and Income Taxes) | E15: 657028.27 | F15: NA | G15: 0 | H15: =G15*E15 -> 0
B16: 9 | C16: Total | D16: (Note A) | E16: =SUM(E8:E15) -> 1233808.9 | H16: =SUM(H8:H15) -> 223437.45
B17: 10 | C17: Total from A4-Rate Base | E17: ='A4-Rate Base'!I89 -> 1233809.9
B18: 11 | C18: Variance | E18: =E17-E16 -> 0.98307692
B21: Notes
B22: A | C22: To Actual Attachment H, page 2, line 30
B23: B | C23: The total of the 13 month average of the individual items will match the 13 month average calculated on A4-Rate Base, page 2 line 14 column (h). The variance between A8 and A4 will be $0.

Sheet TU-TrueUp
A1: Worksheet TU
A2: True-Up Adjustment
A3: ='Act Att-H'!C7 -> Black Hills Colorado Electric, LLC
H4: Page 1 of 1
A5: Timeline
A6: Step | B6: Month | C6: Year | D6: Action
A7: 1 | B7: Oct | C7: Year 0 | D7: Company populates the formula rate using projected costs for Year 1
A8: =A7+1 -> 2 | B8: Oct | C8: Year 0 | D8: Post results of Step 1
A9: =A8+1 -> 3 | B9: Jan | C9: Year 1 | D9: Results of Step 2 go into effect.
A10: =A9+1 -> 4 | B10: =+B7 -> Oct | C10: Year 1 | D10: Company populates the formula rate using projected costs for Year 2
A11: =A10+1 -> 5 | B11: Oct | C11: =C10 -> Year 1 | D11: Post results of Step 4
A12: =A11+1 -> 6 | B12: Jan | C12: Year 2 | D12: Results of Step 5 go into effect.
A13: =A12+1 -> 7 | B13: Jun | C13: Year 2 | D13: Company populates the formula rate using actual costs for Year 1
A14: =A13+1 -> 8 | B14: Jun | C14: Year 2 | D14: Calculate the difference between the formula rate calculated in Step 7 and Step 1
A15: =A14+1 -> 9 | B15: Jun | C15: Year 2 | D15: Post results from Step 7 and Step 8
A16: =A15+1 -> 10 | B16: Oct | C16: Year 2 | D16: Company populates the formula rate using projected costs for Year 3
A17: =A16+1 -> 11 | B17: Oct | C17: Year 2 | D17: Post results of Step 10
B19: Rev Req Comparison
A20: =A17+1 -> 12 | H20: Total Rev. Req.
A21: =A20+1 -> 13 | C21: Actual Revenue Requirements from Step 7 | H21: 30070798
A22: =A21+1 -> 14 | C22: Originally Projected Revenue Requirements from Step 1 (Note E) | H22: 31707378
A23: =A22+1 -> 15 | C23: True-up Amount (before Volume Revenue Adjustment & interest) | F23: (line 13 - line 14) | H23: =+H21-H22 -> -1636580.6
B25: Volume Comparison
A26: =A23+1 -> 16 | H26: Total Rev. Req.
A27: =A26+1 -> 17 | C27: Divisor for Actual Rate Year from Step 7 | H27: 391833.33 | I27: kW
A28: =A27+1 -> 18 | C28: Divisor for Originally Projected Rate Year from Step 1 | H28: 406586.14 | I28: kW
A29: =A28+1 -> 19 | C29: Difference in Volume | F29: (line 18 - line 17) | H29: =H28-H27 -> 14752.81 | I29: kW
A30: =A29+1 -> 20
A31: =A30+1 -> 21 | C31: Originally Projected Rev Req Rate | F31: (line 14 / line 18) | H31: =IF(H28=0,0,ROUND(H22/H28,6)) -> 77.984404 | I31: $/kW
A32: =A31+1 -> 22 | C32: Volume Revenue Adjustment | F32: (line 19 x line 21) | H32: =H29*H31 -> 1150489.1
A33: =A32+1 -> 23
B34: Prior Period Adjustment
A35: 23a | C35: Prior Period Adjustment (Note F) | H35: 0
A37: =A33+1 -> 24 | B37: True-up Amount including Volume Revenue Adjustment (before interest) | F37: (line 15+22+23a) | H37: =H23+H32+H35 -> -486091.55
A40: Notes:
A41: A | B41: Reserved for future use; will not be populated absent approval by FERC.
A42: B | B42: Reserved for future use; will not be populated absent approval by FERC.
A43: C | B43: Reserved for future use; will not be populated absent approval by FERC.
A44: D | B44: Reserved for future use; will not be populated absent approval by FERC.
A45: E | B45: Enter the Projected Revenue Requirement for the Actual period.
...

Sheet Proj Att-H
I1: Projected Attachment H
J2: Page 1
B4: Formula Rate - Non-Levelized | C4: Rate Formula Template | K4: Estimated - For the 12 months ended 12/31/2023
C5: Utilizing FERC Form 1 Data
C7: Black Hills Colorado Electric, LLC
A8: Line | I8: Allocated
A9: No. | I9: Amount
A10: 1 | B10: GROSS REVENUE REQUIREMENT (page 3, line 29) | I10: ='Proj Att-H'!I151 -> 39791366
B12: REVENUE CREDITS | D12: Total | F12: Allocator
A13: 2 | B13: Account No. 454 | C13: Act Att-H, page 1 line 2 | D13: ='Act Att-H'!D13 -> 661.59457 | F13: DA | G13: 1 | I13: =+G13*D13 -> 661.59457
A14: 3 | B14: Account No. 456.1 | C14: Act Att-H, page 1 line 3 | D14: ='Act Att-H'!D14 -> 908954 | F14: DA | G14: 1 | I14: =+G14*D14 -> 908954
A15: 4 | B15: Held for Future Use
A16: 5 | B16: Held for Future Use
A17: 6 | B17: TOTAL REVENUE CREDITS (sum lines 2-5) | I17: =SUM(I13:I16) -> 909615.59
A19: 7 | B19: NET REVENUE REQUIREMENT | C19: (line 1 minus line 6) | I19: =I10-I17 -> 38881750
B21: DIVISOR
A22: 8 | B22: Divisor (kW) | C22: Worksheet P3, Line 15 | I22: ='P3-Divisor'!G24 -> 409525.06
A23: 9
A24: 10 | B24: RATES
A25: 11 | B25: Annual | D25: =ROUND(I19/I22,2) -> 94.94 | E25: /kW-year
A26: 12 | B26: Monthly | C26: 12 months/year | D26: =ROUND(D25/12,2) -> 7.91 | E26: /kW-month
A27: 13 | B27: Weekly | C27: 52 weeks/year | D27: =ROUND(D25/52,2) -> 1.83 | E27: /kW-week
A28: 14 | B28: Daily On-Peak | C28: 6 days/week | D28: =+D27/6 -> 0.305 | E28: /kW-day
A29: 15 | B29: Daily Off-Peak | C29: 7 days/week | D29: =+D27/7 -> 0.26142857 | E29: /kW-day
A30: 16 | B30: Hourly On-Peak | C30: 16 hours/day | D30: =+D28/16*1000 -> 19.0625 | E30: /MW-hour
A31: 17 | B31: Hourly Off-Peak | C31: 24 hours/day | D31: =+D29/24*1000 -> 10.892857 | E31: /MW-hour
I32: =I1 -> Projected Attachment H
J33: Page 2
B35: Formula Rate - Non-Levelized | C35: Rate Formula Template | K35: =K4 -> Estimated - For the 12 months ended 12/31/2023
C36: Utilizing FERC Form 1 Data
C38: =C7 -> Black Hills Colorado Electric, LLC
B40: (1) | C40: (2) | D40: (3) | G40: (4) | I40: (5)
C41: Form No. 1 | I41: Transmission
A42: Line | C42: Page, Line, Col. | D42: Company Total | F42: Allocator | I42: (Col 3 times Col 4)
A43: No. | B43: RATE BASE:
B44: GROSS PLANT IN SERVICE
A45: 1 | B45: Transmission | C45: Worksheet P1, Line 29, Column (f) | D45: ='P1-Trans Plant'!H44 -> 3.8314551e+08 | F45: TP | G45: =$I$170 -> 0.92887971 | I45: =+G45*D45 -> 3.5589609e+08
A46: 2 | B46: General & Intangible | C46: Worksheet A4, Page 1, Line 13, Column (e) | D46: ='A4-Rate Base'!F22 -> 45655275 | F46: W/S | G46: =$I$187 -> 0.13228055 | I46: =+G46*D46 -> 6039304.9
A47: 2a | B47: Other | C47: Worksheet A4, Page 1, Line 13, Column (f) | D47: ='A4-Rate Base'!G22 -> 26045763 | F47: OE | G47: =$K$191 -> 0.12947946 | I47: =+G47*D47 -> 3372391.4
A48: 3 | B48: TOTAL GROSS PLANT | C48: (Sum Lines 1 and 2 and 2a) | D48: =SUM(D45:D47) -> 4.5484655e+08 | F48: GP | G48: =$G$222 -> 0.27972226 | I48: =SUM(I45:I47) -> 3.6530778e+08
...

Sheet P1-Trans Plant
B1: Worksheet P1 | AK1: Page 60 of 68
B2: Projected Transmission Plant
B3: ='Act Att-H'!C7 -> Black Hills Colorado Electric, LLC
J4: Page 1 of 4 | Q4: Page 2 of 4 | V4: Page 3 of 4 | AA4: Page 4 of 4 | AL4: Page 3 of 4
B7: Total Projected Plant | G7: Projected Plant | S7: Rate Year -1 | W7: Rate Year
B8: (a) | D8: (b) | E8: (c ) | F8: (d) | G8: (e ) | H8: (f) | I8: (g) | J8: (h) | K8: (i) | L8: (j) | M8: (k) | N8: (l) | O8: (m) | P8: (n) | Q8: (o) | R8: (p) | S8: (q) | T8: (r ) | U8: (s) | V8: (t) | W8: (u) | X8: (v) | Y8: (w) | Z8: (x) | AA8: (y)
I9: Plant | J9: Plant | L9: Tax Depreciation | P9: Tax Depreciation on Plant
B10: Month | G10: Projected | I10: Depreciation | J10: Accumulated | K10: Incremental | L10: Rate | N10: Depreciation on Additions | P10: Balances as of Ending Rate Year -2 | R10: Tax Deprec | S10: Book | T10: Timing | W10: Tax Deprec | X10: Book | Y10: Timing
A11: # | B11: & Year | D11: Gross Plant | E11: Depreciation | F11: Accum. Dep. | G11: Plant Additions | H11: Plant in Service | I11: Accrual (Note A) | J11: Depreciation | K11: Additions | L11: Rate Year -1 | M11: Rate Year | N11: Rate Year -1 | O11: Rate Year | P11: Rate Year -1 | Q11: Rate Year | R11: Average | S11: Depreciation | T11: Difference | U11: Tax Rate | V11: ADIT | W11: Average | X11: Depreciation | Y11: Difference | Z11: Tax Rate | AA11: ADIT
A12: 1 | H12: Line 3 Col (f) + Col (e ) | I12: =IF('Act Att-H'!D46=0,0,ROUND('Act Att-H'!D120/'Act Att-H'!D46,6)/12) -> 0.0014625 | J12: Line 3 Col (h) + Col (g) | N12: (i) x (j) | O12: (i) x (k) | P12: 19294636 | Q12: 18234476 | R12: Pg 2 Line 27a Col (l) / 12 + (n) | S12: (c ) | T12: (q) - (p) | U12: Proj Att H pg 3, line 21, Col 3 | V12: (r ) x (s) | W12: Pg 2 Line 27a Col M / 12 + (o) | X12: (c ) | Y12: (u) - (v) | Z12: Proj Att H pg 3, line 21, Col 3 | AA12: (w) x (x)
A13: 2 | N13: . | P13: ='Act Att-H'!G50 -> 0.23929098 | Q13: ='Proj Att-H'!G222 -> 0.27972226
A14: 3 | G14: Plant Balances as of Dec 31, 2021 > | H14: ='A4-Rate Base'!D22 -> 3.1816252e+08 | J14: ='A4-Rate Base'!F45 -> 51935611 | P14: =P12*P13 -> 4617032.4 | Q14: =Q12*Q13 -> 5100588.9
B16: (a) | D16: (b) | E16: (c) | F16: (d) | G16: (e) | H16: (f) | I16: (g) | J16: (h) | K16: (i) | L16: (j) | M16: (k) | N16: (l) | O16: (m) | P16: (n) | Q16: (o) | R16: (p) | S16: (q) | T16: (r) | U16: (s) | V16: (t) | W16: (u) | X16: (v) | Y16: (w) | Z16: (x) | AA16: (y)
A18: =+A14+1 -> 4 | B18: 44562 | D18: =H18 -> 3.1788328e+08 | E18: =I18 -> 465312.69 | F18: =J18 -> 52400924 | G18: -279242.5 | H18: =H$14+G18 -> 3.1788328e+08 | I18: =I$12*H14 -> 465312.69 | J18: =J14+I18 -> 52400924 | K18: =G18 -> -279242.5 | L18: 0.05 | M18: 0.095 | N18: =K18*L18 -> -13962.125 | O18: =K18*M18 -> -26528.038 | P18: =(P$14)/12 -> 384752.7 | R18: =N$42/12+P18 -> 490892.7 | S18: =E18 -> 465312.69 | T18: =S18-R18 -> -25580.013 | U18: =+'Proj Att-H'!$D$133 -> 0.245945 | V18: =T18*U18 -> -6291.2763
A19: =+A18+1 -> 5 | B19: 44593 | D19: =H19 -> 3.1788295e+08 | E19: =I19 -> 464904.3 | F19: =J19 -> 52865828 | G19: -279576.59 | H19: =H$14+G19 -> 3.1788295e+08 | I19: =I$12*H18 -> 464904.3 | J19: =J18+I19 -> 52865828 | K19: =G19-G18 -> -334.09 | L19: 0.05 | M19: 0.095 | N19: =K19*L19 -> -16.7045 | O19: =K19*M19 -> -31.73855 | P19: =(P$14)/12 -> 384752.7 | R19: =N$42/12+P19 -> 490892.7 | S19: =E19 -> 464904.3 | T19: =S19-R19 -> -25988.405 | U19: =+'Proj Att-H'!$D$133 -> 0.245945 | V19: =T19*U19 -> -6391.7183
A20: =+A19+1 -> 6 | B20: 44621 | D20: =H20 -> 3.1798315e+08 | E20: =I20 -> 464903.81 | F20: =J20 -> 53330732 | G20: -179373.01 | H20: =H$14+G20 -> 3.1798315e+08 | I20: =I$12*H19 -> 464903.81 | J20: =J19+I20 -> 53330732 | K20: =G20-G19 -> 100203.58 | L20: 0.05 | M20: 0.095 | N20: =K20*L20 -> 5010.179 | O20: =K20*M20 -> 9519.3401 | P20: =(P$14)/12 -> 384752.7 | R20: =N$42/12+P20 -> 490892.7 | S20: =E20 -> 464903.81 | T20: =S20-R20 -> -25988.894 | U20: =+'Proj Att-H'!$D$133 -> 0.245945 | V20: =T20*U20 -> -6391.8384
A21: =+A20+1 -> 7 | B21: 44652 | D21: =H21 -> 3.3430402e+08 | E21: =I21 -> 465050.36 | F21: =J21 -> 53795782 | G21: 16141500 | H21: =H$14+G21 -> 3.3430402e+08 | I21: =I$12*H20 -> 465050.36 | J21: =J20+I21 -> 53795782 | K21: =G21-G20 -> 16320873 | L21: 0.05 | M21: 0.095 | N21: =K21*L21 -> 816043.63 | O21: =K21*M21 -> 1550482.9 | P21: =(P$14)/12 -> 384752.7 | R21: =N$42/12+P21 -> 490892.7 | S21: =E21 -> 465050.36 | T21: =S21-R21 -> -25842.346 | U21: =+'Proj Att-H'!$D$133 -> 0.245945 | V21: =T21*U21 -> -6355.7958
A22: =+A21+1 -> 8 | B22: 44682 | D22: =H22 -> 3.3496845e+08 | E22: =I22 -> 488919.63 | F22: =J22 -> 54284702 | G22: 16805925 | H22: =H$14+G22 -> 3.3496845e+08 | I22: =I$12*H21 -> 488919.63 | J22: =J21+I22 -> 54284702 | K22: =G22-G21 -> 664425.48 | L22: 0.05 | M22: 0.095 | N22: =K22*L22 -> 33221.274 | O22: =K22*M22 -> 63120.421 | P22: =(P$14)/12 -> 384752.7 | R22: =N$42/12+P22 -> 490892.7 | S22: =E22 -> 488919.63 | T22: =S22-R22 -> -1973.0698 | U22: =+'Proj Att-H'!$D$133 -> 0.245945 | V22: =T22*U22 -> -485.26666
A23: =+A22+1 -> 9 | B23: 44713 | D23: =H23 -> 3.3635332e+08 | E23: =I23 -> 489891.35 | F23: =J23 -> 54774593 | G23: 18190801 | H23: =H$14+G23 -> 3.3635332e+08 | I23: =I$12*H22 -> 489891.35 | J23: =J22+I23 -> 54774593 | K23: =G23-G22 -> 1384876.4 | L23: 0.05 | M23: 0.095 | N23: =K23*L23 -> 69243.82 | O23: =K23*M23 -> 131563.26 | P23: =(P$14)/12 -> 384752.7 | R23: =N$42/12+P23 -> 490892.7 | S23: =E23 -> 489891.35 | T23: =S23-R23 -> -1001.3476 | U23: =+'Proj Att-H'!$D$133 -> 0.245945 | V23: =T23*U23 -> -246.27643
A24: =+A23+1 -> 10 | B24: 44743 | D24: =H24 -> 3.3656398e+08 | E24: =I24 -> 491916.74 | F24: =J24 -> 55266510 | G24: 18401459 | H24: =H$14+G24 -> 3.3656398e+08 | I24: =I$12*H23 -> 491916.74 | J24: =J23+I24 -> 55266510 | K24: =G24-G23 -> 210658.04 | L24: 0.05 | M24: 0.095 | N24: =K24*L24 -> 10532.902 | O24: =K24*M24 -> 20012.514 | P24: =(P$14)/12 -> 384752.7 | R24: =N$42/12+P24 -> 490892.7 | S24: =E24 -> 491916.74 | T24: =S24-R24 -> 1024.0341 | U24: =+'Proj Att-H'!$D$133 -> 0.245945 | V24: =T24*U24 -> 251.85608
A25: =+A24+1 -> 11 | B25: 44774 | D25: =H25 -> 3.3657585e+08 | E25: =I25 -> 492224.82 | F25: =J25 -> 55758735 | G25: 18413326 | H25: =H$14+G25 -> 3.3657585e+08 | I25: =I$12*H24 -> 492224.82 | J25: =J24+I25 -> 55758735 | K25: =G25-G24 -> 11866.77 | L25: 0.05 | M25: 0.095 | N25: =K25*L25 -> 593.3385 | O25: =K25*M25 -> 1127.3431 | P25: =(P$14)/12 -> 384752.7 | R25: =N$42/12+P25 -> 490892.7 | S25: =E25 -> 492224.82 | T25: =S25-R25 -> 1332.1215 | U25: =+'Proj Att-H'!$D$133 -> 0.245945 | V25: =T25*U25 -> 327.62863
A26: =+A25+1 -> 12 | B26: 44805 | D26: =H26 -> 3.3666751e+08 | E26: =I26 -> 492242.18 | F26: =J26 -> 56250977 | G26: 18504985 | H26: =H$14+G26 -> 3.3666751e+08 | I26: =I$12*H25 -> 492242.18 | J26: =J25+I26 -> 56250977 | K26: =G26-G25 -> 91658.352 | L26: 0.05 | M26: 0.095 | N26: =K26*L26 -> 4582.9176 | O26: =K26*M26 -> 8707.5434 | P26: =(P$14)/12 -> 384752.7 | R26: =N$42/12+P26 -> 490892.7 | S26: =E26 -> 492242.18 | T26: =S26-R26 -> 1349.4767 | U26: =+'Proj Att-H'!$D$133 -> 0.245945 | V26: =T26*U26 -> 331.89704
