Workbook

Sheet Cost of Service References
A1: Black Hills Power, Inc.
A2: Cost of Service Formula Reference Changes
D5: Per Tariff and As Filed | F5: Updated Reference (Note 3)
C6: (1) | D6: (2) | F6: (2)
D7: Form No. 1 | F7: Form No. 1
A8: Line | D8: Page, Line, Col. | F8: Page, Line, Col.
A9: No. | C9: RATE BASE:
C11: GROSS PLANT IN SERVICE | D11: (Note H) | F11: (Note H)
A12: 1 | C12: Production | D12: 205.46.g | F12: 205.46.g
A13: =+A12+1 -> 2 | C13: Transmission | D13: 207.58.g | F13: 207.58.g
A14: =+A13+1 -> 3 | C14: Distribution | D14: 207.75.g | F14: 207.75.g
A15: =+A14+1 -> 4 | C15: General & Intangible | D15: See Workpaper 4 | F15: BHP-Workpaper 9, line 14, (e)
A16: =+A15+1 -> 5 | C16: Allocated Plant | D16: See Workpaper 5 | F16: BHP-Workpaper 6, line 5, (n)
A17: =+A16+1 -> 6 | C17: Communication System | D17: See Workpaper 4 | F17: BHP-Workpaper 6, line 6, (n)
A18: =+A17+1 -> 7 | C18: Common | D18: 356.1 | F18: Workpaper 6, line 7, (n)
A19: =+A18+1 -> 8 | C19: TOTAL GROSS PLANT | D19: (sum lines 1 - 7) | F19: (sum lines 1 - 7)
A20: =+A19+1 -> 9
A21: =+A20+1 -> 10 | C21: ACCUMULATED DEPRECIATION | D21: (Note H) | F21: (Note H)
A22: =+A21+1 -> 11 | C22: Production | D22: 219.20-24.c | F22: BHP-Workpaper 6, line 11, (n)
A23: =+A22+1 -> 12 | C23: Transmission | D23: 219.25.c | F23: BHP-Workpaper 6, line 12, (n)
A24: =+A23+1 -> 13 | C24: Distribution | D24: 219.26.c | F24: BHP-Workpaper 6, line 13, (n)
A25: =+A24+1 -> 14 | C25: General & Intangible | D25: 219.28.c | F25: BHP-Workpaper 6, line 14, (n)
A26: =+A25+1 -> 15 | C26: Allocated Plant | D26: See Workpaper 5 | F26: BHP-Workpaper 6, line 15, (n)
A27: =+A26+1 -> 16 | C27: Communication System | D27: See Workpaper 4 | F27: BHP-Workpaper 6, line 16, (n)
A28: =+A27+1 -> 17 | C28: Common | D28: 356.1 | F28: BHP-Workpaper 6, line 17, (n)
A29: =+A28+1 -> 18 | C29: TOTAL ACCUM. DEPRECIATION | D29: (sum lines 11 - 17) | F29: (sum lines 11 - 17)
A30: =+A29+1 -> 19
A31: =+A30+1 -> 20 | C31: NET PLANT IN SERVICE | D31: (Note H) | F31: (Note H)
A32: =+A31+1 -> 21 | C32: Production | D32: (line 1 - line 11) | F32: (line 1 - line 11)
A33: =+A32+1 -> 22 | C33: Transmission | D33: (line 2 - line 12) | F33: (line 2 - line 12)
A34: =+A33+1 -> 23 | C34: Distribution | D34: (line 3 - line 13) | F34: (line 3 - line 13)
A35: =+A34+1 -> 24 | C35: General & Intangible | D35: (line 4 - line 14) | F35: (line 4 - line 14)
A36: =+A35+1 -> 25 | C36: Allocated Plant | D36: (line 5 - line 15) | F36: (line 5 - line 15)
A37: =+A36+1 -> 26 | C37: Communication System | D37: (line 6 - line 16) | F37: (line 6 - line 16)
A38: =+A37+1 -> 27 | C38: Common | D38: (line 7 - line 17) | F38: (line 7 - line 17)
A39: =+A38+1 -> 28 | C39: TOTAL NET PLANT | D39: (sum lines 21 - 27) | F39: (sum lines 21 - 27)
A40: =+A39+1 -> 29
A41: =+A40+1 -> 30 | C41: ADJUSTMENTS TO RATE BASE | D41: (Notes A & H) | F41: (Notes A & H)
A42: =+A41+1 -> 31 | C42: Account No. 281 (enter negative) | D42: 273.8.k | F42: BHP-Workpaper 6, line 31, ( c)
A43: =+A42+1 -> 32 | C43: Account No. 282 (enter negative) | D43: 275.2.k | F43: BHP-Workpaper 12, line 5, ( e)
...

Sheet Capital True up References
A2: Capital True Up
A3: Line | E3: Per Tariff
A4: No.
A5: 1 | B5: The True-Up Adjustment component of the Formula Rate for each Rate Year beginning with rates effective January 1, 2010 shall be determined as follows:
A6: 2
A7: 3 | B7: (i) | D7: Beginning with 2009, no later than June 1 of each year, Black Hills Power shall recalculate an adjusted Annual
A8: 4 | E8: Transmission Revenue Requirement (ATRR) for the previous calendar year based on its actual costs as reflected
A9: 5 | E9: in its Form No. 1 and its books and records for that calendar year, consistent with FERC
A10: 6 | E10: accounting policies.
A11: 7
A12: 8 | B12: (ii) | D12: Black Hills Power shall determine the difference between the recalculated ATRR as determined in paragraph (i)
A13: 9 | E13: above, and ATRR based on projected costs for the previous calendar year (True-Up Adj before Interest).
A14: 10
A15: 11 | B15: (iii) | D15: The True-Up Adjustment shall be determined as follows:
A16: 12
A17: 13 | D17: True-Up Adjustment equals the True-Up Adjustment before Interest multiplied by (1+i)^18 months.
A18: 14
A19: 15 | D19: Where: | F19: i = | G19: Sum of (the monthly rates for the 4 months ending April 30 of the current year and
A20: 16 | H20: the monthly rates for the 12 months ending December 31 of the preceding year)
A21: 17 | H21: divided by 16 months.
A22: 18
A23: 19 | B23: Summary of Formula Rate Process including True-Up Adjustment (Using 2009 as an example)
A24: 20
A25: 21 | E25: Month | F25: Year | G25: Action
A26: 22 | B26: True-Up Calculation:
A27: 23 | C27: Step 1 | E27: May | F27: 2010 | G27: TO populates the formula with 2009 Actual data and calculates the 2009 True-up Adjustment before Interest
A28: 24 | C28: Step 2 | E28: May | F28: 2010 | G28: TO compares the revenue received during 2009 to the True-Up calculation done above
A29: 25 | C29: Step 3 | E29: May | F29: 2010 | G29: TO calculates the Interest to include in the 2009 True-Up Adjustment
A30: 26 | C30: Step 4 | E30: July | F30: 2010 | G30: TO either collects or pays the lump-sum adjustment calculated above
A31: 27
A32: 28 | B32: Annual Rate Calculation:
A33: 29 | C33: Step 5 | E33: September | F33: 2010 | G33: TO populates the formula with 2009 Actual data plus known additions placed in service (over $1,000,000) for 2010 (See WP 2 for an example)
A34: 30 | C34: Step 6 | E34: September | F34: 2010 | G34: TO estimates transmission Capital Additions (over $1,000,000) for 2011 expected to be in service in 2011 (See WP 3 for an example)
A35: 31 | C35: Step 7 | E35: September | F35: 2010 | G35: TO adds weighted Capital Adds, Accumulated Depreciation and Depreciation Expense to plant in service in Formula
A36: 32 | C36: Step 8 | E36: September | F36: 2010 | G36: Post results of Step 7 on web site
A37: 33 | C37: Step 9 | E37: October | F37: 2010 | G37: TO to hold an open meeting for it's customers and representatives to explain the formula rate projections and cost details
A38: 34 | C38: Step 10 | E38: January | F38: 2011 | G38: Results of Step 7 go into effect
A39: 35
A40: 36 | E40: Note 1: | F40: To the extent possible each input into the Formula Rate used to calculate the actual ATRR included in the True-Up
A41: 37 | F41: Adjustment either will be taken directly from the FERC Form No. 1 or will be reconcilable to the FERC Form No. 1
...

Sheet BHP WP1 A&G
C3: Service Year | D3: 2018
A4: Workpaper 1
A5: Administrative and General Expenses
A6: Black Hills Power, Inc.
A8: Line | C8: Form No. 1
A9: No. | C9: Page, Line, Col. | D9: Company Total
A10: 1 | B10: EPRI Annual Membership Dues | C10: 335.1.b | D10: 167690
A11: 2 | B11: Regulatory Commission Expenses | C11: 323.189.b - 351.1.h | D11: =725358-399049 -> 326309
A12: 3 | B12: Account No. 930.1 | C12: 323.191.b | D12: 304671.17
A13: 4 | B13: Less: Safety Related Advertising | C13: Company Records1 | D13: -799.09
A14: 5 | B14: EPRI & Reg. Comm. Exp. & Non-safety Ad. (Note I) | D14: =SUM(D10:D13) -> 797871.08
A15: 6
A16: 7
A17: 8 | B17: Transmission Related Regulatory Expense
A18: 9
A19: 10 | B19: Reserved for future use in the event of a rate case
A20: 11
A21: 12
A22: 13
A23: 14 | B23: Total | D23: =SUM(D19:D22) -> 0
A24: 15
A25: 16 | B25: Transmission Related Regulatory Expense (Note I) | D25: =+D23/3 -> 0
A26: 17
A27: 18
A28: 19 | B28: Actual PBOP expense
A29: 20 | B29: Account No. 920 | C29: Company Records2 | D29: 0
A30: 21 | B30: Account No. 926 | C30: Company Records2 | D30: 211473
A31: 22 | B31: Actual PBOP expense | D31: =SUM(D29:D30) -> 211473
A32: 23
A33: 24 | B33: Notes:
A34: 25 | B34: 1 - For FERC account no. 930.1, the Company reviews all entries and identifies those that
A35: 26 | B35: are safety related advertising.
A36: 27 | B36: 2 - For FERC account nos. 920 and 926, the Company reviews all entries and identifies the
A37: 28 | B37: PBOP expenses to be removed from A&G.
G118: TP | H118: =+J187 -> 0
H119: =+H118 -> 0

Sheet BHP WP4 Transmission Assets
F3: Service Year | G3: =+'BHP WP1 A&G'!D3 -> 2018
A4: Workpaper 4
A5: Transmission Assets as of 12/31/2017
A6: Black Hills Power, Inc.
A8: Line
A9: No. | E9: (a) | G9: (b)
G10: Actual
B11: Account | C11: Description | E11: Actual Cost | G11: Accum Depr.
A12: 1 | B12: 354 | C12: 230KV Towers and Fixtures | E12: 466725.14
A13: 2 | B13: 355 | C13: 230KV Poles and Fixtures | E13: 75830728
A14: 3 | B14: 356 | C14: 230KV Overhead Conductors | E14: 53921081
A15: 4 | B15: 359 | C15: Road/Trails | E15: 6920.28
A16: 5 | C16: Subtotal | E16: =SUM(E12:E15) -> 1.3022545e+08 | G16: 26799752
A17: 6
A18: 7 | B18: 353 | C18: 230 KV Substation Equipment | E18: 31562221 | G18: 10945280
A19: 9 | B19: 352 | C19: 230 KV Substation Structures | E19: 777038.62 | G19: 449194.99
A20: 10 | C20: Total 230KV | E20: =SUM(E16:E19) -> 1.6256471e+08 | G20: =SUM(G16:G19) -> 38194227
A21: 11
A22: 12 | B22: 350 | C22: 230 KV Lines | E22: 18553750
A23: 13 | B23: 350 | C23: 230 KV Substations | E23: 236019.86
A24: 14
A25: 15 | C25: TOTAL 230 KV | E25: =E20+E22+E23 -> 1.8135448e+08 | G25: =G20+G22+G23 -> 38194227
A26: 16
A27: 17 | B27: 352 | C27: 69KV Common Use AC Facilities | E27: 29047.102
A28: 18 | B28: 353 | C28: 69KV Common Use AC Facilities | E28: 917737.73
A29: 19 | B29: 355 | C29: 69KV Common Use AC Facilities | E29: 257365.58
A30: 20 | B30: 356 | C30: 69KV Common Use AC Facilities | E30: 207251.6
A31: 21 | C31: Subtotal for 69KV Lines | E31: =SUM(E27:E30) -> 1411402 | G31: 533579.56
A32: 22
A33: 23 | B33: Total Transmission Classification | E33: =+E31+E25 -> 1.8276589e+08 | G33: =+G31+G25 -> 38727807
A34: 24
A35: 25 | B35: Total Transmission per FERC Form 1 (207.58.g) (219.25.b) | E35: 208155662 | G35: 47708256
A36: 26
A37: 27 | C37: Amount excluded from the CUS | E37: =+E35-E33 -> 25389777 | G37: =+G35-G33 -> 8980449.4
A38: 28
A39: 29 | B39: 362 | C39: 69KV Common Use AC Facilities | E39: 5512047.1 | G39: 2559925.4
A40: 30 | B40: 362 | C40: 230/69KV Common Use AC Transformers | E40: 4159274 | G40: 1102750.3
A41: 31
A42: 32 | B42: Total 69KV Common Use AC Facilities | E42: =SUM(E39:E41) -> 9671321.1 | G42: 3662675.7
A43: 33
...

Sheet BHP WP6 Rate Base
J2: ='[1]CU AC Rate Design - True-Up'!H1 -> Date: May 31, 2019 | S2: =J2 -> Date: May 31, 2019
A4: Cost of Service | K4: Cost of Service
A5: Utilizing FERC Form 1 Data | K5: Utilizing FERC Form 1 Data
A7: Black Hills Power, Inc. | K7: Black Hills Power, Inc.
A10: Line | D10: Form No. 1
A11: No. | C11: RATE BASE: | D11: Page, Line, Col. | E11: Updated Reference (Note 3) | F11: Company Total
F12: (a) | G12: (b) | H12: (c) | I12: (d) | J12: (e) | K12: (f) | L12: (g) | M12: (h) | N12: (i) | O12: (j) | P12: (k) | Q12: (l) | R12: (m) | S12: (n)
F13: 43070 | G13: 43101 | H13: 43132 | I13: 43160 | J13: 43191 | K13: 43221 | L13: 43252 | M13: 43282 | N13: 43313 | O13: 43344 | P13: 43374 | Q13: 43405 | R13: 43435 | S13: 13 month average
C14: GROSS PLANT IN SERVICE (101 & 106) | D14: (Note H) ** | E14: (Note H) **
A15: 1 | C15: Production | D15: 205.46.g | E15: 205.46.g | F15: 5.9086169e+08 | G15: 5.9001982e+08 | H15: 5.8954332e+08 | I15: 5.8851586e+08 | J15: 5.8857233e+08 | K15: 5.8862867e+08 | L15: 5.8857965e+08 | M15: 5.8855129e+08 | N15: 5.8885575e+08 | O15: 5.8946736e+08 | P15: 5.9009828e+08 | Q15: 5.9017828e+08 | R15: 5.922468e+08 | S15: =AVERAGE(F15:R15) -> 5.8954762e+08
A16: =+A15+1 -> 2 | C16: Transmission | D16: 207.58.g | E16: 207.58.g | F16: =V23 -> 1.8472723e+08 | G16: =W23 -> 1.8513708e+08 | H16: =X23 -> 1.8515172e+08 | I16: =Y23 -> 1.8535771e+08 | J16: =Z23 -> 1.8523238e+08 | K16: =AA23 -> 1.8524216e+08 | L16: =AB23 -> 1.8527455e+08 | M16: =AC23 -> 1.9840595e+08 | ... R16: =AH23 -> 2.0815566e+08 | S16: =AVERAGE(F16:R16) -> 1.9277334e+08
A17: =+A16+1 -> 3 | C17: Distribution | D17: 207.75.g | E17: 207.75.g | F17: =V24 -> 3.7627744e+08 | G17: =W24 -> 3.7666112e+08 | H17: =X24 -> 3.775909e+08 | I17: =Y24 -> 3.7908701e+08 | J17: =Z24 -> 3.7981081e+08 | K17: =AA24 -> 3.8031031e+08 | L17: =AB24 -> 3.8259501e+08 | M17: =AC24 -> 3.8339712e+08 | ... R17: =AH24 -> 3.9467492e+08 | S17: =AVERAGE(F17:R17) -> 3.8375543e+08
A18: =+A17+1 -> 4 | C18: General & Intangible | D18: 207.99.g - line 6 | E18: See Workpaper 10 (Column b) | F18: 44141667 | G18: 38334423 | H18: 38343453 | I18: 38305503 | J18: 38369248 | K18: 38443632 | L18: 38227754 | M18: 38229525 | N18: 38747518 | O18: 39086305 | P18: 39389883 | Q18: 40037524 | R18: 42832155 | S18: =AVERAGE(F18:R18) -> 39422199
A19: =+A18+1 -> 5 | C19: Allocated Plant | D19: 201.13.e + 201.13.f | E19: 201.13.e + 201.13.f | F19: 31425946 | G19: 31329479 | H19: 31406728 | I19: 31799533 | J19: 31389632 | K19: 31688252 | L19: 31444702 | M19: 32305730 | N19: 30860716 | O19: 29757288 | P19: 28288531 | Q19: 28223976 | R19: 29321754 | S19: =AVERAGE(F19:R19) -> 30710944 | U19: Adjustment from Distribution to Transmission | V19: 686955.78 | W19: 696102.68 | X19: 696102.68 | Y19: 696102.68 | Z19: 696102.68 | AA19: 696102.68 | AB19: 50282.1 | AC19: 9146.9 | AD19: 9146.9 | AE19: 9146.9 | AF19: 9146.9 | AG19: 4.92 | AH19: =0 -> 0
A20: =+A19+1 -> 6 | C20: Communication System | D20: 207.94.g | E20: 207.94.g | F20: 7058966.9 | G20: 7616453.8 | H20: 7618591.9 | I20: 7617838.8 | J20: 7618084 | K20: 7620555.5 | L20: 7610687.9 | M20: 7880432.5 | N20: 7878232.3 | O20: 7877890.8 | P20: 7877890.8 | Q20: 7921110.1 | R20: 7921110.1 | S20: =AVERAGE(F20:R20) -> 7701372.7 | U20: Adjustment from Transmission to Distribution | V20: 1750168.6 | W20: 1764888.4 | X20: 1767720.2 | Y20: 1769102.3 | Z20: 1767262 | AA20: 1768143.6 | AB20: 215283.59 | AC20: 215283.59 | AD20: 203679.86 | AE20: 203679.86 | AF20: 196009.16 | AG20: 196009.16 | AH20: 200007.63
A21: =+A20+1 -> 7 | C21: Common | D21: 356.1 | E21: 356.1 | F21: 0 | R21: 0 | S21: =AVERAGE(F21:R21) -> 0 | U21: Transmission (GL) | V21: 1.8579044e+08 | W21: 1.8620586e+08 | X21: 1.8622334e+08 | Y21: 1.8643071e+08 | Z21: 1.8630354e+08 | AA21: 1.863142e+08 | AB21: 1.8543955e+08 | AC21: 1.9861208e+08 | AD21: 1.9855452e+08 | AE21: 1.9876041e+08 | AF21: 1.9866943e+08 | AG21: 2.0815658e+08 | AH21: 2.0835567e+08
A22: =+A21+1 -> 8 | C22: TOTAL GROSS PLANT | D22: ="(sum lines "&A15&" - "&A21&")" -> (sum lines 1 - 7) | E22: (sum lines 1 - 7) | F22: =SUM(F15:F21) -> 1.2344929e+09 | G22: =SUM(G15:G21) -> 1.2290984e+09 | H22: =SUM(H15:H21) -> 1.2296547e+09 | I22: =SUM(I15:I21) -> 1.2306835e+09 | J22: =SUM(J15:J21) -> 1230992482 | K22: =SUM(K15:K21) -> 1.2319336e+09 | L22: =SUM(L15:L21) -> 1.2337324e+09 | M22: =SUM(M15:M21) -> 1.24877e+09 | ... S22: =SUM(S15:S21) -> 1.2439109e+09 | U22: Distribution (GL) | V22: 3.7521423e+08 | W22: 3.7559234e+08 | X22: 3.7651928e+08 | Y22: 3.7801401e+08 | Z22: 3.7873965e+08 | AA22: 3.7923827e+08 | AB22: 3.8243001e+08 | AC22: 3.8319099e+08 | AD22: 3.8567213e+08 | AE22: 3.883441e+08 | AF22: 3.9018777e+08 | AG22: 3.9344001e+08 | AH22: 3.9447492e+08
A23: =+A22+1 -> 9 | U23: Transmission (Corrected) | V23: =V21+V19-V20 -> 1.8472723e+08 | W23: =W21+W19-W20 -> 1.8513708e+08 | X23: =X21+X19-X20 -> 1.8515172e+08 | Y23: =Y21+Y19-Y20 -> 1.8535771e+08 | Z23: =Z21+Z19-Z20 -> 1.8523238e+08 | AA23: =AA21+AA19-AA20 -> 1.8524216e+08 | AB23: =AB21+AB19-AB20 -> 1.8527455e+08 | AC23: =AC21+AC19-AC20 -> 1.9840595e+08 | ... AG23: =AG21+AG19-AG20 -> 2.0796058e+08 | AH23: =AH21+AH19-AH20-2 -> 2.0815566e+08
A24: =+A23+1 -> 10 | C24: ACCUMULATED DEPRECIATION (108) | D24: (Note H) ** | E24: (Note H) ** | U24: Distribution (Corrected) | V24: =V20+V22-V19 -> 3.7627744e+08 | W24: =W20+W22-W19 -> 3.7666112e+08 | X24: =X20+X22-X19 -> 3.775909e+08 | Y24: =Y20+Y22-Y19 -> 3.7908701e+08 | Z24: =Z20+Z22-Z19 -> 3.7981081e+08 | AA24: =AA20+AA22-AA19 -> 3.8031031e+08 | AB24: =AB20+AB22-AB19 -> 3.8259501e+08 | AC24: =AC20+AC22-AC19 -> 3.8339712e+08 | ... AG24: =AG20+AG22-AG19 -> 3.9363602e+08 | AH24: =AH20+AH22-AH19-2 -> 3.9467492e+08
A25: =+A24+1 -> 11 | C25: =+C15 -> Production | D25: 219.20-24.c | E25: 219.20-24.c | F25: 1.9030828e+08 | G25: 1.9095605e+08 | H25: 1.9186782e+08 | I25: 1.923162e+08 | J25: 1.9270191e+08 | K25: 1.9315058e+08 | L25: 1.9449333e+08 | M25: 1.9586031e+08 | N25: 1.9719602e+08 | O25: 1.9835451e+08 | P25: 1.9968067e+08 | Q25: 2.0092305e+08 | R25: 2.0228678e+08 | S25: =AVERAGE(F25:R25) -> 1.9539196e+08
A26: =+A25+1 -> 12 | C26: Transmission | D26: 219.25.c | E26: 219.25.c | F26: 43694318 | G26: =W31 -> 44021317 | H26: =X31 -> 44335699 | I26: =Y31 -> 44643098 | J26: =Z31 -> 45028669 | K26: =AA31 -> 45367421 | L26: =AB31 -> 45708803 | M26: =AC31 -> 46005470 | N26: =AD31 -> 46219362 | ... R26: =AH31 -> 47705701 | S26: =AVERAGE(F26:R26) -> 45662574 | U26: Reserve
A27: =+A26+1 -> 13 | C27: Distribution | D27: 219.26.c | E27: 219.26.c | F27: 133804900 | G27: =W32 -> 1.3447381e+08 | H27: =X32 -> 1.3516021e+08 | I27: =Y32 -> 1.358044e+08 | J27: =Z32 -> 1.3673998e+08 | K27: =AA32 -> 1.3742223e+08 | L27: =AB32 -> 1.3802887e+08 | M27: =AC32 -> 1.3858483e+08 | N27: =AD32 -> 1.3931934e+08 | ... R27: =AH32 -> 1.4195777e+08 | S27: =AVERAGE(F27:R27) -> 1.3795516e+08 | U27: Adjustment from Distribution to Transmission | W27: 26547.317 | X27: 27888.017 | Y27: 29228.786 | Z27: 30577.614 | AA27: 31878.275 | AB27: 3399.1304 | AC27: 1518.2837 | AD27: 1530.9289 | AE27: 1547.7967 | AF27: 1565.2199 | AG27: 0.94965466
A28: =+A27+1 -> 14 | C28: =+C18 -> General & Intangible | D28: See Workpaper 9 (column b) | E28: See Workpaper 9 (column b) | F28: 17944746 | G28: 17446454 | H28: 17542753 | I28: 17578740 | J28: 17686577 | K28: 17795898 | L28: 17670945 | M28: 17716989 | N28: 17946927 | O28: 17973807 | P28: 18069475 | Q28: 18183514 | R28: 18229101 | S28: =AVERAGE(F28:R28) -> 17829686 | U28: Adjustment from Transmission to Distribution | W28: 26486.263 | X28: 30276.591 | Y28: 34043.032 | Z28: 37713.285 | AA28: 41458.417 | AB28: 5379.0261 | AC28: 5826.7122 | AD28: 5912.3964 | AE28: 6323.6385 | AF28: 6473.517 | AG28: 6867.6406 | AH28: 2554.58
A29: =+A28+1 -> 15 | C29: Allocated Plant | D29: 201.14.e + 201.14.f | E29: 201.14.e + 201.14.f | F29: 15571482 | G29: 15701938 | H29: 15895803 | I29: 15924193 | J29: 15441747 | K29: 15726808 | L29: 15844192 | M29: 15221600 | N29: 15204912 | O29: 15090060 | P29: 13653278 | Q29: 13844495 | R29: 13627289 | S29: =AVERAGE(F29:R29) -> 15134446 | U29: Transmission (GL) | W29: 44021256 | X29: 44338087 | Y29: 44647912 | Z29: 45035805 | AA29: 45377001 | AB29: 45710783 | AC29: 46009779 | AD29: 46223743 | AE29: 46595768 | AF29: 46954800 | AG29: 47349581 | AH29: 47708256
A30: =+A29+1 -> 16 | C30: =+C20 -> Communication System | D30: See Workpaper 9 (column c) | E30: See Workpaper 9 (column c) | F30: 2450694.4 | G30: 2484734.1 | H30: 2519939.7 | I30: 2555148.1 | J30: 2590355.5 | K30: 2625568.6 | L30: 2650901 | M30: 2678355.7 | N30: 2714706.1 | O30: 2751051 | P30: 2787395.2 | Q30: 2823829.4 | R30: 2860353.6 | S30: =AVERAGE(F30:R30) -> 2653310.2 | U30: Distribution (GL) | W30: 1.3447387e+08 | X30: 1.3515782e+08 | Y30: 1.3579958e+08 | Z30: 1.3673285e+08 | AA30: 1.3741265e+08 | AB30: 1.3802689e+08 | AC30: 1.3858052e+08 | AD30: 1.3931496e+08 | AE30: 1.400687e+08 | AF30: 1.4078801e+08 | AG30: 1.4124749e+08 | AH30: 141955214
A31: =+A30+1 -> 17 | C31: =+C21 -> Common | D31: 356.1 | E31: 356.1 | F31: 0 | R31: 0 | S31: =AVERAGE(F31:R31) -> 0 | U31: Transmission (Corrected) | W31: =W29+W27-W28 -> 44021317 | X31: =X29+X27-X28 -> 44335699 | Y31: =Y29+Y27-Y28 -> 44643098 | Z31: =Z29+Z27-Z28 -> 45028669 | AA31: =AA29+AA27-AA28 -> 45367421 | AB31: =AB29+AB27-AB28 -> 45708803 | AC31: =AC29+AC27-AC28 -> 46005470 | AD31: =AD29+AD27-AD28 -> 46219362 | ... AH31: =AH29+AH27-AH28 -> 47705701
A32: =+A31+1 -> 18 | C32: TOTAL ACCUM. DEPRECIATION | D32: ="(sum lines "&A25&" - "&A31&")" -> (sum lines 11 - 17) | E32: (sum lines 11 - 17) | F32: =SUM(F25:F31) -> 4.0377442e+08 | G32: =SUM(G25:G31) -> 4.050843e+08 | H32: =SUM(H25:H31) -> 4.0732222e+08 | I32: =SUM(I25:I31) -> 4.0882178e+08 | J32: =SUM(J25:J31) -> 4.1018924e+08 | K32: =SUM(K25:K31) -> 4.1208851e+08 | L32: =SUM(L25:L31) -> 4.1439703e+08 | M32: =SUM(M25:M31) -> 4.1606755e+08 | ... S32: =SUM(S25:S31) -> 4.1462714e+08 | U32: Distribution (Corrected) | W32: =W30+W28-W27 -> 1.3447381e+08 | X32: =X30+X28-X27 -> 1.3516021e+08 | Y32: =Y30+Y28-Y27 -> 1.358044e+08 | Z32: =Z30+Z28-Z27 -> 1.3673998e+08 | AA32: =AA30+AA28-AA27 -> 1.3742223e+08 | AB32: =AB30+AB28-AB27 -> 1.3802887e+08 | AC32: =AC30+AC28-AC27 -> 1.3858483e+08 | AD32: =AD30+AD28-AD27 -> 1.3931934e+08 | ... AH32: =AH30+AH28-AH27 -> 1.4195777e+08
A33: =+A32+1 -> 19
A34: =+A33+1 -> 20 | C34: NET PLANT IN SERVICE | D34: (Note H) ** | E34: (Note H) **
A35: =+A34+1 -> 21 | C35: =+C25 -> Production | D35: ="(line "&A15&" - line "&A25&")" -> (line 1 - line 11) | E35: ="(line "&B15&" - line "&B25&")" -> (line - line ) | F35: 4.0055342e+08 | G35: 3.9906377e+08 | H35: 3.976755e+08 | I35: 3.9619966e+08 | J35: 3.9587042e+08 | K35: 3.9547809e+08 | L35: 3.9408633e+08 | M35: 3.9269098e+08 | N35: 3.9165973e+08 | O35: 3.9111285e+08 | P35: 3.9041761e+08 | Q35: 3.8925523e+08 | R35: 3.8996002e+08 | S35: =S15-S25 -> 3.9415566e+08
A36: =+A35+1 -> 22 | C36: Transmission | D36: ="(line "&A16&" - line "&A26&")" -> (line 2 - line 12) | E36: ="(line "&B16&" - line "&B26&")" -> (line - line ) | F36: 1.4103291e+08 | G36: 1.4111576e+08 | H36: 1.4081602e+08 | I36: 1.4071461e+08 | J36: 1.4020371e+08 | K36: 1.3987474e+08 | L36: 1.3956575e+08 | M36: 1.5240048e+08 | N36: 1.5214062e+08 | O36: 1.5197488e+08 | P36: 1.5153267e+08 | Q36: 1.6061786e+08 | R36: 1.6044996e+08 | S36: =S16-S26 -> 1.4711077e+08
A37: =+A36+1 -> 23 | C37: Distribution | D37: ="(line "&A17&" - line "&A27&")" -> (line 3 - line 13) | E37: ="(line "&B17&" - line "&B27&")" -> (line - line ) | F37: 2.4247254e+08 | G37: 2.4218732e+08 | H37: 2.4243069e+08 | I37: 2.4328261e+08 | J37: 2.4307082e+08 | K37: 2.4288808e+08 | L37: 2.4456614e+08 | M37: 2.4481229e+08 | N37: 2.4654732e+08 | O37: 2.4846515e+08 | P37: 2.4958172e+08 | Q37: 2.5238166e+08 | R37: 2.5271715e+08 | S37: =S17-S27 -> 2.4580027e+08
A38: =+A37+1 -> 24 | C38: =+C28 -> General & Intangible | D38: ="(line "&A18&" - line "&A28&")" -> (line 4 - line 14) | E38: ="(line "&B18&" - line "&B28&")" -> (line - line ) | F38: 26196921 | G38: 20887969 | H38: 20800700 | I38: 20726763 | J38: 20682672 | K38: 20647733 | L38: 20556809 | M38: 20512536 | N38: 20800591 | O38: 21112498 | P38: 21320408 | Q38: 21854010 | R38: 24603054 | S38: =S18-S28 -> 21592513
A39: =+A38+1 -> 25 | C39: Allocated Plant | D39: ="(line "&A19&" - line "&A29&")" -> (line 5 - line 15) | E39: ="(line "&B19&" - line "&B29&")" -> (line - line ) | F39: 15854464 | G39: 15627541 | H39: 15510925 | I39: 15875340 | J39: 15947885 | K39: 15961444 | L39: 15600510 | M39: 17084130 | N39: 15655804 | O39: 14667228 | P39: 14635253 | Q39: 14379481 | R39: 15694465 | S39: =S19-S29 -> 15576498
A40: =+A39+1 -> 26 | C40: =+C30 -> Communication System | D40: ="(line "&A20&" - line "&A30&")" -> (line 6 - line 16) | E40: ="(line "&B20&" - line "&B30&")" -> (line - line ) | F40: 4608272.5 | G40: 5131719.7 | H40: 5098652.2 | I40: 5062690.7 | J40: 5027728.4 | K40: 4994986.9 | L40: 4959786.9 | M40: 5202076.8 | N40: 5163526.2 | O40: 5126839.8 | P40: 5090495.6 | Q40: 5097280.7 | R40: 5060756.5 | S40: =S20-S30 -> 5048062.5
A41: =+A40+1 -> 27 | C41: =+C31 -> Common | D41: ="(line "&A21&" - line "&A31&")" -> (line 7 - line 17) | E41: ="(line "&B21&" - line "&B31&")" -> (line - line ) | F41: 0 | G41: 0 | H41: 0 | I41: 0 | J41: 0 | K41: 0 | L41: 0 | M41: 0 | N41: 0 | O41: 0 | P41: 0 | Q41: 0 | R41: 0 | S41: =S21-S31 -> 0
A42: =+A41+1 -> 28 | C42: TOTAL NET PLANT | D42: ="(sum lines "&A35&" - "&A41&")" -> (sum lines 21 - 27) | E42: ="(sum lines "&B35&" - "&B41&")" -> (sum lines - ) | F42: =SUM(F35:F41) -> 8.3071853e+08 | G42: =SUM(G35:G41) -> 8.2401408e+08 | H42: =SUM(H35:H41) -> 8.2233249e+08 | I42: =SUM(I35:I41) -> 8.2186168e+08 | J42: =SUM(J35:J41) -> 8.2080324e+08 | K42: =SUM(K35:K41) -> 8.1984507e+08 | L42: =SUM(L35:L41) -> 8.1933532e+08 | M42: =SUM(M35:M41) -> 8.3270249e+08 | ... S42: =SUM(S35:S41) -> 8.2928377e+08
C44: ** Columns a and m use the FERC Form 1 balance except where otherwise referenced. Columns b through l are the Company's FERC account balances.
C45: 1 Communication System Accumulated Depreciation based on Communication System Plant in Service share of General & Intangible Accumulated Depreciation.
F47: 12/31/17 & 12/31/18 average balance
...

Sheet BHP WP9 Accum Depr
A3: WORKPAPER 9
A4: General Plant Accumulated Depreciation by Plant Account
A5: Black Hills Power, Inc.
K6: (e)4
C7: (a) | E7: (b)₁ | G7: (c)₂ | I7: (d)3 | K7: (b) + (c)
A8: Line | E8: General Plant | G8: Communication | K8: Total General and
A9: No. | C9: Date | E9: Electric | G9: System | I9: Horizon Point | K9: Intangible Plant
B10: Account No. 180
A11: 1 | C11: 43070 | E11: 17944746 | G11: 2450694.4 | I11: 159531.69 | K11: =E11+G11+I11 -> 20554972
A12: =A11+1 -> 2 | C12: 43101 | E12: 17446454 | G12: 2484734.1 | I12: 255849.76 | K12: =E12+G12+I12 -> 20187038
A13: =A12+1 -> 3 | C13: 43132 | E13: 17542753 | G13: 2519939.7 | I13: 353309.16 | K13: =E13+G13+I13 -> 20416002
A14: =A13+1 -> 4 | C14: 43160 | E14: 17578740 | G14: 2555148.1 | I14: 462582.37 | K14: =E14+G14+I14 -> 20596470
A15: =A14+1 -> 5 | C15: 43191 | E15: 17686577 | G15: 2590355.5 | I15: 1113572.3 | K15: =E15+G15+I15 -> 21390505
A16: =A15+1 -> 6 | C16: 43221 | E16: 17795898 | G16: 2625568.6 | I16: 1309214.1 | K16: =E16+G16+I16 -> 21730681
A17: =A16+1 -> 7 | C17: 43252 | E17: 17670945 | G17: 2650901 | I17: 1510303.2 | K17: =E17+G17+I17 -> 21832149
A18: =A17+1 -> 8 | C18: 43282 | E18: 17716989 | G18: 2678355.7 | I18: 1716327 | K18: =E18+G18+I18 -> 22111672
A19: =A18+1 -> 9 | C19: 43313 | E19: 17946927 | G19: 2714706.1 | I19: 1917105.4 | K19: =E19+G19+I19 -> 22578739
A20: =A19+1 -> 10 | C20: 43344 | E20: 17973807 | G20: 2751051 | I20: 2120149.2 | K20: =E20+G20+I20 -> 22845007
A21: =A20+1 -> 11 | C21: 43374 | E21: 18069475 | G21: 2787395.2 | I21: 2336992.5 | K21: =E21+G21+I21 -> 23193863
A22: =A21+1 -> 12 | C22: 43405 | E22: 18183514 | G22: 2823829.4 | I22: 2529664.9 | K22: =E22+G22+I22 -> 23537008
A23: =A22+1 -> 13 | C23: 43435 | E23: 18229101 | G23: 2860353.6 | I23: 2716247.7 | K23: =E23+G23+I23 -> 23805702
A24: =A23+1 -> 14 | C24: 13 month average | E24: =AVERAGE(E11:E23) -> 17829686 | G24: =AVERAGE(G11:G23) -> 2653310.2 | I24: =AVERAGE(I11:I23) -> 1423142.2 | K24: =AVERAGE(K11:K23) -> 21906139
A25: =A24+1 -> 15
A26: =A25+1 -> 16 | B26: 1 - General Plant Electric - Plant Accounts 389,390,391,392,393,394
A27: =A26+1 -> 17 | B27: 2 - Communication System - Plant Accounts 397
A28: =A27+1 -> 18 | B28: 3 - Horizon Point Building - From Company Records
B29: 4 - Total General Intangible Plant - FERC Form 1 219.28c

Sheet BHP WP10 Plant in Service
A3: WORKPAPER 10
A4: General Plant Plant In Service by Plant Account
A5: Black Hills Power, Inc.
K6: (e)4
C7: (a) | E7: (b)₁ | G7: (c)₂ | I7: (d)3 | K7: (b) + (c)
A8: Line | E8: General Plant | G8: Communication | K8: Total General and
A9: No. | C9: Date | E9: Electric | G9: System | I9: Horizon Point | K9: Intangible Plant
B10: Account No. 180
A11: 1 | C11: 43070 | E11: 44141667 | G11: 7058966.9 | I11: 70907929 | K11: =E11+G11+I11 -> 1.2210856e+08
A12: =A11+1 -> 2 | C12: 43101 | E12: 38334423 | G12: 7616453.8 | I12: 71991500 | K12: =E12+G12+I12 -> 1.1794238e+08
A13: =A12+1 -> 3 | C13: 43132 | E13: 38343453 | G13: 7618591.9 | I13: 72444547 | K13: =E13+G13+I13 -> 1.1840659e+08
A14: =A13+1 -> 4 | C14: 43160 | E14: 38305503 | G14: 7617838.8 | I14: 70519813 | K14: =E14+G14+I14 -> 1.1644315e+08
A15: =A14+1 -> 5 | C15: 43191 | E15: 38369248 | G15: 7618084 | I15: 70726528 | K15: =E15+G15+I15 -> 1.1671386e+08
A16: =A15+1 -> 6 | C16: 43221 | E16: 38443632 | G16: 7620555.5 | I16: 72289326 | K16: =E16+G16+I16 -> 1.1835351e+08
A17: =A16+1 -> 7 | C17: 43252 | E17: 38227754 | G17: 7610687.9 | I17: 72566456 | K17: =E17+G17+I17 -> 1.184049e+08
A18: =A17+1 -> 8 | C18: 43282 | E18: 38229525 | G18: 7880432.5 | I18: 73601392 | K18: =E18+G18+I18 -> 1.1971135e+08
A19: =A18+1 -> 9 | C19: 43313 | E19: 38747518 | G19: 7878232.3 | I19: 74119465 | K19: =E19+G19+I19 -> 1.2074522e+08
A20: =A19+1 -> 10 | C20: 43344 | E20: 39086305 | G20: 7877890.8 | I20: 74504111 | K20: =E20+G20+I20 -> 1.2146831e+08
A21: =A20+1 -> 11 | C21: 43374 | E21: 39389883 | G21: 7877890.8 | I21: 74462922 | K21: =E21+G21+I21 -> 1.217307e+08
A22: =A21+1 -> 12 | C22: 43405 | E22: 40037524 | G22: 7921110.1 | I22: 74596278 | K22: =E22+G22+I22 -> 1.2255491e+08
A23: =A22+1 -> 13 | C23: 43435 | E23: 42832155 | G23: 7921110.1 | I23: 74545778 | K23: =E23+G23+I23 -> 125299043
A24: =A23+1 -> 14 | C24: 13 month average | E24: =AVERAGE(E11:E23) -> 39422199 | G24: =AVERAGE(G11:G23) -> 7701372.7 | I24: =AVERAGE(I11:I23) -> 72867388 | K24: =AVERAGE(K11:K23) -> 1.1999096e+08
A25: =A24+1 -> 15
A26: =A25+1 -> 16 | B26: 1 - General Plant Electric - Plant Accounts 389,390,391,392,393,394
A27: =A26+1 -> 17 | B27: 2 - Communication System - Plant Accounts 397
A28: =A27+1 -> 18 | B28: 3 - Horizon Point Building - From Company Records
B29: 4 - Total General Intangible Plant - FERC Form 1 219.28c

Sheet BHP WP11 Property Tax Expense
A3: WORKPAPER 11
A4: Property Tax Adjustment for Horizon Point
A5: Black Hills Power, Inc.
C7: (a) | E7: (b) | G7: ( c)
A8: Line
A9: No. | C9: Description | E9: Reference | G9: Amount
A11: =1+A10 -> 1 | C11: Accrued Utility SD | E11: 263.23i
A12: =1+A11 -> 2 | C12: Property Tax Expense Total | E12: 263.20l | G12: 7687425
A13: =1+A12 -> 3
A14: =1+A13 -> 4 | C14: Less: Horizon Point Op Unit 801117 (enter negative) | E14: Company Records | G14: -609708
A15: =1+A14 -> 5
A16: =1+A15 -> 6 | C16: Property Tax Expense less Horizon Point | E16: Sum Lines 1 to 5 | G16: =SUM(G12:G15) -> 7077717

Sheet BHP WP12 ADIT
A3: WORKPAPER 12
A4: ADIT Adjustment for Horizon Point
A5: Black Hills Power, Inc.
B7: (a) | D7: (b) | F7: ( c) | G7: (d) | H7: (e)
A8: Line
A9: No. | B9: Description | D9: Reference | F9: Beginning Balance | G9: Ending Balance | H9: Average Balance
A11: =1+A10 -> 1 | B11: Account No. 282 (enter negative) | D11: 113.63.c | F11: -122122002 | G11: -125697502 | H11: =SUM(F11:G11)/2 -> -123909752
A12: =1+A11 -> 2 | B12: Less:
A13: =1+A12 -> 3 | B13: Horizon Point | D13: Company Records | F13: -3792422.5 | G13: -3135476.4 | H13: =SUM(F13:G13)/2 -> -3463949.4
A14: =1+A13 -> 4
A15: =1+A14 -> 5 | B15: Net Account No. 282 | D15: Line 1 - Line 3 | F15: =F11-F13 -> -1.1832958e+08 | G15: =G11-G13 -> -1.2256203e+08 | H15: =H11-H13 -> -1.204458e+08
A16: =1+A15 -> 6
A17: =1+A16 -> 7
A18: =1+A17 -> 8 | B18: FAS 109 Adjustment
A19: =1+A18 -> 9 | B19: AFUDC FAS 109 | D19: 232.1.f | F19: 5094675 | G19: 5020282 | H19: =SUM(F19:G19)/2 -> 5057478.5
A20: =1+A19 -> 10 | B20: Tax Rate | F20: 0.21 | G20: 0.21
A21: =1+A20 -> 11 | F21: =F19*F20 -> 1069881.8 | G21: =G19*G20 -> 1054259.2 | H21: =SUM(F21:G21)/2 -> 1062070.5
A22: =1+A21 -> 12 | D22: 278.2.b,f | F22: -97101164 | G22: -100276081 | H22: =SUM(F22:G22)/2 -> -98688622
A23: =1+A22 -> 13 | B23: Horizon Point | D23: Company Records | F23: -2528281.7 | G23: -2528281.7 | H23: =SUM(F23:G23)/2 -> -2528281.7
A24: =1+A23 -> 14 | B24: Net Account No. 282 | D24: Line 11 + Line 12 - Line 13 | F24: =SUM(F21:F22)-F23 -> -93503001 | G24: =SUM(G21:G22)-G23 -> -96693540 | H24: =SUM(H21:H22)-H23 -> -95098270
